Back to Multiple platform build/check report for BioC 3.13 experimental data |
|
This page was generated on 2021-01-14 15:59:06 -0500 (Thu, 14 Jan 2021).
TO THE DEVELOPERS/MAINTAINERS OF THE bodymapRat PACKAGE: Please make sure to use the following settings in order to reproduce any error or warning you see on this page. |
Package 32/385 | Hostname | OS / Arch | INSTALL | BUILD | CHECK | ||||||
bodymapRat 1.7.0 Stephanie Hicks
| malbec2 | Linux (Ubuntu 20.04.1 LTS) / x86_64 | OK | OK | OK | ![]() | |||||
riesling1 | Windows Server 2019 Standard / x64 | OK | [ OK ] | OK |
Package: bodymapRat |
Version: 1.7.0 |
Command: chmod a+r bodymapRat -R && D:\biocbuild\bbs-3.13-bioc\R\bin\R.exe CMD build --keep-empty-dirs --no-resave-data bodymapRat |
StartedAt: 2021-01-14 10:25:26 -0500 (Thu, 14 Jan 2021) |
EndedAt: 2021-01-14 10:26:04 -0500 (Thu, 14 Jan 2021) |
EllapsedTime: 37.7 seconds |
RetCode: 0 |
Status: OK |
PackageFile: bodymapRat_1.7.0.tar.gz |
PackageFileSize: 286.2 KiB |
############################################################################## ############################################################################## ### ### Running command: ### ### chmod a+r bodymapRat -R && D:\biocbuild\bbs-3.13-bioc\R\bin\R.exe CMD build --keep-empty-dirs --no-resave-data bodymapRat ### ############################################################################## ############################################################################## * checking for file 'bodymapRat/DESCRIPTION' ... OK * preparing 'bodymapRat': * checking DESCRIPTION meta-information ... OK * installing the package to build vignettes * creating vignettes ... OK * checking for LF line-endings in source and make files and shell scripts * checking for empty or unneeded directories * building 'bodymapRat_1.7.0.tar.gz'