Back to Multiple platform build/check report for BioC 3.13 experimental data
A[B]CDEFGHIJKLMNOPQRSTUVWXYZ

INSTALL report for blimaTestingData on riesling1

This page was generated on 2021-01-21 16:01:25 -0500 (Thu, 21 Jan 2021).

TO THE DEVELOPERS/MAINTAINERS OF THE blimaTestingData PACKAGE: Please make sure to use the following settings in order to reproduce any error or warning you see on this page.
Package 30/386HostnameOS / ArchINSTALLBUILDCHECK
blimaTestingData 1.11.0
Vojtech Kulvait
Snapshot Date: 2021-01-21 09:00:14 -0500 (Thu, 21 Jan 2021)
URL: https://git.bioconductor.org/packages/blimaTestingData
Branch: master
Last Commit: 6689baa
Last Changed Date: 2020-10-27 10:09:04 -0500 (Tue, 27 Oct 2020)
malbec2 Linux (Ubuntu 20.04.1 LTS) / x86_64  OK  OK  OK UNNEEDED, same version exists in internal repository
riesling1 Windows Server 2019 Standard / x64 [ OK ] OK  OK 

Summary

Package: blimaTestingData
Version: 1.11.0
Command: C:\cygwin\bin\curl.exe -O http://172.29.0.4/BBS/3.13/data-experiment/src/contrib/blimaTestingData_1.11.0.tar.gz && rm -rf blimaTestingData.buildbin-libdir && mkdir blimaTestingData.buildbin-libdir && D:\biocbuild\bbs-3.13-bioc\R\bin\R.exe CMD INSTALL --merge-multiarch --build --library=blimaTestingData.buildbin-libdir blimaTestingData_1.11.0.tar.gz && D:\biocbuild\bbs-3.13-bioc\R\bin\R.exe CMD INSTALL blimaTestingData_1.11.0.zip && rm blimaTestingData_1.11.0.tar.gz blimaTestingData_1.11.0.zip
StartedAt: 2021-01-21 09:48:26 -0500 (Thu, 21 Jan 2021)
EndedAt: 2021-01-21 09:48:43 -0500 (Thu, 21 Jan 2021)
EllapsedTime: 17.0 seconds
RetCode: 0
Status:  OK  

Command output

##############################################################################
##############################################################################
###
### Running command:
###
###   C:\cygwin\bin\curl.exe -O http://172.29.0.4/BBS/3.13/data-experiment/src/contrib/blimaTestingData_1.11.0.tar.gz && rm -rf blimaTestingData.buildbin-libdir && mkdir blimaTestingData.buildbin-libdir && D:\biocbuild\bbs-3.13-bioc\R\bin\R.exe CMD INSTALL --merge-multiarch --build --library=blimaTestingData.buildbin-libdir blimaTestingData_1.11.0.tar.gz && D:\biocbuild\bbs-3.13-bioc\R\bin\R.exe CMD INSTALL blimaTestingData_1.11.0.zip && rm blimaTestingData_1.11.0.tar.gz blimaTestingData_1.11.0.zip
###
##############################################################################
##############################################################################


  % Total    % Received % Xferd  Average Speed   Time    Time     Time  Current
                                 Dload  Upload   Total   Spent    Left  Speed

  0     0    0     0    0     0      0      0 --:--:-- --:--:-- --:--:--     0
  0     0    0     0    0     0      0      0 --:--:-- --:--:-- --:--:--     0
  3 98.1M    3 3149k    0     0  2857k      0  0:00:35  0:00:01  0:00:34 2855k
  5 98.1M    5 5975k    0     0  2830k      0  0:00:35  0:00:02  0:00:33 2829k
 22 98.1M   22 22.2M    0     0  7495k      0  0:00:13  0:00:03  0:00:10 7493k
 89 98.1M   89 87.8M    0     0  21.7M      0  0:00:04  0:00:04 --:--:-- 21.7M
100 98.1M  100 98.1M    0     0  23.2M      0  0:00:04  0:00:04 --:--:-- 24.4M

install for i386

* installing *source* package 'blimaTestingData' ...
** using staged installation
** data
** help
*** installing help indices
  converting help for package 'blimaTestingData'
    finding HTML links ... done
    blimatesting                            html  
REDIRECT:topic	 blimatesting -> blimatesting.html [ SUCCESS ]
** building package indices
** installing vignettes
** testing if installed package can be loaded from temporary location
** testing if installed package can be loaded from final location
** testing if installed package keeps a record of temporary installation path

install for x64

* installing *source* package 'blimaTestingData' ...
** testing if installed package can be loaded
* MD5 sums
packaged installation of 'blimaTestingData' as blimaTestingData_1.11.0.zip
* DONE (blimaTestingData)
* installing to library 'D:/biocbuild/bbs-3.13-bioc/R/library'
package 'blimaTestingData' successfully unpacked and MD5 sums checked