Back to Multiple platform build/check report for BioC 3.13 experimental data
A[B]CDEFGHIJKLMNOPQRSTUVWXYZ

CHECK report for blimaTestingData on riesling1

This page was generated on 2021-01-14 15:59:06 -0500 (Thu, 14 Jan 2021).

TO THE DEVELOPERS/MAINTAINERS OF THE blimaTestingData PACKAGE: Please make sure to use the following settings in order to reproduce any error or warning you see on this page.
Package 30/385HostnameOS / ArchINSTALLBUILDCHECK
blimaTestingData 1.11.0
Vojtech Kulvait
Snapshot Date: 2021-01-14 09:00:13 -0500 (Thu, 14 Jan 2021)
URL: https://git.bioconductor.org/packages/blimaTestingData
Branch: master
Last Commit: 6689baa
Last Changed Date: 2020-10-27 10:09:04 -0500 (Tue, 27 Oct 2020)
malbec2 Linux (Ubuntu 20.04.1 LTS) / x86_64  OK  OK  OK UNNEEDED, same version exists in internal repository
riesling1 Windows Server 2019 Standard / x64  OK  OK [ OK ]

Summary

Package: blimaTestingData
Version: 1.11.0
Command: D:\biocbuild\bbs-3.13-bioc\R\bin\R.exe CMD check --force-multiarch --install=check:blimaTestingData.install-out.txt --library=D:\biocbuild\bbs-3.13-bioc\R\library --no-vignettes --timings blimaTestingData_1.11.0.tar.gz
StartedAt: 2021-01-14 11:07:43 -0500 (Thu, 14 Jan 2021)
EndedAt: 2021-01-14 11:08:27 -0500 (Thu, 14 Jan 2021)
EllapsedTime: 43.7 seconds
RetCode: 0
Status:  OK  
CheckDir: blimaTestingData.Rcheck
Warnings: 0

Command output

##############################################################################
##############################################################################
###
### Running command:
###
###   D:\biocbuild\bbs-3.13-bioc\R\bin\R.exe CMD check --force-multiarch --install=check:blimaTestingData.install-out.txt --library=D:\biocbuild\bbs-3.13-bioc\R\library --no-vignettes --timings blimaTestingData_1.11.0.tar.gz
###
##############################################################################
##############################################################################


* using log directory 'D:/biocbuild/bbs-3.13-data-experiment/meat/blimaTestingData.Rcheck'
* using R Under development (unstable) (2020-12-30 r79736)
* using platform: x86_64-w64-mingw32 (64-bit)
* using session charset: ISO8859-1
* using option '--no-vignettes'
* checking for file 'blimaTestingData/DESCRIPTION' ... OK
* checking extension type ... Package
* this is package 'blimaTestingData' version '1.11.0'
* checking package namespace information ... OK
* checking package dependencies ... OK
* checking if this is a source package ... OK
* checking if there is a namespace ... OK
* checking for hidden files and directories ... OK
* checking for portable file names ... OK
* checking whether package 'blimaTestingData' can be installed ... OK
* checking installed package size ... NOTE
  installed size is 98.2Mb
  sub-directories of 1Mb or more:
    data  98.1Mb
* checking package directory ... OK
* checking 'build' directory ... OK
* checking DESCRIPTION meta-information ... NOTE
Malformed Title field: should not end in a period.
* checking top-level files ... OK
* checking for left-over files ... OK
* checking index information ... OK
* checking package subdirectories ... OK
* loading checks for arch 'i386'
** checking whether the package can be loaded ... OK
** checking whether the package can be loaded with stated dependencies ... OK
** checking whether the package can be unloaded cleanly ... OK
** checking whether the namespace can be loaded with stated dependencies ... OK
** checking whether the namespace can be unloaded cleanly ... OK
* loading checks for arch 'x64'
** checking whether the package can be loaded ... OK
** checking whether the package can be loaded with stated dependencies ... OK
** checking whether the package can be unloaded cleanly ... OK
** checking whether the namespace can be loaded with stated dependencies ... OK
** checking whether the namespace can be unloaded cleanly ... OK
* checking Rd files ... OK
* checking Rd metadata ... OK
* checking Rd cross-references ... OK
* checking for missing documentation entries ... OK
* checking for code/documentation mismatches ... OK
* checking Rd \usage sections ... OK
* checking Rd contents ... OK
* checking for unstated dependencies in examples ... OK
* checking contents of 'data' directory ... OK
* checking data for non-ASCII characters ... OK
* checking data for ASCII and uncompressed saves ... OK
* checking files in 'vignettes' ... OK
* checking examples ... NONE
* checking for unstated dependencies in vignettes ... OK
* checking package vignettes in 'inst/doc' ... OK
* checking running R code from vignettes ... SKIPPED
* checking re-building of vignette outputs ... SKIPPED
* checking PDF version of manual ... OK
* DONE

Status: 2 NOTEs
See
  'D:/biocbuild/bbs-3.13-data-experiment/meat/blimaTestingData.Rcheck/00check.log'
for details.



Installation output

blimaTestingData.Rcheck/00install.out

##############################################################################
##############################################################################
###
### Running command:
###
###   C:\cygwin\bin\curl.exe -O http://172.29.0.4/BBS/3.13/data-experiment/src/contrib/blimaTestingData_1.11.0.tar.gz && rm -rf blimaTestingData.buildbin-libdir && mkdir blimaTestingData.buildbin-libdir && D:\biocbuild\bbs-3.13-bioc\R\bin\R.exe CMD INSTALL --merge-multiarch --build --library=blimaTestingData.buildbin-libdir blimaTestingData_1.11.0.tar.gz && D:\biocbuild\bbs-3.13-bioc\R\bin\R.exe CMD INSTALL blimaTestingData_1.11.0.zip && rm blimaTestingData_1.11.0.tar.gz blimaTestingData_1.11.0.zip
###
##############################################################################
##############################################################################


  % Total    % Received % Xferd  Average Speed   Time    Time     Time  Current
                                 Dload  Upload   Total   Spent    Left  Speed

  0     0    0     0    0     0      0      0 --:--:-- --:--:-- --:--:--     0
  0 98.1M    0  550k    0     0  1291k      0  0:01:17 --:--:--  0:01:17 1288k
 44 98.1M   44 43.5M    0     0  31.0M      0  0:00:03  0:00:01  0:00:02 30.9M
 98 98.1M   98 96.1M    0     0  39.9M      0  0:00:02  0:00:02 --:--:-- 39.9M
100 98.1M  100 98.1M    0     0  40.4M      0  0:00:02  0:00:02 --:--:-- 40.4M

install for i386

* installing *source* package 'blimaTestingData' ...
** using staged installation
** data
** help
*** installing help indices
  converting help for package 'blimaTestingData'
    finding HTML links ... done
    blimatesting                            html  
REDIRECT:topic	 blimatesting -> blimatesting.html [ SUCCESS ]
** building package indices
** installing vignettes
** testing if installed package can be loaded from temporary location
** testing if installed package can be loaded from final location
** testing if installed package keeps a record of temporary installation path

install for x64

* installing *source* package 'blimaTestingData' ...
** testing if installed package can be loaded
* MD5 sums
packaged installation of 'blimaTestingData' as blimaTestingData_1.11.0.zip
* DONE (blimaTestingData)
* installing to library 'D:/biocbuild/bbs-3.13-bioc/R/library'
package 'blimaTestingData' successfully unpacked and MD5 sums checked

Tests output


Example timings