Back to Multiple platform build/check report for BioC 3.13 experimental data |
|
This page was generated on 2021-01-21 16:01:25 -0500 (Thu, 21 Jan 2021).
TO THE DEVELOPERS/MAINTAINERS OF THE bladderbatch PACKAGE: Please make sure to use the following settings in order to reproduce any error or warning you see on this page. |
Package 29/386 | Hostname | OS / Arch | INSTALL | BUILD | CHECK | ||||||
bladderbatch 1.29.0 Jeffrey T. Leek
| malbec2 | Linux (Ubuntu 20.04.1 LTS) / x86_64 | OK | OK | WARNINGS | ![]() | |||||
riesling1 | Windows Server 2019 Standard / x64 | [ OK ] | OK | WARNINGS |
Package: bladderbatch |
Version: 1.29.0 |
Command: C:\cygwin\bin\curl.exe -O http://172.29.0.4/BBS/3.13/data-experiment/src/contrib/bladderbatch_1.29.0.tar.gz && rm -rf bladderbatch.buildbin-libdir && mkdir bladderbatch.buildbin-libdir && D:\biocbuild\bbs-3.13-bioc\R\bin\R.exe CMD INSTALL --merge-multiarch --build --library=bladderbatch.buildbin-libdir bladderbatch_1.29.0.tar.gz && D:\biocbuild\bbs-3.13-bioc\R\bin\R.exe CMD INSTALL bladderbatch_1.29.0.zip && rm bladderbatch_1.29.0.tar.gz bladderbatch_1.29.0.zip |
StartedAt: 2021-01-21 10:03:10 -0500 (Thu, 21 Jan 2021) |
EndedAt: 2021-01-21 10:03:20 -0500 (Thu, 21 Jan 2021) |
EllapsedTime: 10.0 seconds |
RetCode: 0 |
Status: OK |
############################################################################## ############################################################################## ### ### Running command: ### ### C:\cygwin\bin\curl.exe -O http://172.29.0.4/BBS/3.13/data-experiment/src/contrib/bladderbatch_1.29.0.tar.gz && rm -rf bladderbatch.buildbin-libdir && mkdir bladderbatch.buildbin-libdir && D:\biocbuild\bbs-3.13-bioc\R\bin\R.exe CMD INSTALL --merge-multiarch --build --library=bladderbatch.buildbin-libdir bladderbatch_1.29.0.tar.gz && D:\biocbuild\bbs-3.13-bioc\R\bin\R.exe CMD INSTALL bladderbatch_1.29.0.zip && rm bladderbatch_1.29.0.tar.gz bladderbatch_1.29.0.zip ### ############################################################################## ############################################################################## % Total % Received % Xferd Average Speed Time Time Time Current Dload Upload Total Spent Left Speed 0 0 0 0 0 0 0 0 --:--:-- --:--:-- --:--:-- 0 100 9357k 100 9357k 0 0 61.7M 0 --:--:-- --:--:-- --:--:-- 62.1M install for i386 * installing *source* package 'bladderbatch' ... ** using staged installation ** data ** help *** installing help indices converting help for package 'bladderbatch' finding HTML links ... done bladderEset html REDIRECT:topic bladderEset -> bladderEset.html [ SUCCESS ] ** building package indices ** installing vignettes ** testing if installed package can be loaded from temporary location ** testing if installed package can be loaded from final location ** testing if installed package keeps a record of temporary installation path install for x64 * installing *source* package 'bladderbatch' ... ** testing if installed package can be loaded * MD5 sums packaged installation of 'bladderbatch' as bladderbatch_1.29.0.zip * DONE (bladderbatch) * installing to library 'D:/biocbuild/bbs-3.13-bioc/R/library' package 'bladderbatch' successfully unpacked and MD5 sums checked