Back to Multiple platform build/check report for BioC 3.13 experimental data |
|
This page was generated on 2021-01-21 16:01:24 -0500 (Thu, 21 Jan 2021).
TO THE DEVELOPERS/MAINTAINERS OF THE biscuiteerData PACKAGE: Please make sure to use the following settings in order to reproduce any error or warning you see on this page. |
Package 28/386 | Hostname | OS / Arch | INSTALL | BUILD | CHECK | ||||||
biscuiteerData 1.5.0 "Jacob Morrison"
| malbec2 | Linux (Ubuntu 20.04.1 LTS) / x86_64 | OK | OK | OK | ![]() | |||||
riesling1 | Windows Server 2019 Standard / x64 | OK | OK | [ OK ] |
Package: biscuiteerData |
Version: 1.5.0 |
Command: D:\biocbuild\bbs-3.13-bioc\R\bin\R.exe CMD check --force-multiarch --install=check:biscuiteerData.install-out.txt --library=D:\biocbuild\bbs-3.13-bioc\R\library --no-vignettes --timings biscuiteerData_1.5.0.tar.gz |
StartedAt: 2021-01-21 11:12:24 -0500 (Thu, 21 Jan 2021) |
EndedAt: 2021-01-21 11:15:14 -0500 (Thu, 21 Jan 2021) |
EllapsedTime: 169.8 seconds |
RetCode: 0 |
Status: OK |
CheckDir: biscuiteerData.Rcheck |
Warnings: 0 |
############################################################################## ############################################################################## ### ### Running command: ### ### D:\biocbuild\bbs-3.13-bioc\R\bin\R.exe CMD check --force-multiarch --install=check:biscuiteerData.install-out.txt --library=D:\biocbuild\bbs-3.13-bioc\R\library --no-vignettes --timings biscuiteerData_1.5.0.tar.gz ### ############################################################################## ############################################################################## * using log directory 'D:/biocbuild/bbs-3.13-data-experiment/meat/biscuiteerData.Rcheck' * using R Under development (unstable) (2020-12-30 r79736) * using platform: x86_64-w64-mingw32 (64-bit) * using session charset: ISO8859-1 * using option '--no-vignettes' * checking for file 'biscuiteerData/DESCRIPTION' ... OK * checking extension type ... Package * this is package 'biscuiteerData' version '1.5.0' * package encoding: UTF-8 * checking package namespace information ... OK * checking package dependencies ... OK * checking if this is a source package ... OK * checking if there is a namespace ... OK * checking for hidden files and directories ... OK * checking for portable file names ... OK * checking whether package 'biscuiteerData' can be installed ... OK * checking installed package size ... OK * checking package directory ... OK * checking 'build' directory ... OK * checking DESCRIPTION meta-information ... OK * checking top-level files ... OK * checking for left-over files ... OK * checking index information ... OK * checking package subdirectories ... OK * checking R files for non-ASCII characters ... OK * checking R files for syntax errors ... OK * loading checks for arch 'i386' ** checking whether the package can be loaded ... OK ** checking whether the package can be loaded with stated dependencies ... OK ** checking whether the package can be unloaded cleanly ... OK ** checking whether the namespace can be loaded with stated dependencies ... OK ** checking whether the namespace can be unloaded cleanly ... OK * loading checks for arch 'x64' ** checking whether the package can be loaded ... OK ** checking whether the package can be loaded with stated dependencies ... OK ** checking whether the package can be unloaded cleanly ... OK ** checking whether the namespace can be loaded with stated dependencies ... OK ** checking whether the namespace can be unloaded cleanly ... OK * checking dependencies in R code ... OK * checking S3 generic/method consistency ... OK * checking replacement functions ... OK * checking foreign function calls ... OK * checking R code for possible problems ... OK * checking Rd files ... OK * checking Rd metadata ... OK * checking Rd cross-references ... OK * checking for missing documentation entries ... OK * checking for code/documentation mismatches ... OK * checking Rd \usage sections ... OK * checking Rd contents ... OK * checking for unstated dependencies in examples ... OK * checking installed files from 'inst/doc' ... OK * checking files in 'vignettes' ... OK * checking examples ... ** running examples for arch 'i386' ... OK Examples with CPU (user + system) or elapsed time > 5s user system elapsed biscuiteerData-package 6.28 0.94 7.65 ** running examples for arch 'x64' ... OK Examples with CPU (user + system) or elapsed time > 5s user system elapsed biscuiteerData-package 6.17 0.81 7.21 * checking for unstated dependencies in vignettes ... OK * checking package vignettes in 'inst/doc' ... OK * checking running R code from vignettes ... SKIPPED * checking re-building of vignette outputs ... SKIPPED * checking PDF version of manual ... OK * DONE Status: OK
biscuiteerData.Rcheck/00install.out
############################################################################## ############################################################################## ### ### Running command: ### ### C:\cygwin\bin\curl.exe -O http://172.29.0.4/BBS/3.13/data-experiment/src/contrib/biscuiteerData_1.5.0.tar.gz && rm -rf biscuiteerData.buildbin-libdir && mkdir biscuiteerData.buildbin-libdir && D:\biocbuild\bbs-3.13-bioc\R\bin\R.exe CMD INSTALL --merge-multiarch --build --library=biscuiteerData.buildbin-libdir biscuiteerData_1.5.0.tar.gz && D:\biocbuild\bbs-3.13-bioc\R\bin\R.exe CMD INSTALL biscuiteerData_1.5.0.zip && rm biscuiteerData_1.5.0.tar.gz biscuiteerData_1.5.0.zip ### ############################################################################## ############################################################################## % Total % Received % Xferd Average Speed Time Time Time Current Dload Upload Total Spent Left Speed 0 0 0 0 0 0 0 0 --:--:-- --:--:-- --:--:-- 0 100 7584 100 7584 0 0 211k 0 --:--:-- --:--:-- --:--:-- 217k install for i386 * installing *source* package 'biscuiteerData' ... ** using staged installation ** R ** inst ** byte-compile and prepare package for lazy loading ** help *** installing help indices converting help for package 'biscuiteerData' finding HTML links ... done PMDs.hg19 html REDIRECT:topic PMDs.hg19 -> PMDs.hg19.html [ SUCCESS ] PMDs.hg38 html REDIRECT:topic PMDs.hg38 -> PMDs.hg38.html [ SUCCESS ] Zhou_solo_WCGW_inCommonPMDs.hg19 html REDIRECT:topic Zhou_solo_WCGW_inCommonPMDs.hg19 -> Zhou_solo_WCGW_inCommonPMDs.hg19.html [ SUCCESS ] Zhou_solo_WCGW_inCommonPMDs.hg38 html REDIRECT:topic Zhou_solo_WCGW_inCommonPMDs.hg38 -> Zhou_solo_WCGW_inCommonPMDs.hg38.html [ SUCCESS ] biscuiteerData-package html REDIRECT:topic biscuiteerData-package -> biscuiteerData-package.html [ SUCCESS ] REDIRECT:topic _PACKAGE -> biscuiteerData-package.html [ SUCCESS ] REDIRECT:topic biscuiteerData -> biscuiteerData-package.html [ SUCCESS ] biscuiteerDataCacheAll html REDIRECT:topic biscuiteerDataCacheAll -> biscuiteerDataCacheAll.html [ SUCCESS ] biscuiteerDataGet html REDIRECT:topic biscuiteerDataGet -> biscuiteerDataGet.html [ SUCCESS ] biscuiteerDataList html REDIRECT:topic biscuiteerDataList -> biscuiteerDataList.html [ SUCCESS ] biscuiteerDataListDates html REDIRECT:topic biscuiteerDataListDates -> biscuiteerDataListDates.html [ SUCCESS ] ** building package indices ** installing vignettes 'biscuiteerData.Rmd' using 'UTF-8' ** testing if installed package can be loaded from temporary location ** testing if installed package can be loaded from final location ** testing if installed package keeps a record of temporary installation path install for x64 * installing *source* package 'biscuiteerData' ... ** testing if installed package can be loaded * MD5 sums packaged installation of 'biscuiteerData' as biscuiteerData_1.5.0.zip * DONE (biscuiteerData) * installing to library 'D:/biocbuild/bbs-3.13-bioc/R/library' package 'biscuiteerData' successfully unpacked and MD5 sums checked
biscuiteerData.Rcheck/examples_i386/biscuiteerData-Ex.timings
|
biscuiteerData.Rcheck/examples_x64/biscuiteerData-Ex.timings
|