Back to Multiple platform build/check report for BioC 3.13 experimental data
A[B]CDEFGHIJKLMNOPQRSTUVWXYZ

CHECK report for biotmleData on riesling1

This page was generated on 2021-01-14 15:59:06 -0500 (Thu, 14 Jan 2021).

TO THE DEVELOPERS/MAINTAINERS OF THE biotmleData PACKAGE: Please make sure to use the following settings in order to reproduce any error or warning you see on this page.
Package 27/385HostnameOS / ArchINSTALLBUILDCHECK
biotmleData 1.15.0
Nima Hejazi
Snapshot Date: 2021-01-14 09:00:13 -0500 (Thu, 14 Jan 2021)
URL: https://git.bioconductor.org/packages/biotmleData
Branch: master
Last Commit: ecab0d2
Last Changed Date: 2020-10-27 10:22:49 -0500 (Tue, 27 Oct 2020)
malbec2 Linux (Ubuntu 20.04.1 LTS) / x86_64  OK  OK  OK UNNEEDED, same version exists in internal repository
riesling1 Windows Server 2019 Standard / x64  OK  OK [ OK ]

Summary

Package: biotmleData
Version: 1.15.0
Command: D:\biocbuild\bbs-3.13-bioc\R\bin\R.exe CMD check --force-multiarch --install=check:biotmleData.install-out.txt --library=D:\biocbuild\bbs-3.13-bioc\R\library --no-vignettes --timings biotmleData_1.15.0.tar.gz
StartedAt: 2021-01-14 11:07:35 -0500 (Thu, 14 Jan 2021)
EndedAt: 2021-01-14 11:08:17 -0500 (Thu, 14 Jan 2021)
EllapsedTime: 42.5 seconds
RetCode: 0
Status:  OK  
CheckDir: biotmleData.Rcheck
Warnings: 0

Command output

##############################################################################
##############################################################################
###
### Running command:
###
###   D:\biocbuild\bbs-3.13-bioc\R\bin\R.exe CMD check --force-multiarch --install=check:biotmleData.install-out.txt --library=D:\biocbuild\bbs-3.13-bioc\R\library --no-vignettes --timings biotmleData_1.15.0.tar.gz
###
##############################################################################
##############################################################################


* using log directory 'D:/biocbuild/bbs-3.13-data-experiment/meat/biotmleData.Rcheck'
* using R Under development (unstable) (2020-12-30 r79736)
* using platform: x86_64-w64-mingw32 (64-bit)
* using session charset: ISO8859-1
* using option '--no-vignettes'
* checking for file 'biotmleData/DESCRIPTION' ... OK
* this is package 'biotmleData' version '1.15.0'
* package encoding: UTF-8
* checking package namespace information ... OK
* checking package dependencies ... OK
* checking if this is a source package ... OK
* checking if there is a namespace ... OK
* checking for hidden files and directories ... OK
* checking for portable file names ... OK
* checking whether package 'biotmleData' can be installed ... OK
* checking installed package size ... NOTE
  installed size is 67.3Mb
  sub-directories of 1Mb or more:
    data  67.3Mb
* checking package directory ... OK
* checking DESCRIPTION meta-information ... OK
* checking top-level files ... OK
* checking for left-over files ... OK
* checking index information ... OK
* checking package subdirectories ... OK
* checking R files for non-ASCII characters ... OK
* checking R files for syntax errors ... OK
* loading checks for arch 'i386'
** checking whether the package can be loaded ... OK
** checking whether the package can be loaded with stated dependencies ... OK
** checking whether the package can be unloaded cleanly ... OK
** checking whether the namespace can be loaded with stated dependencies ... OK
** checking whether the namespace can be unloaded cleanly ... OK
* loading checks for arch 'x64'
** checking whether the package can be loaded ... OK
** checking whether the package can be loaded with stated dependencies ... OK
** checking whether the package can be unloaded cleanly ... OK
** checking whether the namespace can be loaded with stated dependencies ... OK
** checking whether the namespace can be unloaded cleanly ... OK
* checking dependencies in R code ... OK
* checking S3 generic/method consistency ... OK
* checking replacement functions ... OK
* checking foreign function calls ... OK
* checking R code for possible problems ... OK
* checking Rd files ... OK
* checking Rd metadata ... OK
* checking Rd cross-references ... OK
* checking for missing documentation entries ... OK
* checking for code/documentation mismatches ... OK
* checking Rd \usage sections ... OK
* checking Rd contents ... OK
* checking for unstated dependencies in examples ... OK
* checking contents of 'data' directory ... OK
* checking data for non-ASCII characters ... OK
* checking data for ASCII and uncompressed saves ... OK
* checking examples ... NONE
* checking PDF version of manual ... OK
* DONE

Status: 1 NOTE
See
  'D:/biocbuild/bbs-3.13-data-experiment/meat/biotmleData.Rcheck/00check.log'
for details.



Installation output

biotmleData.Rcheck/00install.out

##############################################################################
##############################################################################
###
### Running command:
###
###   C:\cygwin\bin\curl.exe -O http://172.29.0.4/BBS/3.13/data-experiment/src/contrib/biotmleData_1.15.0.tar.gz && rm -rf biotmleData.buildbin-libdir && mkdir biotmleData.buildbin-libdir && D:\biocbuild\bbs-3.13-bioc\R\bin\R.exe CMD INSTALL --merge-multiarch --build --library=biotmleData.buildbin-libdir biotmleData_1.15.0.tar.gz && D:\biocbuild\bbs-3.13-bioc\R\bin\R.exe CMD INSTALL biotmleData_1.15.0.zip && rm biotmleData_1.15.0.tar.gz biotmleData_1.15.0.zip
###
##############################################################################
##############################################################################


  % Total    % Received % Xferd  Average Speed   Time    Time     Time  Current
                                 Dload  Upload   Total   Spent    Left  Speed

  0     0    0     0    0     0      0      0 --:--:-- --:--:-- --:--:--     0
100 42.2M  100 42.2M    0     0   104M      0 --:--:-- --:--:-- --:--:--  104M

install for i386

* installing *source* package 'biotmleData' ...
** using staged installation
** R
** data
*** moving datasets to lazyload DB
** byte-compile and prepare package for lazy loading
** help
*** installing help indices
  converting help for package 'biotmleData'
    finding HTML links ... done
    biomarkerTMLEout                        html  
REDIRECT:topic	 biomarkerTMLEout -> biomarkerTMLEout.html [ SUCCESS ]
    illuminaData                            html  
REDIRECT:topic	 illuminaData -> illuminaData.html [ SUCCESS ]
    rnaseqTMLEout                           html  
REDIRECT:topic	 rnaseqTMLEout -> rnaseqTMLEout.html [ SUCCESS ]
** building package indices
** testing if installed package can be loaded from temporary location
** testing if installed package can be loaded from final location
** testing if installed package keeps a record of temporary installation path

install for x64

* installing *source* package 'biotmleData' ...
** testing if installed package can be loaded
* MD5 sums
packaged installation of 'biotmleData' as biotmleData_1.15.0.zip
* DONE (biotmleData)
* installing to library 'D:/biocbuild/bbs-3.13-bioc/R/library'
package 'biotmleData' successfully unpacked and MD5 sums checked

Tests output


Example timings