Back to Multiple platform build/check report for BioC 3.13 experimental data |
|
This page was generated on 2021-01-14 15:59:06 -0500 (Thu, 14 Jan 2021).
TO THE DEVELOPERS/MAINTAINERS OF THE biotmleData PACKAGE: Please make sure to use the following settings in order to reproduce any error or warning you see on this page. |
Package 27/385 | Hostname | OS / Arch | INSTALL | BUILD | CHECK | ||||||
biotmleData 1.15.0 Nima Hejazi
| malbec2 | Linux (Ubuntu 20.04.1 LTS) / x86_64 | OK | OK | OK | ![]() | |||||
riesling1 | Windows Server 2019 Standard / x64 | OK | [ OK ] | OK |
Package: biotmleData |
Version: 1.15.0 |
Command: chmod a+r biotmleData -R && D:\biocbuild\bbs-3.13-bioc\R\bin\R.exe CMD build --keep-empty-dirs --no-resave-data biotmleData |
StartedAt: 2021-01-14 10:25:10 -0500 (Thu, 14 Jan 2021) |
EndedAt: 2021-01-14 10:25:19 -0500 (Thu, 14 Jan 2021) |
EllapsedTime: 8.2 seconds |
RetCode: 0 |
Status: OK |
PackageFile: biotmleData_1.15.0.tar.gz |
PackageFileSize: 30.87 MiB |
############################################################################## ############################################################################## ### ### Running command: ### ### chmod a+r biotmleData -R && D:\biocbuild\bbs-3.13-bioc\R\bin\R.exe CMD build --keep-empty-dirs --no-resave-data biotmleData ### ############################################################################## ############################################################################## * checking for file 'biotmleData/DESCRIPTION' ... OK * preparing 'biotmleData': * checking DESCRIPTION meta-information ... OK * checking for LF line-endings in source and make files and shell scripts * checking for empty or unneeded directories * building 'biotmleData_1.15.0.tar.gz'