Back to Multiple platform build/check report for BioC 3.13 experimental data
A[B]CDEFGHIJKLMNOPQRSTUVWXYZ

INSTALL report for beta7 on riesling1

This page was generated on 2021-01-14 15:59:06 -0500 (Thu, 14 Jan 2021).

TO THE DEVELOPERS/MAINTAINERS OF THE beta7 PACKAGE: Please make sure to use the following settings in order to reproduce any error or warning you see on this page.
Package 26/385HostnameOS / ArchINSTALLBUILDCHECK
beta7 1.29.0
Jean Yang
Snapshot Date: 2021-01-14 09:00:13 -0500 (Thu, 14 Jan 2021)
URL: https://git.bioconductor.org/packages/beta7
Branch: master
Last Commit: 219d575
Last Changed Date: 2020-10-27 09:44:50 -0500 (Tue, 27 Oct 2020)
malbec2 Linux (Ubuntu 20.04.1 LTS) / x86_64  OK  OK  WARNINGS UNNEEDED, same version exists in internal repository
riesling1 Windows Server 2019 Standard / x64 [ OK ] OK  WARNINGS 

Summary

Package: beta7
Version: 1.29.0
Command: C:\cygwin\bin\curl.exe -O http://172.29.0.4/BBS/3.13/data-experiment/src/contrib/beta7_1.29.0.tar.gz && rm -rf beta7.buildbin-libdir && mkdir beta7.buildbin-libdir && D:\biocbuild\bbs-3.13-bioc\R\bin\R.exe CMD INSTALL --merge-multiarch --build --library=beta7.buildbin-libdir beta7_1.29.0.tar.gz && D:\biocbuild\bbs-3.13-bioc\R\bin\R.exe CMD INSTALL beta7_1.29.0.zip && rm beta7_1.29.0.tar.gz beta7_1.29.0.zip
StartedAt: 2021-01-14 10:01:49 -0500 (Thu, 14 Jan 2021)
EndedAt: 2021-01-14 10:02:06 -0500 (Thu, 14 Jan 2021)
EllapsedTime: 17.0 seconds
RetCode: 0
Status:  OK  

Command output

##############################################################################
##############################################################################
###
### Running command:
###
###   C:\cygwin\bin\curl.exe -O http://172.29.0.4/BBS/3.13/data-experiment/src/contrib/beta7_1.29.0.tar.gz && rm -rf beta7.buildbin-libdir && mkdir beta7.buildbin-libdir && D:\biocbuild\bbs-3.13-bioc\R\bin\R.exe CMD INSTALL --merge-multiarch --build --library=beta7.buildbin-libdir beta7_1.29.0.tar.gz && D:\biocbuild\bbs-3.13-bioc\R\bin\R.exe CMD INSTALL beta7_1.29.0.zip && rm beta7_1.29.0.tar.gz beta7_1.29.0.zip
###
##############################################################################
##############################################################################


  % Total    % Received % Xferd  Average Speed   Time    Time     Time  Current
                                 Dload  Upload   Total   Spent    Left  Speed

  0     0    0     0    0     0      0      0 --:--:-- --:--:-- --:--:--     0
100 15.2M  100 15.2M    0     0  91.0M      0 --:--:-- --:--:-- --:--:-- 91.6M

install for i386

* installing *source* package 'beta7' ...
** using staged installation
** data
** inst
** help
*** installing help indices
  converting help for package 'beta7'
    finding HTML links ... done
    beta7                                   html  
REDIRECT:topic	 beta7 -> beta7.html [ SUCCESS ]
** building package indices
** testing if installed package can be loaded from temporary location
** testing if installed package can be loaded from final location
** testing if installed package keeps a record of temporary installation path

install for x64

* installing *source* package 'beta7' ...
** testing if installed package can be loaded
* MD5 sums
packaged installation of 'beta7' as beta7_1.29.0.zip
* DONE (beta7)
* installing to library 'D:/biocbuild/bbs-3.13-bioc/R/library'
package 'beta7' successfully unpacked and MD5 sums checked