Back to Multiple platform build/check report for BioC 3.13 experimental data |
|
This page was generated on 2021-01-14 15:59:06 -0500 (Thu, 14 Jan 2021).
TO THE DEVELOPERS/MAINTAINERS OF THE beadarrayExampleData PACKAGE: Please make sure to use the following settings in order to reproduce any error or warning you see on this page. |
Package 23/385 | Hostname | OS / Arch | INSTALL | BUILD | CHECK | ||||||
beadarrayExampleData 1.29.0 Mark Dunning
| malbec2 | Linux (Ubuntu 20.04.1 LTS) / x86_64 | OK | OK | OK | ![]() | |||||
riesling1 | Windows Server 2019 Standard / x64 | [ OK ] | OK | OK |
Package: beadarrayExampleData |
Version: 1.29.0 |
Command: C:\cygwin\bin\curl.exe -O http://172.29.0.4/BBS/3.13/data-experiment/src/contrib/beadarrayExampleData_1.29.0.tar.gz && rm -rf beadarrayExampleData.buildbin-libdir && mkdir beadarrayExampleData.buildbin-libdir && D:\biocbuild\bbs-3.13-bioc\R\bin\R.exe CMD INSTALL --merge-multiarch --build --library=beadarrayExampleData.buildbin-libdir beadarrayExampleData_1.29.0.tar.gz && D:\biocbuild\bbs-3.13-bioc\R\bin\R.exe CMD INSTALL beadarrayExampleData_1.29.0.zip && rm beadarrayExampleData_1.29.0.tar.gz beadarrayExampleData_1.29.0.zip |
StartedAt: 2021-01-14 10:14:16 -0500 (Thu, 14 Jan 2021) |
EndedAt: 2021-01-14 10:14:31 -0500 (Thu, 14 Jan 2021) |
EllapsedTime: 15.5 seconds |
RetCode: 0 |
Status: OK |
############################################################################## ############################################################################## ### ### Running command: ### ### C:\cygwin\bin\curl.exe -O http://172.29.0.4/BBS/3.13/data-experiment/src/contrib/beadarrayExampleData_1.29.0.tar.gz && rm -rf beadarrayExampleData.buildbin-libdir && mkdir beadarrayExampleData.buildbin-libdir && D:\biocbuild\bbs-3.13-bioc\R\bin\R.exe CMD INSTALL --merge-multiarch --build --library=beadarrayExampleData.buildbin-libdir beadarrayExampleData_1.29.0.tar.gz && D:\biocbuild\bbs-3.13-bioc\R\bin\R.exe CMD INSTALL beadarrayExampleData_1.29.0.zip && rm beadarrayExampleData_1.29.0.tar.gz beadarrayExampleData_1.29.0.zip ### ############################################################################## ############################################################################## % Total % Received % Xferd Average Speed Time Time Time Current Dload Upload Total Spent Left Speed 0 0 0 0 0 0 0 0 --:--:-- --:--:-- --:--:-- 0 100 29.8M 100 29.8M 0 0 85.4M 0 --:--:-- --:--:-- --:--:-- 85.4M install for i386 * installing *source* package 'beadarrayExampleData' ... ** using staged installation ** data ** help *** installing help indices converting help for package 'beadarrayExampleData' finding HTML links ... done exampleBLData html REDIRECT:topic exampleBLData -> exampleBLData.html [ SUCCESS ] exampleSummaryData html REDIRECT:topic exampleSummaryData -> exampleSummaryData.html [ SUCCESS ] ** building package indices ** installing vignettes ** testing if installed package can be loaded from temporary location ** testing if installed package can be loaded from final location ** testing if installed package keeps a record of temporary installation path install for x64 * installing *source* package 'beadarrayExampleData' ... ** testing if installed package can be loaded * MD5 sums packaged installation of 'beadarrayExampleData' as beadarrayExampleData_1.29.0.zip * DONE (beadarrayExampleData) * installing to library 'D:/biocbuild/bbs-3.13-bioc/R/library' package 'beadarrayExampleData' successfully unpacked and MD5 sums checked