Back to Multiple platform build/check report for BioC 3.13 experimental data |
|
This page was generated on 2021-01-18 15:58:42 -0500 (Mon, 18 Jan 2021).
TO THE DEVELOPERS/MAINTAINERS OF THE beadarrayExampleData PACKAGE: Please make sure to use the following settings in order to reproduce any error or warning you see on this page. |
Package 23/385 | Hostname | OS / Arch | INSTALL | BUILD | CHECK | ||||||
beadarrayExampleData 1.29.0 Mark Dunning
| malbec2 | Linux (Ubuntu 20.04.1 LTS) / x86_64 | OK | OK | OK | ![]() | |||||
riesling1 | Windows Server 2019 Standard / x64 | OK | [ OK ] | OK |
Package: beadarrayExampleData |
Version: 1.29.0 |
Command: chmod a+r beadarrayExampleData -R && D:\biocbuild\bbs-3.13-bioc\R\bin\R.exe CMD build --keep-empty-dirs --no-resave-data beadarrayExampleData |
StartedAt: 2021-01-18 10:28:40 -0500 (Mon, 18 Jan 2021) |
EndedAt: 2021-01-18 10:29:20 -0500 (Mon, 18 Jan 2021) |
EllapsedTime: 40.4 seconds |
RetCode: 0 |
Status: OK |
PackageFile: beadarrayExampleData_1.29.0.tar.gz |
PackageFileSize: 29.89 MiB |
############################################################################## ############################################################################## ### ### Running command: ### ### chmod a+r beadarrayExampleData -R && D:\biocbuild\bbs-3.13-bioc\R\bin\R.exe CMD build --keep-empty-dirs --no-resave-data beadarrayExampleData ### ############################################################################## ############################################################################## * checking for file 'beadarrayExampleData/DESCRIPTION' ... OK * preparing 'beadarrayExampleData': * checking DESCRIPTION meta-information ... OK * installing the package to build vignettes * creating vignettes ... OK * checking for LF line-endings in source and make files and shell scripts * checking for empty or unneeded directories * looking to see if a 'data/datalist' file should be added * building 'beadarrayExampleData_1.29.0.tar.gz'