Back to Multiple platform build/check report for BioC 3.13 experimental data |
|
This page was generated on 2021-01-14 15:59:06 -0500 (Thu, 14 Jan 2021).
TO THE DEVELOPERS/MAINTAINERS OF THE bcellViper PACKAGE: Please make sure to use the following settings in order to reproduce any error or warning you see on this page. |
Package 22/385 | Hostname | OS / Arch | INSTALL | BUILD | CHECK | ||||||
bcellViper 1.27.0 Mariano Javier Alvarez
| malbec2 | Linux (Ubuntu 20.04.1 LTS) / x86_64 | OK | OK | OK | ![]() | |||||
riesling1 | Windows Server 2019 Standard / x64 | [ OK ] | OK | OK |
Package: bcellViper |
Version: 1.27.0 |
Command: C:\cygwin\bin\curl.exe -O http://172.29.0.4/BBS/3.13/data-experiment/src/contrib/bcellViper_1.27.0.tar.gz && rm -rf bcellViper.buildbin-libdir && mkdir bcellViper.buildbin-libdir && D:\biocbuild\bbs-3.13-bioc\R\bin\R.exe CMD INSTALL --merge-multiarch --build --library=bcellViper.buildbin-libdir bcellViper_1.27.0.tar.gz && D:\biocbuild\bbs-3.13-bioc\R\bin\R.exe CMD INSTALL bcellViper_1.27.0.zip && rm bcellViper_1.27.0.tar.gz bcellViper_1.27.0.zip |
StartedAt: 2021-01-14 10:03:06 -0500 (Thu, 14 Jan 2021) |
EndedAt: 2021-01-14 10:03:24 -0500 (Thu, 14 Jan 2021) |
EllapsedTime: 18.1 seconds |
RetCode: 0 |
Status: OK |
############################################################################## ############################################################################## ### ### Running command: ### ### C:\cygwin\bin\curl.exe -O http://172.29.0.4/BBS/3.13/data-experiment/src/contrib/bcellViper_1.27.0.tar.gz && rm -rf bcellViper.buildbin-libdir && mkdir bcellViper.buildbin-libdir && D:\biocbuild\bbs-3.13-bioc\R\bin\R.exe CMD INSTALL --merge-multiarch --build --library=bcellViper.buildbin-libdir bcellViper_1.27.0.tar.gz && D:\biocbuild\bbs-3.13-bioc\R\bin\R.exe CMD INSTALL bcellViper_1.27.0.zip && rm bcellViper_1.27.0.tar.gz bcellViper_1.27.0.zip ### ############################################################################## ############################################################################## % Total % Received % Xferd Average Speed Time Time Time Current Dload Upload Total Spent Left Speed 0 0 0 0 0 0 0 0 --:--:-- --:--:-- --:--:-- 0 100 11.1M 100 11.1M 0 0 77.1M 0 --:--:-- --:--:-- --:--:-- 77.1M install for i386 * installing *source* package 'bcellViper' ... ** using staged installation ** data ** inst ** help *** installing help indices converting help for package 'bcellViper' finding HTML links ... done bcellViper-package html REDIRECT:topic bcellViper-package -> bcellViper-package.html [ SUCCESS ] REDIRECT:topic bcellViper -> bcellViper-package.html [ SUCCESS ] dset html REDIRECT:topic dset -> dset.html [ SUCCESS ] regulon html REDIRECT:topic regulon -> regulon.html [ SUCCESS ] ** building package indices ** installing vignettes ** testing if installed package can be loaded from temporary location ** testing if installed package can be loaded from final location ** testing if installed package keeps a record of temporary installation path install for x64 * installing *source* package 'bcellViper' ... ** testing if installed package can be loaded * MD5 sums packaged installation of 'bcellViper' as bcellViper_1.27.0.zip * DONE (bcellViper) * installing to library 'D:/biocbuild/bbs-3.13-bioc/R/library' package 'bcellViper' successfully unpacked and MD5 sums checked