Back to Multiple platform build/check report for BioC 3.13 experimental data
[A]BCDEFGHIJKLMNOPQRSTUVWXYZ

INSTALL report for aracne.networks on riesling1

This page was generated on 2021-03-01 15:56:10 -0500 (Mon, 01 Mar 2021).

To the developers/maintainers of the aracne.networks package:
Please make sure to use the following settings in order to reproduce any error or warning you see on this page.
Package 17/391HostnameOS / ArchINSTALLBUILDCHECK
aracne.networks 1.17.0
Federico M. Giorgi , Mariano Alvarez
Snapshot Date: 2021-03-01 09:00:05 -0500 (Mon, 01 Mar 2021)
URL: https://git.bioconductor.org/packages/aracne.networks
Branch: master
Last Commit: 0719873
Last Changed Date: 2020-10-27 10:20:54 -0500 (Tue, 27 Oct 2020)
rex3Linux (Ubuntu 20.04.2 LTS) / x86_64  OK    OK    WARNINGS  UNNEEDED, same version exists in internal repository
riesling1Windows Server 2019 Standard / x64  OK    OK    WARNINGS  

Summary

Package: aracne.networks
Version: 1.17.0
Command: C:\cygwin\bin\curl.exe -O http://155.52.173.35/BBS/3.13/data-experiment/src/contrib/aracne.networks_1.17.0.tar.gz && rm -rf aracne.networks.buildbin-libdir && mkdir aracne.networks.buildbin-libdir && D:\biocbuild\bbs-3.13-bioc\R\bin\R.exe CMD INSTALL --merge-multiarch --build --library=aracne.networks.buildbin-libdir aracne.networks_1.17.0.tar.gz && D:\biocbuild\bbs-3.13-bioc\R\bin\R.exe CMD INSTALL aracne.networks_1.17.0.zip && rm aracne.networks_1.17.0.tar.gz aracne.networks_1.17.0.zip
StartedAt: 2021-03-01 10:16:14 -0500 (Mon, 01 Mar 2021)
EndedAt: 2021-03-01 10:17:32 -0500 (Mon, 01 Mar 2021)
EllapsedTime: 78.2 seconds
RetCode: 0
Status:   OK   

Command output

##############################################################################
##############################################################################
###
### Running command:
###
###   C:\cygwin\bin\curl.exe -O http://155.52.173.35/BBS/3.13/data-experiment/src/contrib/aracne.networks_1.17.0.tar.gz && rm -rf aracne.networks.buildbin-libdir && mkdir aracne.networks.buildbin-libdir && D:\biocbuild\bbs-3.13-bioc\R\bin\R.exe CMD INSTALL --merge-multiarch --build --library=aracne.networks.buildbin-libdir aracne.networks_1.17.0.tar.gz && D:\biocbuild\bbs-3.13-bioc\R\bin\R.exe CMD INSTALL aracne.networks_1.17.0.zip && rm aracne.networks_1.17.0.tar.gz aracne.networks_1.17.0.zip
###
##############################################################################
##############################################################################


  % Total    % Received % Xferd  Average Speed   Time    Time     Time  Current
                                 Dload  Upload   Total   Spent    Left  Speed

  0     0    0     0    0     0      0      0 --:--:-- --:--:-- --:--:--     0
  1  203M    1 3891k    0     0  8705k      0  0:00:23 --:--:--  0:00:23 8686k
 17  203M   17 34.9M    0     0  24.3M      0  0:00:08  0:00:01  0:00:07 24.3M
 37  203M   37 76.1M    0     0  31.2M      0  0:00:06  0:00:02  0:00:04 31.1M
 54  203M   54  110M    0     0  32.1M      0  0:00:06  0:00:03  0:00:03 32.1M
 73  203M   73  149M    0     0  33.6M      0  0:00:06  0:00:04  0:00:02 33.6M
 88  203M   88  179M    0     0  33.0M      0  0:00:06  0:00:05  0:00:01 35.2M
100  203M  100  203M    0     0  32.9M      0  0:00:06  0:00:06 --:--:-- 35.5M

install for i386

* installing *source* package 'aracne.networks' ...
** using staged installation
** R
** data
*** moving datasets to lazyload DB
** inst
** byte-compile and prepare package for lazy loading
** help
*** installing help indices
  converting help for package 'aracne.networks'
    finding HTML links ... done
    aracne.networks-package                 html  
REDIRECT:topic	 aracne.networks-package -> aracne.networks-package.html [ SUCCESS ]
REDIRECT:topic	 aracne.networks -> aracne.networks-package.html [ SUCCESS ]
    regulonblca                             html  
REDIRECT:topic	 regulonblca -> regulonblca.html [ SUCCESS ]
    regulonbrca                             html  
REDIRECT:topic	 regulonbrca -> regulonbrca.html [ SUCCESS ]
    reguloncesc                             html  
REDIRECT:topic	 reguloncesc -> reguloncesc.html [ SUCCESS ]
    reguloncoad                             html  
REDIRECT:topic	 reguloncoad -> reguloncoad.html [ SUCCESS ]
    regulonesca                             html  
REDIRECT:topic	 regulonesca -> regulonesca.html [ SUCCESS ]
    regulongbm                              html  
REDIRECT:topic	 regulongbm -> regulongbm.html [ SUCCESS ]
    regulonhnsc                             html  
REDIRECT:topic	 regulonhnsc -> regulonhnsc.html [ SUCCESS ]
    regulonkirc                             html  
REDIRECT:topic	 regulonkirc -> regulonkirc.html [ SUCCESS ]
    regulonkirp                             html  
REDIRECT:topic	 regulonkirp -> regulonkirp.html [ SUCCESS ]
    regulonlaml                             html  
REDIRECT:topic	 regulonlaml -> regulonlaml.html [ SUCCESS ]
    regulonlihc                             html  
REDIRECT:topic	 regulonlihc -> regulonlihc.html [ SUCCESS ]
    regulonluad                             html  
REDIRECT:topic	 regulonluad -> regulonluad.html [ SUCCESS ]
    regulonlusc                             html  
REDIRECT:topic	 regulonlusc -> regulonlusc.html [ SUCCESS ]
    regulonnet                              html  
REDIRECT:topic	 regulonnet -> regulonnet.html [ SUCCESS ]
    regulonov                               html  
REDIRECT:topic	 regulonov -> regulonov.html [ SUCCESS ]
    regulonpaad                             html  
REDIRECT:topic	 regulonpaad -> regulonpaad.html [ SUCCESS ]
    regulonpcpg                             html  
REDIRECT:topic	 regulonpcpg -> regulonpcpg.html [ SUCCESS ]
    regulonprad                             html  
REDIRECT:topic	 regulonprad -> regulonprad.html [ SUCCESS ]
    regulonread                             html  
REDIRECT:topic	 regulonread -> regulonread.html [ SUCCESS ]
    regulonsarc                             html  
REDIRECT:topic	 regulonsarc -> regulonsarc.html [ SUCCESS ]
    regulonstad                             html  
REDIRECT:topic	 regulonstad -> regulonstad.html [ SUCCESS ]
    regulontgct                             html  
REDIRECT:topic	 regulontgct -> regulontgct.html [ SUCCESS ]
    regulonthca                             html  
REDIRECT:topic	 regulonthca -> regulonthca.html [ SUCCESS ]
    regulonthym                             html  
REDIRECT:topic	 regulonthym -> regulonthym.html [ SUCCESS ]
    regulonucec                             html  
REDIRECT:topic	 regulonucec -> regulonucec.html [ SUCCESS ]
    write.regulon                           html  
REDIRECT:topic	 write.regulon -> write.regulon.html [ SUCCESS ]
** building package indices
** installing vignettes
** testing if installed package can be loaded from temporary location
** testing if installed package can be loaded from final location
** testing if installed package keeps a record of temporary installation path

install for x64

* installing *source* package 'aracne.networks' ...
** testing if installed package can be loaded
* MD5 sums
packaged installation of 'aracne.networks' as aracne.networks_1.17.0.zip
* DONE (aracne.networks)
* installing to library 'D:/biocbuild/bbs-3.13-bioc/R/library'
package 'aracne.networks' successfully unpacked and MD5 sums checked