Back to Multiple platform build/check report for BioC 3.13 experimental data
[A]BCDEFGHIJKLMNOPQRSTUVWXYZ

INSTALL report for antiProfilesData on riesling1

This page was generated on 2021-01-14 15:59:06 -0500 (Thu, 14 Jan 2021).

TO THE DEVELOPERS/MAINTAINERS OF THE antiProfilesData PACKAGE: Please make sure to use the following settings in order to reproduce any error or warning you see on this page.
Package 16/385HostnameOS / ArchINSTALLBUILDCHECK
antiProfilesData 1.27.0
Hector Corrada Bravo
Snapshot Date: 2021-01-14 09:00:13 -0500 (Thu, 14 Jan 2021)
URL: https://git.bioconductor.org/packages/antiProfilesData
Branch: master
Last Commit: bfaa695
Last Changed Date: 2020-10-27 10:01:42 -0500 (Tue, 27 Oct 2020)
malbec2 Linux (Ubuntu 20.04.1 LTS) / x86_64  OK  OK  OK UNNEEDED, same version exists in internal repository
riesling1 Windows Server 2019 Standard / x64 [ OK ] OK  OK 

Summary

Package: antiProfilesData
Version: 1.27.0
Command: C:\cygwin\bin\curl.exe -O http://172.29.0.4/BBS/3.13/data-experiment/src/contrib/antiProfilesData_1.27.0.tar.gz && rm -rf antiProfilesData.buildbin-libdir && mkdir antiProfilesData.buildbin-libdir && D:\biocbuild\bbs-3.13-bioc\R\bin\R.exe CMD INSTALL --merge-multiarch --build --library=antiProfilesData.buildbin-libdir antiProfilesData_1.27.0.tar.gz && D:\biocbuild\bbs-3.13-bioc\R\bin\R.exe CMD INSTALL antiProfilesData_1.27.0.zip && rm antiProfilesData_1.27.0.tar.gz antiProfilesData_1.27.0.zip
StartedAt: 2021-01-14 10:02:15 -0500 (Thu, 14 Jan 2021)
EndedAt: 2021-01-14 10:02:25 -0500 (Thu, 14 Jan 2021)
EllapsedTime: 10.0 seconds
RetCode: 0
Status:  OK  

Command output

##############################################################################
##############################################################################
###
### Running command:
###
###   C:\cygwin\bin\curl.exe -O http://172.29.0.4/BBS/3.13/data-experiment/src/contrib/antiProfilesData_1.27.0.tar.gz && rm -rf antiProfilesData.buildbin-libdir && mkdir antiProfilesData.buildbin-libdir && D:\biocbuild\bbs-3.13-bioc\R\bin\R.exe CMD INSTALL --merge-multiarch --build --library=antiProfilesData.buildbin-libdir antiProfilesData_1.27.0.tar.gz && D:\biocbuild\bbs-3.13-bioc\R\bin\R.exe CMD INSTALL antiProfilesData_1.27.0.zip && rm antiProfilesData_1.27.0.tar.gz antiProfilesData_1.27.0.zip
###
##############################################################################
##############################################################################


  % Total    % Received % Xferd  Average Speed   Time    Time     Time  Current
                                 Dload  Upload   Total   Spent    Left  Speed

  0     0    0     0    0     0      0      0 --:--:-- --:--:-- --:--:--     0
100 2779k  100 2779k    0     0  18.7M      0 --:--:-- --:--:-- --:--:-- 18.7M

install for i386

* installing *source* package 'antiProfilesData' ...
** using staged installation
** data
*** moving datasets to lazyload DB
** help
*** installing help indices
  converting help for package 'antiProfilesData'
    finding HTML links ... done
    antiProfilesData-package                html  
REDIRECT:topic	 antiProfilesData-package -> antiProfilesData-package.html [ SUCCESS ]
    apColonData                             html  
REDIRECT:topic	 apColonData -> apColonData.html [ SUCCESS ]
    finding level-2 HTML links ... done

** building package indices
** testing if installed package can be loaded from temporary location
** testing if installed package can be loaded from final location
** testing if installed package keeps a record of temporary installation path

install for x64

* installing *source* package 'antiProfilesData' ...
** testing if installed package can be loaded
* MD5 sums
packaged installation of 'antiProfilesData' as antiProfilesData_1.27.0.zip
* DONE (antiProfilesData)
* installing to library 'D:/biocbuild/bbs-3.13-bioc/R/library'
package 'antiProfilesData' successfully unpacked and MD5 sums checked