Back to Multiple platform build/check report for BioC 3.13 experimental data |
|
This page was generated on 2021-01-21 16:01:24 -0500 (Thu, 21 Jan 2021).
TO THE DEVELOPERS/MAINTAINERS OF THE airway PACKAGE: Please make sure to use the following settings in order to reproduce any error or warning you see on this page. |
Package 10/386 | Hostname | OS / Arch | INSTALL | BUILD | CHECK | ||||||
airway 1.11.0 Michael Love
| malbec2 | Linux (Ubuntu 20.04.1 LTS) / x86_64 | OK | OK | WARNINGS | ![]() | |||||
riesling1 | Windows Server 2019 Standard / x64 | OK | [ OK ] | WARNINGS |
Package: airway |
Version: 1.11.0 |
Command: chmod a+r airway -R && D:\biocbuild\bbs-3.13-bioc\R\bin\R.exe CMD build --keep-empty-dirs --no-resave-data airway |
StartedAt: 2021-01-21 10:26:37 -0500 (Thu, 21 Jan 2021) |
EndedAt: 2021-01-21 10:27:04 -0500 (Thu, 21 Jan 2021) |
EllapsedTime: 27.4 seconds |
RetCode: 0 |
Status: OK |
PackageFile: airway_1.11.0.tar.gz |
PackageFileSize: 23.1 MiB |
############################################################################## ############################################################################## ### ### Running command: ### ### chmod a+r airway -R && D:\biocbuild\bbs-3.13-bioc\R\bin\R.exe CMD build --keep-empty-dirs --no-resave-data airway ### ############################################################################## ############################################################################## * checking for file 'airway/DESCRIPTION' ... OK * preparing 'airway': * checking DESCRIPTION meta-information ... OK * installing the package to build vignettes * creating vignettes ... OK * checking for LF line-endings in source and make files and shell scripts * checking for empty or unneeded directories * looking to see if a 'data/datalist' file should be added * building 'airway_1.11.0.tar.gz'