Back to Multiple platform build/check report for BioC 3.13 experimental data
[A]BCDEFGHIJKLMNOPQRSTUVWXYZ

INSTALL report for affydata on riesling1

This page was generated on 2021-01-11 15:59:28 -0500 (Mon, 11 Jan 2021).

TO THE DEVELOPERS/MAINTAINERS OF THE affydata PACKAGE: Please make sure to use the following settings in order to reproduce any error or warning you see on this page.
Package 4/385HostnameOS / ArchINSTALLBUILDCHECK
affydata 1.39.0
Harris Jaffee
Snapshot Date: 2021-01-11 09:00:09 -0500 (Mon, 11 Jan 2021)
URL: https://git.bioconductor.org/packages/affydata
Branch: master
Last Commit: 080210b
Last Changed Date: 2020-10-27 09:44:24 -0500 (Tue, 27 Oct 2020)
malbec2 Linux (Ubuntu 20.04.1 LTS) / x86_64  OK  OK  WARNINGS UNNEEDED, same version exists in internal repository
riesling1 Windows Server 2019 Standard / x64 [ OK ] OK  WARNINGS 

Summary

Package: affydata
Version: 1.39.0
Command: C:\cygwin\bin\curl.exe -O http://172.29.0.4/BBS/3.13/data-experiment/src/contrib/affydata_1.39.0.tar.gz && rm -rf affydata.buildbin-libdir && mkdir affydata.buildbin-libdir && D:\biocbuild\bbs-3.13-bioc\R\bin\R.exe CMD INSTALL --merge-multiarch --build --library=affydata.buildbin-libdir affydata_1.39.0.tar.gz && D:\biocbuild\bbs-3.13-bioc\R\bin\R.exe CMD INSTALL affydata_1.39.0.zip && rm affydata_1.39.0.tar.gz affydata_1.39.0.zip
StartedAt: 2021-01-11 10:05:56 -0500 (Mon, 11 Jan 2021)
EndedAt: 2021-01-11 10:06:21 -0500 (Mon, 11 Jan 2021)
EllapsedTime: 24.5 seconds
RetCode: 0
Status:  OK  

Command output

##############################################################################
##############################################################################
###
### Running command:
###
###   C:\cygwin\bin\curl.exe -O http://172.29.0.4/BBS/3.13/data-experiment/src/contrib/affydata_1.39.0.tar.gz && rm -rf affydata.buildbin-libdir && mkdir affydata.buildbin-libdir && D:\biocbuild\bbs-3.13-bioc\R\bin\R.exe CMD INSTALL --merge-multiarch --build --library=affydata.buildbin-libdir affydata_1.39.0.tar.gz && D:\biocbuild\bbs-3.13-bioc\R\bin\R.exe CMD INSTALL affydata_1.39.0.zip && rm affydata_1.39.0.tar.gz affydata_1.39.0.zip
###
##############################################################################
##############################################################################


  % Total    % Received % Xferd  Average Speed   Time    Time     Time  Current
                                 Dload  Upload   Total   Spent    Left  Speed

  0     0    0     0    0     0      0      0 --:--:-- --:--:-- --:--:--     0
100 12.0M  100 12.0M    0     0  21.2M      0 --:--:-- --:--:-- --:--:-- 21.2M

install for i386

* installing *source* package 'affydata' ...
** using staged installation
** R
** data
** inst
** byte-compile and prepare package for lazy loading
** help
*** installing help indices
  converting help for package 'affydata'
    finding HTML links ... done
    Dilution                                html  
REDIRECT:topic	 Dilution -> Dilution.html [ SUCCESS ]
** building package indices
** installing vignettes
** testing if installed package can be loaded from temporary location
     Package   
[1,] "affydata"
     LibPath                                                                                    
[1,] "D:/biocbuild/bbs-3.13-data-experiment/meat/affydata.buildbin-libdir/00LOCK-affydata/00new"
     Item       Title                        
[1,] "Dilution" "AffyBatch instance Dilution"
** testing if installed package can be loaded from final location
     Package   
[1,] "affydata"
     LibPath                                                              
[1,] "D:/biocbuild/bbs-3.13-data-experiment/meat/affydata.buildbin-libdir"
     Item       Title                        
[1,] "Dilution" "AffyBatch instance Dilution"
** testing if installed package keeps a record of temporary installation path

install for x64

* installing *source* package 'affydata' ...
** testing if installed package can be loaded
     Package   
[1,] "affydata"
     LibPath                                                              
[1,] "D:/biocbuild/bbs-3.13-data-experiment/meat/affydata.buildbin-libdir"
     Item       Title                        
[1,] "Dilution" "AffyBatch instance Dilution"
* MD5 sums
packaged installation of 'affydata' as affydata_1.39.0.zip
* DONE (affydata)
* installing to library 'D:/biocbuild/bbs-3.13-bioc/R/library'
package 'affydata' successfully unpacked and MD5 sums checked