Back to Multiple platform build/check report for BioC 3.13 experimental data |
|
This page was generated on 2021-01-11 15:59:28 -0500 (Mon, 11 Jan 2021).
TO THE DEVELOPERS/MAINTAINERS OF THE affydata PACKAGE: Please make sure to use the following settings in order to reproduce any error or warning you see on this page. |
Package 4/385 | Hostname | OS / Arch | INSTALL | BUILD | CHECK | ||||||
affydata 1.39.0 Harris Jaffee
| malbec2 | Linux (Ubuntu 20.04.1 LTS) / x86_64 | OK | OK | WARNINGS | ![]() | |||||
riesling1 | Windows Server 2019 Standard / x64 | OK | [ OK ] | WARNINGS |
Package: affydata |
Version: 1.39.0 |
Command: chmod a+r affydata -R && D:\biocbuild\bbs-3.13-bioc\R\bin\R.exe CMD build --keep-empty-dirs --no-resave-data affydata |
StartedAt: 2021-01-11 10:29:18 -0500 (Mon, 11 Jan 2021) |
EndedAt: 2021-01-11 10:29:49 -0500 (Mon, 11 Jan 2021) |
EllapsedTime: 31.4 seconds |
RetCode: 0 |
Status: OK |
PackageFile: affydata_1.39.0.tar.gz |
PackageFileSize: 12.15 MiB |
############################################################################## ############################################################################## ### ### Running command: ### ### chmod a+r affydata -R && D:\biocbuild\bbs-3.13-bioc\R\bin\R.exe CMD build --keep-empty-dirs --no-resave-data affydata ### ############################################################################## ############################################################################## * checking for file 'affydata/DESCRIPTION' ... OK * preparing 'affydata': * checking DESCRIPTION meta-information ... OK * installing the package to build vignettes * creating vignettes ... OK * checking for LF line-endings in source and make files and shell scripts * checking for empty or unneeded directories * looking to see if a 'data/datalist' file should be added * building 'affydata_1.39.0.tar.gz'