Back to Multiple platform build/check report for BioC 3.13 experimental data
[A]BCDEFGHIJKLMNOPQRSTUVWXYZ

INSTALL report for affycompData on riesling1

This page was generated on 2021-01-21 16:01:24 -0500 (Thu, 21 Jan 2021).

TO THE DEVELOPERS/MAINTAINERS OF THE affycompData PACKAGE: Please make sure to use the following settings in order to reproduce any error or warning you see on this page.
Package 3/386HostnameOS / ArchINSTALLBUILDCHECK
affycompData 1.29.0
Harris Jaffee
Snapshot Date: 2021-01-21 09:00:14 -0500 (Thu, 21 Jan 2021)
URL: https://git.bioconductor.org/packages/affycompData
Branch: master
Last Commit: 0a7753d
Last Changed Date: 2020-10-27 09:52:33 -0500 (Tue, 27 Oct 2020)
malbec2 Linux (Ubuntu 20.04.1 LTS) / x86_64  OK  OK  OK UNNEEDED, same version exists in internal repository
riesling1 Windows Server 2019 Standard / x64 [ OK ] OK  OK 

Summary

Package: affycompData
Version: 1.29.0
Command: C:\cygwin\bin\curl.exe -O http://172.29.0.4/BBS/3.13/data-experiment/src/contrib/affycompData_1.29.0.tar.gz && rm -rf affycompData.buildbin-libdir && mkdir affycompData.buildbin-libdir && D:\biocbuild\bbs-3.13-bioc\R\bin\R.exe CMD INSTALL --merge-multiarch --build --library=affycompData.buildbin-libdir affycompData_1.29.0.tar.gz && D:\biocbuild\bbs-3.13-bioc\R\bin\R.exe CMD INSTALL affycompData_1.29.0.zip && rm affycompData_1.29.0.tar.gz affycompData_1.29.0.zip
StartedAt: 2021-01-21 10:06:31 -0500 (Thu, 21 Jan 2021)
EndedAt: 2021-01-21 10:07:03 -0500 (Thu, 21 Jan 2021)
EllapsedTime: 31.6 seconds
RetCode: 0
Status:  OK  

Command output

##############################################################################
##############################################################################
###
### Running command:
###
###   C:\cygwin\bin\curl.exe -O http://172.29.0.4/BBS/3.13/data-experiment/src/contrib/affycompData_1.29.0.tar.gz && rm -rf affycompData.buildbin-libdir && mkdir affycompData.buildbin-libdir && D:\biocbuild\bbs-3.13-bioc\R\bin\R.exe CMD INSTALL --merge-multiarch --build --library=affycompData.buildbin-libdir affycompData_1.29.0.tar.gz && D:\biocbuild\bbs-3.13-bioc\R\bin\R.exe CMD INSTALL affycompData_1.29.0.zip && rm affycompData_1.29.0.tar.gz affycompData_1.29.0.zip
###
##############################################################################
##############################################################################


  % Total    % Received % Xferd  Average Speed   Time    Time     Time  Current
                                 Dload  Upload   Total   Spent    Left  Speed

  0     0    0     0    0     0      0      0 --:--:-- --:--:-- --:--:--     0
  1 68.6M    1 1282k    0     0  3686k      0  0:00:19 --:--:--  0:00:19 3676k
  5 68.6M    5 3679k    0     0  2474k      0  0:00:28  0:00:01  0:00:27 2472k
  9 68.6M    9 6420k    0     0  2551k      0  0:00:27  0:00:02  0:00:25 2551k
 12 68.6M   12 8999k    0     0  2644k      0  0:00:26  0:00:03  0:00:23 2643k
 14 68.6M   14  9.9M    0     0  2187k      0  0:00:32  0:00:04  0:00:28 2187k
 17 68.6M   17 11.9M    0     0  2264k      0  0:00:31  0:00:05  0:00:26 2166k
 22 68.6M   22 15.4M    0     0  2482k      0  0:00:28  0:00:06  0:00:22 2485k
 35 68.6M   35 24.0M    0     0  3357k      0  0:00:20  0:00:07  0:00:13 3776k
 79 68.6M   79 54.6M    0     0  6434k      0  0:00:10  0:00:08  0:00:02 8871k
 91 68.6M   91 62.9M    0     0  6733k      0  0:00:10  0:00:09  0:00:01 10.7M
 96 68.6M   96 66.4M    0     0  6481k      0  0:00:10  0:00:10 --:--:-- 10.7M
100 68.6M  100 68.6M    0     0  6679k      0  0:00:10  0:00:10 --:--:-- 12.7M

install for i386

* installing *source* package 'affycompData' ...
** using staged installation
** data
** help
*** installing help indices
  converting help for package 'affycompData'
    finding HTML links ... done
    lw.sd.assessment                        html  
REDIRECT:topic	 lw.sd.assessment -> lw.sd.assessment.html [ SUCCESS ]
    mas5.assessment                         html  
REDIRECT:topic	 mas5.assessment -> mas5.assessment.html [ SUCCESS ]
REDIRECT:topic	 mas5.assessment.133 -> mas5.assessment.html [ SUCCESS ]
REDIRECT:topic	 mas5.assessment2 -> mas5.assessment.html [ SUCCESS ]
REDIRECT:topic	 mas5.assessment2.133 -> mas5.assessment.html [ SUCCESS ]
    rma.assessment                          html  
REDIRECT:topic	 rma.assessment -> rma.assessment.html [ SUCCESS ]
REDIRECT:topic	 rma.assessment.133 -> rma.assessment.html [ SUCCESS ]
REDIRECT:topic	 rma.assessment2 -> rma.assessment.html [ SUCCESS ]
REDIRECT:topic	 rma.assessment2.133 -> rma.assessment.html [ SUCCESS ]
    rma.sd.assessment                       html  
REDIRECT:topic	 rma.sd.assessment -> rma.sd.assessment.html [ SUCCESS ]
** building package indices
** testing if installed package can be loaded from temporary location
** testing if installed package can be loaded from final location
** testing if installed package keeps a record of temporary installation path

install for x64

* installing *source* package 'affycompData' ...
** testing if installed package can be loaded
* MD5 sums
packaged installation of 'affycompData' as affycompData_1.29.0.zip
* DONE (affycompData)
* installing to library 'D:/biocbuild/bbs-3.13-bioc/R/library'
package 'affycompData' successfully unpacked and MD5 sums checked