Back to Multiple platform build/check report for BioC 3.13 experimental data |
|
This page was generated on 2021-01-14 15:59:06 -0500 (Thu, 14 Jan 2021).
TO THE DEVELOPERS/MAINTAINERS OF THE affycompData PACKAGE: Please make sure to use the following settings in order to reproduce any error or warning you see on this page. |
Package 3/385 | Hostname | OS / Arch | INSTALL | BUILD | CHECK | ||||||
affycompData 1.29.0 Harris Jaffee
| malbec2 | Linux (Ubuntu 20.04.1 LTS) / x86_64 | OK | OK | OK | ![]() | |||||
riesling1 | Windows Server 2019 Standard / x64 | OK | OK | [ OK ] |
Package: affycompData |
Version: 1.29.0 |
Command: D:\biocbuild\bbs-3.13-bioc\R\bin\R.exe CMD check --force-multiarch --install=check:affycompData.install-out.txt --library=D:\biocbuild\bbs-3.13-bioc\R\library --no-vignettes --timings affycompData_1.29.0.tar.gz |
StartedAt: 2021-01-14 11:06:48 -0500 (Thu, 14 Jan 2021) |
EndedAt: 2021-01-14 11:07:18 -0500 (Thu, 14 Jan 2021) |
EllapsedTime: 30.4 seconds |
RetCode: 0 |
Status: OK |
CheckDir: affycompData.Rcheck |
Warnings: 0 |
############################################################################## ############################################################################## ### ### Running command: ### ### D:\biocbuild\bbs-3.13-bioc\R\bin\R.exe CMD check --force-multiarch --install=check:affycompData.install-out.txt --library=D:\biocbuild\bbs-3.13-bioc\R\library --no-vignettes --timings affycompData_1.29.0.tar.gz ### ############################################################################## ############################################################################## * using log directory 'D:/biocbuild/bbs-3.13-data-experiment/meat/affycompData.Rcheck' * using R Under development (unstable) (2020-12-30 r79736) * using platform: x86_64-w64-mingw32 (64-bit) * using session charset: ISO8859-1 * using option '--no-vignettes' * checking for file 'affycompData/DESCRIPTION' ... OK * this is package 'affycompData' version '1.29.0' * checking package namespace information ... OK * checking package dependencies ... OK * checking if this is a source package ... OK * checking if there is a namespace ... OK * checking for hidden files and directories ... OK * checking for portable file names ... OK * checking whether package 'affycompData' can be installed ... OK * checking installed package size ... NOTE installed size is 69.1Mb sub-directories of 1Mb or more: data 69.1Mb * checking package directory ... OK * checking DESCRIPTION meta-information ... OK * checking top-level files ... OK * checking for left-over files ... OK * checking index information ... OK * checking package subdirectories ... OK * loading checks for arch 'i386' ** checking whether the package can be loaded ... OK ** checking whether the package can be loaded with stated dependencies ... OK ** checking whether the package can be unloaded cleanly ... OK ** checking whether the namespace can be loaded with stated dependencies ... OK ** checking whether the namespace can be unloaded cleanly ... OK * loading checks for arch 'x64' ** checking whether the package can be loaded ... OK ** checking whether the package can be loaded with stated dependencies ... OK ** checking whether the package can be unloaded cleanly ... OK ** checking whether the namespace can be loaded with stated dependencies ... OK ** checking whether the namespace can be unloaded cleanly ... OK * checking Rd files ... OK * checking Rd metadata ... OK * checking Rd cross-references ... OK * checking for missing documentation entries ... OK * checking for code/documentation mismatches ... OK * checking Rd \usage sections ... OK * checking Rd contents ... OK * checking for unstated dependencies in examples ... OK * checking contents of 'data' directory ... OK * checking data for non-ASCII characters ... OK * checking data for ASCII and uncompressed saves ... OK * checking examples ... NONE * checking PDF version of manual ... OK * DONE Status: 1 NOTE See 'D:/biocbuild/bbs-3.13-data-experiment/meat/affycompData.Rcheck/00check.log' for details.
affycompData.Rcheck/00install.out
############################################################################## ############################################################################## ### ### Running command: ### ### C:\cygwin\bin\curl.exe -O http://172.29.0.4/BBS/3.13/data-experiment/src/contrib/affycompData_1.29.0.tar.gz && rm -rf affycompData.buildbin-libdir && mkdir affycompData.buildbin-libdir && D:\biocbuild\bbs-3.13-bioc\R\bin\R.exe CMD INSTALL --merge-multiarch --build --library=affycompData.buildbin-libdir affycompData_1.29.0.tar.gz && D:\biocbuild\bbs-3.13-bioc\R\bin\R.exe CMD INSTALL affycompData_1.29.0.zip && rm affycompData_1.29.0.tar.gz affycompData_1.29.0.zip ### ############################################################################## ############################################################################## % Total % Received % Xferd Average Speed Time Time Time Current Dload Upload Total Spent Left Speed 0 0 0 0 0 0 0 0 --:--:-- --:--:-- --:--:-- 0 51 68.6M 51 35.3M 0 0 92.2M 0 --:--:-- --:--:-- --:--:-- 92.0M 100 68.6M 100 68.6M 0 0 101M 0 --:--:-- --:--:-- --:--:-- 101M install for i386 * installing *source* package 'affycompData' ... ** using staged installation ** data ** help *** installing help indices converting help for package 'affycompData' finding HTML links ... done lw.sd.assessment html REDIRECT:topic lw.sd.assessment -> lw.sd.assessment.html [ SUCCESS ] mas5.assessment html REDIRECT:topic mas5.assessment -> mas5.assessment.html [ SUCCESS ] REDIRECT:topic mas5.assessment.133 -> mas5.assessment.html [ SUCCESS ] REDIRECT:topic mas5.assessment2 -> mas5.assessment.html [ SUCCESS ] REDIRECT:topic mas5.assessment2.133 -> mas5.assessment.html [ SUCCESS ] rma.assessment html REDIRECT:topic rma.assessment -> rma.assessment.html [ SUCCESS ] REDIRECT:topic rma.assessment.133 -> rma.assessment.html [ SUCCESS ] REDIRECT:topic rma.assessment2 -> rma.assessment.html [ SUCCESS ] REDIRECT:topic rma.assessment2.133 -> rma.assessment.html [ SUCCESS ] rma.sd.assessment html REDIRECT:topic rma.sd.assessment -> rma.sd.assessment.html [ SUCCESS ] ** building package indices ** testing if installed package can be loaded from temporary location ** testing if installed package can be loaded from final location ** testing if installed package keeps a record of temporary installation path install for x64 * installing *source* package 'affycompData' ... ** testing if installed package can be loaded * MD5 sums packaged installation of 'affycompData' as affycompData_1.29.0.zip * DONE (affycompData) * installing to library 'D:/biocbuild/bbs-3.13-bioc/R/library' package 'affycompData' successfully unpacked and MD5 sums checked