Back to Multiple platform build/check report for BioC 3.13 experimental data
[A]BCDEFGHIJKLMNOPQRSTUVWXYZ

INSTALL report for adductData on riesling1

This page was generated on 2021-01-21 16:01:24 -0500 (Thu, 21 Jan 2021).

TO THE DEVELOPERS/MAINTAINERS OF THE adductData PACKAGE: Please make sure to use the following settings in order to reproduce any error or warning you see on this page.
Package 2/386HostnameOS / ArchINSTALLBUILDCHECK
adductData 1.7.0
Josie Hayes
Snapshot Date: 2021-01-21 09:00:14 -0500 (Thu, 21 Jan 2021)
URL: https://git.bioconductor.org/packages/adductData
Branch: master
Last Commit: f321628
Last Changed Date: 2020-10-27 10:29:10 -0500 (Tue, 27 Oct 2020)
malbec2 Linux (Ubuntu 20.04.1 LTS) / x86_64  OK  OK  OK UNNEEDED, same version exists in internal repository
riesling1 Windows Server 2019 Standard / x64 [ OK ] OK  OK 

Summary

Package: adductData
Version: 1.7.0
Command: C:\cygwin\bin\curl.exe -O http://172.29.0.4/BBS/3.13/data-experiment/src/contrib/adductData_1.7.0.tar.gz && rm -rf adductData.buildbin-libdir && mkdir adductData.buildbin-libdir && D:\biocbuild\bbs-3.13-bioc\R\bin\R.exe CMD INSTALL --merge-multiarch --build --library=adductData.buildbin-libdir adductData_1.7.0.tar.gz && D:\biocbuild\bbs-3.13-bioc\R\bin\R.exe CMD INSTALL adductData_1.7.0.zip && rm adductData_1.7.0.tar.gz adductData_1.7.0.zip
StartedAt: 2021-01-21 10:13:06 -0500 (Thu, 21 Jan 2021)
EndedAt: 2021-01-21 10:13:37 -0500 (Thu, 21 Jan 2021)
EllapsedTime: 30.9 seconds
RetCode: 0
Status:  OK  

Command output

##############################################################################
##############################################################################
###
### Running command:
###
###   C:\cygwin\bin\curl.exe -O http://172.29.0.4/BBS/3.13/data-experiment/src/contrib/adductData_1.7.0.tar.gz && rm -rf adductData.buildbin-libdir && mkdir adductData.buildbin-libdir && D:\biocbuild\bbs-3.13-bioc\R\bin\R.exe CMD INSTALL --merge-multiarch --build --library=adductData.buildbin-libdir adductData_1.7.0.tar.gz && D:\biocbuild\bbs-3.13-bioc\R\bin\R.exe CMD INSTALL adductData_1.7.0.zip && rm adductData_1.7.0.tar.gz adductData_1.7.0.zip
###
##############################################################################
##############################################################################


  % Total    % Received % Xferd  Average Speed   Time    Time     Time  Current
                                 Dload  Upload   Total   Spent    Left  Speed

  0     0    0     0    0     0      0      0 --:--:-- --:--:-- --:--:--     0
100  3445  100  3445    0     0   210k      0 --:--:-- --:--:-- --:--:--  210k

install for i386

* installing *source* package 'adductData' ...
** using staged installation
** inst
** help
*** installing help indices
  converting help for package 'adductData'
    finding HTML links ... done
    adductData                              html  
REDIRECT:topic	 adductData -> adductData.html [ SUCCESS ]
REDIRECT:topic	 adductData-package -> adductData.html [ SUCCESS ]
** building package indices
** installing vignettes
** testing if installed package can be loaded from temporary location
** testing if installed package can be loaded from final location
** testing if installed package keeps a record of temporary installation path

install for x64

* installing *source* package 'adductData' ...
** testing if installed package can be loaded
* MD5 sums
packaged installation of 'adductData' as adductData_1.7.0.zip
* DONE (adductData)
* installing to library 'D:/biocbuild/bbs-3.13-bioc/R/library'
package 'adductData' successfully unpacked and MD5 sums checked