Back to Multiple platform build/check report for BioC 3.13 experimental data
[A]BCDEFGHIJKLMNOPQRSTUVWXYZ

CHECK report for adductData on riesling1

This page was generated on 2021-01-11 15:59:28 -0500 (Mon, 11 Jan 2021).

TO THE DEVELOPERS/MAINTAINERS OF THE adductData PACKAGE: Please make sure to use the following settings in order to reproduce any error or warning you see on this page.
Package 2/385HostnameOS / ArchINSTALLBUILDCHECK
adductData 1.7.0
Josie Hayes
Snapshot Date: 2021-01-11 09:00:09 -0500 (Mon, 11 Jan 2021)
URL: https://git.bioconductor.org/packages/adductData
Branch: master
Last Commit: f321628
Last Changed Date: 2020-10-27 10:29:10 -0500 (Tue, 27 Oct 2020)
malbec2 Linux (Ubuntu 20.04.1 LTS) / x86_64  OK  OK  OK UNNEEDED, same version exists in internal repository
riesling1 Windows Server 2019 Standard / x64  OK  OK [ OK ]

Summary

Package: adductData
Version: 1.7.0
Command: D:\biocbuild\bbs-3.13-bioc\R\bin\R.exe CMD check --force-multiarch --install=check:adductData.install-out.txt --library=D:\biocbuild\bbs-3.13-bioc\R\library --no-vignettes --timings adductData_1.7.0.tar.gz
StartedAt: 2021-01-11 11:12:24 -0500 (Mon, 11 Jan 2021)
EndedAt: 2021-01-11 11:13:18 -0500 (Mon, 11 Jan 2021)
EllapsedTime: 53.1 seconds
RetCode: 0
Status:  OK  
CheckDir: adductData.Rcheck
Warnings: 0

Command output

##############################################################################
##############################################################################
###
### Running command:
###
###   D:\biocbuild\bbs-3.13-bioc\R\bin\R.exe CMD check --force-multiarch --install=check:adductData.install-out.txt --library=D:\biocbuild\bbs-3.13-bioc\R\library --no-vignettes --timings adductData_1.7.0.tar.gz
###
##############################################################################
##############################################################################


* using log directory 'D:/biocbuild/bbs-3.13-data-experiment/meat/adductData.Rcheck'
* using R Under development (unstable) (2020-12-30 r79736)
* using platform: x86_64-w64-mingw32 (64-bit)
* using session charset: ISO8859-1
* using option '--no-vignettes'
* checking for file 'adductData/DESCRIPTION' ... OK
* this is package 'adductData' version '1.7.0'
* package encoding: UTF-8
* checking package namespace information ... OK
* checking package dependencies ... OK
* checking if this is a source package ... OK
* checking if there is a namespace ... OK
* checking for hidden files and directories ... OK
* checking for portable file names ... OK
* checking whether package 'adductData' can be installed ... OK
* checking installed package size ... OK
* checking package directory ... OK
* checking 'build' directory ... OK
* checking DESCRIPTION meta-information ... OK
* checking top-level files ... OK
* checking for left-over files ... OK
* checking index information ... OK
* checking package subdirectories ... OK
* loading checks for arch 'i386'
** checking whether the package can be loaded ... OK
** checking whether the package can be loaded with stated dependencies ... OK
** checking whether the package can be unloaded cleanly ... OK
** checking whether the namespace can be loaded with stated dependencies ... OK
** checking whether the namespace can be unloaded cleanly ... OK
* loading checks for arch 'x64'
** checking whether the package can be loaded ... OK
** checking whether the package can be loaded with stated dependencies ... OK
** checking whether the package can be unloaded cleanly ... OK
** checking whether the namespace can be loaded with stated dependencies ... OK
** checking whether the namespace can be unloaded cleanly ... OK
* checking Rd files ... OK
* checking Rd metadata ... OK
* checking Rd cross-references ... OK
* checking for code/documentation mismatches ... OK
* checking Rd \usage sections ... OK
* checking Rd contents ... OK
* checking for unstated dependencies in examples ... OK
* checking files in 'vignettes' ... OK
* checking examples ...
** running examples for arch 'i386' ... OK
** running examples for arch 'x64' ... OK
* checking for unstated dependencies in vignettes ... OK
* checking package vignettes in 'inst/doc' ... OK
* checking running R code from vignettes ... SKIPPED
* checking re-building of vignette outputs ... SKIPPED
* checking PDF version of manual ... OK
* DONE

Status: OK


Installation output

adductData.Rcheck/00install.out

##############################################################################
##############################################################################
###
### Running command:
###
###   C:\cygwin\bin\curl.exe -O http://172.29.0.4/BBS/3.13/data-experiment/src/contrib/adductData_1.7.0.tar.gz && rm -rf adductData.buildbin-libdir && mkdir adductData.buildbin-libdir && D:\biocbuild\bbs-3.13-bioc\R\bin\R.exe CMD INSTALL --merge-multiarch --build --library=adductData.buildbin-libdir adductData_1.7.0.tar.gz && D:\biocbuild\bbs-3.13-bioc\R\bin\R.exe CMD INSTALL adductData_1.7.0.zip && rm adductData_1.7.0.tar.gz adductData_1.7.0.zip
###
##############################################################################
##############################################################################


  % Total    % Received % Xferd  Average Speed   Time    Time     Time  Current
                                 Dload  Upload   Total   Spent    Left  Speed

  0     0    0     0    0     0      0      0 --:--:-- --:--:-- --:--:--     0
100  3445  100  3445    0     0  1682k      0 --:--:-- --:--:-- --:--:-- 1682k

install for i386

* installing *source* package 'adductData' ...
** using staged installation
** inst
** help
*** installing help indices
  converting help for package 'adductData'
    finding HTML links ... done
    adductData                              html  
REDIRECT:topic	 adductData -> adductData.html [ SUCCESS ]
REDIRECT:topic	 adductData-package -> adductData.html [ SUCCESS ]
** building package indices
** installing vignettes
** testing if installed package can be loaded from temporary location
** testing if installed package can be loaded from final location
** testing if installed package keeps a record of temporary installation path

install for x64

* installing *source* package 'adductData' ...
** testing if installed package can be loaded
* MD5 sums
packaged installation of 'adductData' as adductData_1.7.0.zip
* DONE (adductData)
* installing to library 'D:/biocbuild/bbs-3.13-bioc/R/library'
package 'adductData' successfully unpacked and MD5 sums checked

Tests output


Example timings

adductData.Rcheck/examples_i386/adductData-Ex.timings

nameusersystemelapsed
adductData000

adductData.Rcheck/examples_x64/adductData-Ex.timings

nameusersystemelapsed
adductData000