Back to Multiple platform build/check report for BioC 3.13 experimental data |
|
This page was generated on 2021-01-14 15:59:12 -0500 (Thu, 14 Jan 2021).
TO THE DEVELOPERS/MAINTAINERS OF THE WGSmapp PACKAGE: Please make sure to use the following settings in order to reproduce any error or warning you see on this page. |
Package 377/385 | Hostname | OS / Arch | INSTALL | BUILD | CHECK | ||||||
WGSmapp 1.3.0 Rujin Wang
| malbec2 | Linux (Ubuntu 20.04.1 LTS) / x86_64 | OK | OK | OK | ![]() | |||||
riesling1 | Windows Server 2019 Standard / x64 | OK | OK | [ OK ] |
Package: WGSmapp |
Version: 1.3.0 |
Command: D:\biocbuild\bbs-3.13-bioc\R\bin\R.exe CMD check --force-multiarch --install=check:WGSmapp.install-out.txt --library=D:\biocbuild\bbs-3.13-bioc\R\library --no-vignettes --timings WGSmapp_1.3.0.tar.gz |
StartedAt: 2021-01-14 11:46:55 -0500 (Thu, 14 Jan 2021) |
EndedAt: 2021-01-14 11:48:22 -0500 (Thu, 14 Jan 2021) |
EllapsedTime: 87.1 seconds |
RetCode: 0 |
Status: OK |
CheckDir: WGSmapp.Rcheck |
Warnings: 0 |
############################################################################## ############################################################################## ### ### Running command: ### ### D:\biocbuild\bbs-3.13-bioc\R\bin\R.exe CMD check --force-multiarch --install=check:WGSmapp.install-out.txt --library=D:\biocbuild\bbs-3.13-bioc\R\library --no-vignettes --timings WGSmapp_1.3.0.tar.gz ### ############################################################################## ############################################################################## * using log directory 'D:/biocbuild/bbs-3.13-data-experiment/meat/WGSmapp.Rcheck' * using R Under development (unstable) (2020-12-30 r79736) * using platform: x86_64-w64-mingw32 (64-bit) * using session charset: ISO8859-1 * using option '--no-vignettes' * checking for file 'WGSmapp/DESCRIPTION' ... OK * checking extension type ... Package * this is package 'WGSmapp' version '1.3.0' * package encoding: UTF-8 * checking package namespace information ... OK * checking package dependencies ... OK * checking if this is a source package ... OK * checking if there is a namespace ... OK * checking for hidden files and directories ... OK * checking for portable file names ... OK * checking whether package 'WGSmapp' can be installed ... OK * checking installed package size ... NOTE installed size is 316.3Mb sub-directories of 1Mb or more: data 161.2Mb extdata 154.4Mb * checking package directory ... OK * checking DESCRIPTION meta-information ... OK * checking top-level files ... OK * checking for left-over files ... OK * checking index information ... OK * checking package subdirectories ... OK * checking R files for non-ASCII characters ... OK * checking R files for syntax errors ... OK * loading checks for arch 'i386' ** checking whether the package can be loaded ... OK ** checking whether the package can be loaded with stated dependencies ... OK ** checking whether the package can be unloaded cleanly ... OK ** checking whether the namespace can be loaded with stated dependencies ... OK ** checking whether the namespace can be unloaded cleanly ... OK * loading checks for arch 'x64' ** checking whether the package can be loaded ... OK ** checking whether the package can be loaded with stated dependencies ... OK ** checking whether the package can be unloaded cleanly ... OK ** checking whether the namespace can be loaded with stated dependencies ... OK ** checking whether the namespace can be unloaded cleanly ... OK * checking dependencies in R code ... OK * checking S3 generic/method consistency ... OK * checking replacement functions ... OK * checking foreign function calls ... OK * checking R code for possible problems ... OK * checking Rd files ... OK * checking Rd metadata ... OK * checking Rd cross-references ... OK * checking for missing documentation entries ... OK * checking for code/documentation mismatches ... OK * checking Rd \usage sections ... OK * checking Rd contents ... OK * checking for unstated dependencies in examples ... OK * checking contents of 'data' directory ... OK * checking data for non-ASCII characters ... OK * checking data for ASCII and uncompressed saves ... OK * checking examples ... NONE * checking PDF version of manual ... OK * DONE Status: 1 NOTE See 'D:/biocbuild/bbs-3.13-data-experiment/meat/WGSmapp.Rcheck/00check.log' for details.
WGSmapp.Rcheck/00install.out
############################################################################## ############################################################################## ### ### Running command: ### ### C:\cygwin\bin\curl.exe -O http://172.29.0.4/BBS/3.13/data-experiment/src/contrib/WGSmapp_1.3.0.tar.gz && rm -rf WGSmapp.buildbin-libdir && mkdir WGSmapp.buildbin-libdir && D:\biocbuild\bbs-3.13-bioc\R\bin\R.exe CMD INSTALL --merge-multiarch --build --library=WGSmapp.buildbin-libdir WGSmapp_1.3.0.tar.gz && D:\biocbuild\bbs-3.13-bioc\R\bin\R.exe CMD INSTALL WGSmapp_1.3.0.zip && rm WGSmapp_1.3.0.tar.gz WGSmapp_1.3.0.zip ### ############################################################################## ############################################################################## % Total % Received % Xferd Average Speed Time Time Time Current Dload Upload Total Spent Left Speed 0 0 0 0 0 0 0 0 --:--:-- --:--:-- --:--:-- 0 53 195M 53 104M 0 0 110M 0 0:00:01 --:--:-- 0:00:01 110M 100 195M 100 195M 0 0 110M 0 0:00:01 0:00:01 --:--:-- 110M install for i386 * installing *source* package 'WGSmapp' ... ** using staged installation ** R ** data *** moving datasets to lazyload DB ** inst ** byte-compile and prepare package for lazy loading ** help *** installing help indices converting help for package 'WGSmapp' finding HTML links ... done mapp_hg19 html REDIRECT:topic mapp_hg19 -> mapp_hg19.html [ SUCCESS ] mapp_hg38 html REDIRECT:topic mapp_hg38 -> mapp_hg38.html [ SUCCESS ] ** building package indices ** testing if installed package can be loaded from temporary location ** testing if installed package can be loaded from final location ** testing if installed package keeps a record of temporary installation path install for x64 * installing *source* package 'WGSmapp' ... ** testing if installed package can be loaded * MD5 sums packaged installation of 'WGSmapp' as WGSmapp_1.3.0.zip * DONE (WGSmapp) * installing to library 'D:/biocbuild/bbs-3.13-bioc/R/library' package 'WGSmapp' successfully unpacked and MD5 sums checked