Back to Multiple platform build/check report for BioC 3.13 experimental data
ABCDEFGHIJKLMNOPQRSTUV[W]XYZ

INSTALL report for WES.1KG.WUGSC on riesling1

This page was generated on 2021-01-14 15:59:12 -0500 (Thu, 14 Jan 2021).

TO THE DEVELOPERS/MAINTAINERS OF THE WES.1KG.WUGSC PACKAGE: Please make sure to use the following settings in order to reproduce any error or warning you see on this page.
Package 376/385HostnameOS / ArchINSTALLBUILDCHECK
WES.1KG.WUGSC 1.23.0
Yuchao Jiang
Snapshot Date: 2021-01-14 09:00:13 -0500 (Thu, 14 Jan 2021)
URL: https://git.bioconductor.org/packages/WES.1KG.WUGSC
Branch: master
Last Commit: 9dfca2c
Last Changed Date: 2020-10-27 10:11:05 -0500 (Tue, 27 Oct 2020)
malbec2 Linux (Ubuntu 20.04.1 LTS) / x86_64  OK  OK  OK UNNEEDED, same version exists in internal repository
riesling1 Windows Server 2019 Standard / x64 [ OK ] OK  OK 

Summary

Package: WES.1KG.WUGSC
Version: 1.23.0
Command: C:\cygwin\bin\curl.exe -O http://172.29.0.4/BBS/3.13/data-experiment/src/contrib/WES.1KG.WUGSC_1.23.0.tar.gz && rm -rf WES.1KG.WUGSC.buildbin-libdir && mkdir WES.1KG.WUGSC.buildbin-libdir && D:\biocbuild\bbs-3.13-bioc\R\bin\R.exe CMD INSTALL --merge-multiarch --build --library=WES.1KG.WUGSC.buildbin-libdir WES.1KG.WUGSC_1.23.0.tar.gz && D:\biocbuild\bbs-3.13-bioc\R\bin\R.exe CMD INSTALL WES.1KG.WUGSC_1.23.0.zip && rm WES.1KG.WUGSC_1.23.0.tar.gz WES.1KG.WUGSC_1.23.0.zip
StartedAt: 2021-01-14 09:50:56 -0500 (Thu, 14 Jan 2021)
EndedAt: 2021-01-14 09:51:49 -0500 (Thu, 14 Jan 2021)
EllapsedTime: 53.2 seconds
RetCode: 0
Status:  OK  

Command output

##############################################################################
##############################################################################
###
### Running command:
###
###   C:\cygwin\bin\curl.exe -O http://172.29.0.4/BBS/3.13/data-experiment/src/contrib/WES.1KG.WUGSC_1.23.0.tar.gz && rm -rf WES.1KG.WUGSC.buildbin-libdir && mkdir WES.1KG.WUGSC.buildbin-libdir && D:\biocbuild\bbs-3.13-bioc\R\bin\R.exe CMD INSTALL --merge-multiarch --build --library=WES.1KG.WUGSC.buildbin-libdir WES.1KG.WUGSC_1.23.0.tar.gz && D:\biocbuild\bbs-3.13-bioc\R\bin\R.exe CMD INSTALL WES.1KG.WUGSC_1.23.0.zip && rm WES.1KG.WUGSC_1.23.0.tar.gz WES.1KG.WUGSC_1.23.0.zip
###
##############################################################################
##############################################################################


  % Total    % Received % Xferd  Average Speed   Time    Time     Time  Current
                                 Dload  Upload   Total   Spent    Left  Speed

  0     0    0     0    0     0      0      0 --:--:-- --:--:-- --:--:--     0
  0     0    0     0    0     0      0      0 --:--:-- --:--:-- --:--:--     0
  0  373M    0 14351    0     0  10250      0 10:36:14  0:00:01 10:36:13 10243
  0  373M    0 1626k    0     0   736k      0  0:08:39  0:00:02  0:08:37  735k
  9  373M    9 35.8M    0     0  11.4M      0  0:00:32  0:00:03  0:00:29 11.4M
 24  373M   24 91.2M    0     0  22.1M      0  0:00:16  0:00:04  0:00:12 22.1M
 36  373M   36  137M    0     0  26.8M      0  0:00:13  0:00:05  0:00:08 27.9M
 44  373M   44  165M    0     0  25.2M      0  0:00:14  0:00:06  0:00:08 32.1M
 44  373M   44  167M    0     0  22.6M      0  0:00:16  0:00:07  0:00:09 31.9M
 57  373M   57  215M    0     0  26.5M      0  0:00:14  0:00:08  0:00:06 36.0M
 80  373M   80  299M    0     0  32.8M      0  0:00:11  0:00:09  0:00:02 41.6M
100  373M  100  373M    0     0  37.1M      0  0:00:10  0:00:10 --:--:-- 47.9M

install for i386

* installing *source* package 'WES.1KG.WUGSC' ...
** using staged installation
** inst
** help
No man pages found in package  'WES.1KG.WUGSC' 
*** installing help indices
** building package indices
** installing vignettes
** testing if installed package can be loaded from temporary location
** testing if installed package can be loaded from final location
** testing if installed package keeps a record of temporary installation path

install for x64

* installing *source* package 'WES.1KG.WUGSC' ...
** testing if installed package can be loaded
* MD5 sums
packaged installation of 'WES.1KG.WUGSC' as WES.1KG.WUGSC_1.23.0.zip
* DONE (WES.1KG.WUGSC)
* installing to library 'D:/biocbuild/bbs-3.13-bioc/R/library'
package 'WES.1KG.WUGSC' successfully unpacked and MD5 sums checked