Back to Multiple platform build/check report for BioC 3.13 experimental data
ABCDEFGHIJKLMNOPQRS[T]UVWXYZ

INSTALL report for TargetSearchData on riesling1

This page was generated on 2021-01-18 15:58:51 -0500 (Mon, 18 Jan 2021).

TO THE DEVELOPERS/MAINTAINERS OF THE TargetSearchData PACKAGE: Please make sure to use the following settings in order to reproduce any error or warning you see on this page.
Package 352/385HostnameOS / ArchINSTALLBUILDCHECK
TargetSearchData 1.29.0
Alvaro Cuadros-Inostroza
Snapshot Date: 2021-01-18 09:00:15 -0500 (Mon, 18 Jan 2021)
URL: https://git.bioconductor.org/packages/TargetSearchData
Branch: master
Last Commit: d1c8f14
Last Changed Date: 2020-10-27 09:51:15 -0500 (Tue, 27 Oct 2020)
malbec2 Linux (Ubuntu 20.04.1 LTS) / x86_64  OK  OK  OK UNNEEDED, same version exists in internal repository
riesling1 Windows Server 2019 Standard / x64 [ OK ] OK  OK 

Summary

Package: TargetSearchData
Version: 1.29.0
Command: C:\cygwin\bin\curl.exe -O http://172.29.0.4/BBS/3.13/data-experiment/src/contrib/TargetSearchData_1.29.0.tar.gz && rm -rf TargetSearchData.buildbin-libdir && mkdir TargetSearchData.buildbin-libdir && D:\biocbuild\bbs-3.13-bioc\R\bin\R.exe CMD INSTALL --merge-multiarch --build --library=TargetSearchData.buildbin-libdir TargetSearchData_1.29.0.tar.gz && D:\biocbuild\bbs-3.13-bioc\R\bin\R.exe CMD INSTALL TargetSearchData_1.29.0.zip && rm TargetSearchData_1.29.0.tar.gz TargetSearchData_1.29.0.zip
StartedAt: 2021-01-18 09:50:52 -0500 (Mon, 18 Jan 2021)
EndedAt: 2021-01-18 09:51:23 -0500 (Mon, 18 Jan 2021)
EllapsedTime: 30.4 seconds
RetCode: 0
Status:  OK  

Command output

##############################################################################
##############################################################################
###
### Running command:
###
###   C:\cygwin\bin\curl.exe -O http://172.29.0.4/BBS/3.13/data-experiment/src/contrib/TargetSearchData_1.29.0.tar.gz && rm -rf TargetSearchData.buildbin-libdir && mkdir TargetSearchData.buildbin-libdir && D:\biocbuild\bbs-3.13-bioc\R\bin\R.exe CMD INSTALL --merge-multiarch --build --library=TargetSearchData.buildbin-libdir TargetSearchData_1.29.0.tar.gz && D:\biocbuild\bbs-3.13-bioc\R\bin\R.exe CMD INSTALL TargetSearchData_1.29.0.zip && rm TargetSearchData_1.29.0.tar.gz TargetSearchData_1.29.0.zip
###
##############################################################################
##############################################################################


  % Total    % Received % Xferd  Average Speed   Time    Time     Time  Current
                                 Dload  Upload   Total   Spent    Left  Speed

  0     0    0     0    0     0      0      0 --:--:-- --:--:-- --:--:--     0
  2 29.8M    2  913k    0     0  1177k      0  0:00:25 --:--:--  0:00:25 1177k
 24 29.8M   24 7606k    0     0  3787k      0  0:00:08  0:00:02  0:00:06 3787k
 73 29.8M   73 21.8M    0     0  7852k      0  0:00:03  0:00:02  0:00:01 7849k
 81 29.8M   81 24.4M    0     0  6057k      0  0:00:05  0:00:04  0:00:01 6057k
100 29.8M  100 29.8M    0     0  6855k      0  0:00:04  0:00:04 --:--:-- 6855k

install for i386

* installing *source* package 'TargetSearchData' ...
** using staged installation
** R
** inst
** byte-compile and prepare package for lazy loading
** help
*** installing help indices
  converting help for package 'TargetSearchData'
    finding HTML links ... done
    TargetSearchData                        html  
REDIRECT:topic	 TargetSearchData -> TargetSearchData.html [ SUCCESS ]
** building package indices
** testing if installed package can be loaded from temporary location
** testing if installed package can be loaded from final location
** testing if installed package keeps a record of temporary installation path

install for x64

* installing *source* package 'TargetSearchData' ...
** testing if installed package can be loaded
* MD5 sums
packaged installation of 'TargetSearchData' as TargetSearchData_1.29.0.zip
* DONE (TargetSearchData)
* installing to library 'D:/biocbuild/bbs-3.13-bioc/R/library'
package 'TargetSearchData' successfully unpacked and MD5 sums checked