Back to Multiple platform build/check report for BioC 3.13 experimental data
ABCDEFGHIJKLMNOPQRS[T]UVWXYZ

CHECK report for TargetSearchData on riesling1

This page was generated on 2021-01-14 15:59:12 -0500 (Thu, 14 Jan 2021).

TO THE DEVELOPERS/MAINTAINERS OF THE TargetSearchData PACKAGE: Please make sure to use the following settings in order to reproduce any error or warning you see on this page.
Package 352/385HostnameOS / ArchINSTALLBUILDCHECK
TargetSearchData 1.29.0
Alvaro Cuadros-Inostroza
Snapshot Date: 2021-01-14 09:00:13 -0500 (Thu, 14 Jan 2021)
URL: https://git.bioconductor.org/packages/TargetSearchData
Branch: master
Last Commit: d1c8f14
Last Changed Date: 2020-10-27 09:51:15 -0500 (Tue, 27 Oct 2020)
malbec2 Linux (Ubuntu 20.04.1 LTS) / x86_64  OK  OK  OK UNNEEDED, same version exists in internal repository
riesling1 Windows Server 2019 Standard / x64  OK  OK [ OK ]

Summary

Package: TargetSearchData
Version: 1.29.0
Command: D:\biocbuild\bbs-3.13-bioc\R\bin\R.exe CMD check --force-multiarch --install=check:TargetSearchData.install-out.txt --library=D:\biocbuild\bbs-3.13-bioc\R\library --no-vignettes --timings TargetSearchData_1.29.0.tar.gz
StartedAt: 2021-01-14 11:44:03 -0500 (Thu, 14 Jan 2021)
EndedAt: 2021-01-14 11:44:24 -0500 (Thu, 14 Jan 2021)
EllapsedTime: 21.0 seconds
RetCode: 0
Status:  OK  
CheckDir: TargetSearchData.Rcheck
Warnings: 0

Command output

##############################################################################
##############################################################################
###
### Running command:
###
###   D:\biocbuild\bbs-3.13-bioc\R\bin\R.exe CMD check --force-multiarch --install=check:TargetSearchData.install-out.txt --library=D:\biocbuild\bbs-3.13-bioc\R\library --no-vignettes --timings TargetSearchData_1.29.0.tar.gz
###
##############################################################################
##############################################################################


* using log directory 'D:/biocbuild/bbs-3.13-data-experiment/meat/TargetSearchData.Rcheck'
* using R Under development (unstable) (2020-12-30 r79736)
* using platform: x86_64-w64-mingw32 (64-bit)
* using session charset: ISO8859-1
* using option '--no-vignettes'
* checking for file 'TargetSearchData/DESCRIPTION' ... OK
* checking extension type ... Package
* this is package 'TargetSearchData' version '1.29.0'
* checking package namespace information ... OK
* checking package dependencies ... OK
* checking if this is a source package ... OK
* checking if there is a namespace ... OK
* checking for hidden files and directories ... OK
* checking for portable file names ... OK
* checking whether package 'TargetSearchData' can be installed ... OK
* checking installed package size ... NOTE
  installed size is 89.6Mb
  sub-directories of 1Mb or more:
    gc-ms-data  89.5Mb
* checking package directory ... OK
* checking DESCRIPTION meta-information ... OK
* checking top-level files ... OK
* checking for left-over files ... OK
* checking index information ... OK
* checking package subdirectories ... OK
* checking R files for non-ASCII characters ... OK
* checking R files for syntax errors ... OK
* loading checks for arch 'i386'
** checking whether the package can be loaded ... OK
** checking whether the package can be loaded with stated dependencies ... OK
** checking whether the package can be unloaded cleanly ... OK
** checking whether the namespace can be loaded with stated dependencies ... OK
** checking whether the namespace can be unloaded cleanly ... OK
* loading checks for arch 'x64'
** checking whether the package can be loaded ... OK
** checking whether the package can be loaded with stated dependencies ... OK
** checking whether the package can be unloaded cleanly ... OK
** checking whether the namespace can be loaded with stated dependencies ... OK
** checking whether the namespace can be unloaded cleanly ... OK
* checking dependencies in R code ... OK
* checking S3 generic/method consistency ... OK
* checking replacement functions ... OK
* checking foreign function calls ... OK
* checking R code for possible problems ... OK
* checking Rd files ... OK
* checking Rd metadata ... OK
* checking Rd cross-references ... OK
* checking for missing documentation entries ... OK
* checking for code/documentation mismatches ... OK
* checking Rd \usage sections ... OK
* checking Rd contents ... OK
* checking for unstated dependencies in examples ... OK
* checking examples ... NONE
* checking PDF version of manual ... OK
* DONE

Status: 1 NOTE
See
  'D:/biocbuild/bbs-3.13-data-experiment/meat/TargetSearchData.Rcheck/00check.log'
for details.



Installation output

TargetSearchData.Rcheck/00install.out

##############################################################################
##############################################################################
###
### Running command:
###
###   C:\cygwin\bin\curl.exe -O http://172.29.0.4/BBS/3.13/data-experiment/src/contrib/TargetSearchData_1.29.0.tar.gz && rm -rf TargetSearchData.buildbin-libdir && mkdir TargetSearchData.buildbin-libdir && D:\biocbuild\bbs-3.13-bioc\R\bin\R.exe CMD INSTALL --merge-multiarch --build --library=TargetSearchData.buildbin-libdir TargetSearchData_1.29.0.tar.gz && D:\biocbuild\bbs-3.13-bioc\R\bin\R.exe CMD INSTALL TargetSearchData_1.29.0.zip && rm TargetSearchData_1.29.0.tar.gz TargetSearchData_1.29.0.zip
###
##############################################################################
##############################################################################


  % Total    % Received % Xferd  Average Speed   Time    Time     Time  Current
                                 Dload  Upload   Total   Spent    Left  Speed

  0     0    0     0    0     0      0      0 --:--:-- --:--:-- --:--:--     0
  0 29.8M    0 20193    0     0  28202      0  0:18:29 --:--:--  0:18:29 28163
  5 29.8M    5 1662k    0     0  1228k      0  0:00:24  0:00:01  0:00:23 1227k
 13 29.8M   13 4090k    0     0  1660k      0  0:00:18  0:00:02  0:00:16 1660k
 21 29.8M   21 6596k    0     0  1966k      0  0:00:15  0:00:03  0:00:12 1966k
100 29.8M  100 29.8M    0     0  8477k      0  0:00:03  0:00:03 --:--:-- 8475k

install for i386

* installing *source* package 'TargetSearchData' ...
** using staged installation
** R
** inst
** byte-compile and prepare package for lazy loading
** help
*** installing help indices
  converting help for package 'TargetSearchData'
    finding HTML links ... done
    TargetSearchData                        html  
REDIRECT:topic	 TargetSearchData -> TargetSearchData.html [ SUCCESS ]
** building package indices
** testing if installed package can be loaded from temporary location
** testing if installed package can be loaded from final location
** testing if installed package keeps a record of temporary installation path

install for x64

* installing *source* package 'TargetSearchData' ...
** testing if installed package can be loaded
* MD5 sums
packaged installation of 'TargetSearchData' as TargetSearchData_1.29.0.zip
* DONE (TargetSearchData)
* installing to library 'D:/biocbuild/bbs-3.13-bioc/R/library'
package 'TargetSearchData' successfully unpacked and MD5 sums checked

Tests output


Example timings