Back to Multiple platform build/check report for BioC 3.13 experimental data
ABCDEFGHIJKLMNOPQRS[T]UVWXYZ

BUILD report for TargetSearchData on riesling1

This page was generated on 2021-01-21 16:01:40 -0500 (Thu, 21 Jan 2021).

TO THE DEVELOPERS/MAINTAINERS OF THE TargetSearchData PACKAGE: Please make sure to use the following settings in order to reproduce any error or warning you see on this page.
Package 353/386HostnameOS / ArchINSTALLBUILDCHECK
TargetSearchData 1.29.0
Alvaro Cuadros-Inostroza
Snapshot Date: 2021-01-21 09:00:14 -0500 (Thu, 21 Jan 2021)
URL: https://git.bioconductor.org/packages/TargetSearchData
Branch: master
Last Commit: d1c8f14
Last Changed Date: 2020-10-27 09:51:15 -0500 (Tue, 27 Oct 2020)
malbec2 Linux (Ubuntu 20.04.1 LTS) / x86_64  OK  OK  OK UNNEEDED, same version exists in internal repository
riesling1 Windows Server 2019 Standard / x64  OK [ OK ] OK 

Summary

Package: TargetSearchData
Version: 1.29.0
Command: chmod a+r TargetSearchData -R && D:\biocbuild\bbs-3.13-bioc\R\bin\R.exe CMD build --keep-empty-dirs --no-resave-data TargetSearchData
StartedAt: 2021-01-21 11:00:41 -0500 (Thu, 21 Jan 2021)
EndedAt: 2021-01-21 11:01:03 -0500 (Thu, 21 Jan 2021)
EllapsedTime: 22.0 seconds
RetCode: 0
Status:  OK  
PackageFile: TargetSearchData_1.29.0.tar.gz
PackageFileSize: 29.78 MiB

Command output

##############################################################################
##############################################################################
###
### Running command:
###
###   chmod a+r TargetSearchData -R && D:\biocbuild\bbs-3.13-bioc\R\bin\R.exe CMD build --keep-empty-dirs --no-resave-data TargetSearchData
###
##############################################################################
##############################################################################


* checking for file 'TargetSearchData/DESCRIPTION' ... OK
* preparing 'TargetSearchData':
* checking DESCRIPTION meta-information ... OK
* checking for LF line-endings in source and make files and shell scripts
* checking for empty or unneeded directories
* building 'TargetSearchData_1.29.0.tar.gz'