Name | Last modified | Size | Description | |
---|---|---|---|---|
Parent Directory | - | |||
buildsrc-out.txt | 17-Oct-2021 04:58 | 838 | ||
buildsrc-summary.dcf | 17-Oct-2021 04:58 | 441 | ||
checksrc-out.txt | 17-Oct-2021 04:58 | 3.7K | ||
checksrc-summary.dcf | 17-Oct-2021 04:58 | 455 | ||
install-out.txt | 17-Oct-2021 04:58 | 971 | ||
install-summary.dcf | 17-Oct-2021 04:58 | 274 | ||