Back to Multiple platform build/check report for BioC 3.13 experimental data
ABCDEFGHIJKLMNOPQRS[T]UVWXYZ

INSTALL report for TabulaMurisData on riesling1

This page was generated on 2021-01-18 15:58:51 -0500 (Mon, 18 Jan 2021).

TO THE DEVELOPERS/MAINTAINERS OF THE TabulaMurisData PACKAGE: Please make sure to use the following settings in order to reproduce any error or warning you see on this page.
Package 350/385HostnameOS / ArchINSTALLBUILDCHECK
TabulaMurisData 1.9.0
Charlotte Soneson
Snapshot Date: 2021-01-18 09:00:15 -0500 (Mon, 18 Jan 2021)
URL: https://git.bioconductor.org/packages/TabulaMurisData
Branch: master
Last Commit: 03d928e
Last Changed Date: 2020-10-27 10:27:27 -0500 (Tue, 27 Oct 2020)
malbec2 Linux (Ubuntu 20.04.1 LTS) / x86_64  OK  OK  OK UNNEEDED, same version exists in internal repository
riesling1 Windows Server 2019 Standard / x64 [ OK ] OK  OK 

Summary

Package: TabulaMurisData
Version: 1.9.0
Command: C:\cygwin\bin\curl.exe -O http://172.29.0.4/BBS/3.13/data-experiment/src/contrib/TabulaMurisData_1.9.0.tar.gz && rm -rf TabulaMurisData.buildbin-libdir && mkdir TabulaMurisData.buildbin-libdir && D:\biocbuild\bbs-3.13-bioc\R\bin\R.exe CMD INSTALL --merge-multiarch --build --library=TabulaMurisData.buildbin-libdir TabulaMurisData_1.9.0.tar.gz && D:\biocbuild\bbs-3.13-bioc\R\bin\R.exe CMD INSTALL TabulaMurisData_1.9.0.zip && rm TabulaMurisData_1.9.0.tar.gz TabulaMurisData_1.9.0.zip
StartedAt: 2021-01-18 10:11:46 -0500 (Mon, 18 Jan 2021)
EndedAt: 2021-01-18 10:12:03 -0500 (Mon, 18 Jan 2021)
EllapsedTime: 17.2 seconds
RetCode: 0
Status:  OK  

Command output

##############################################################################
##############################################################################
###
### Running command:
###
###   C:\cygwin\bin\curl.exe -O http://172.29.0.4/BBS/3.13/data-experiment/src/contrib/TabulaMurisData_1.9.0.tar.gz && rm -rf TabulaMurisData.buildbin-libdir && mkdir TabulaMurisData.buildbin-libdir && D:\biocbuild\bbs-3.13-bioc\R\bin\R.exe CMD INSTALL --merge-multiarch --build --library=TabulaMurisData.buildbin-libdir TabulaMurisData_1.9.0.tar.gz && D:\biocbuild\bbs-3.13-bioc\R\bin\R.exe CMD INSTALL TabulaMurisData_1.9.0.zip && rm TabulaMurisData_1.9.0.tar.gz TabulaMurisData_1.9.0.zip
###
##############################################################################
##############################################################################


  % Total    % Received % Xferd  Average Speed   Time    Time     Time  Current
                                 Dload  Upload   Total   Spent    Left  Speed

  0     0    0     0    0     0      0      0 --:--:-- --:--:-- --:--:--     0
100  4923  100  4923    0     0   155k      0 --:--:-- --:--:-- --:--:--  155k

install for i386

* installing *source* package 'TabulaMurisData' ...
** using staged installation
** R
** inst
** byte-compile and prepare package for lazy loading
** help
*** installing help indices
  converting help for package 'TabulaMurisData'
    finding HTML links ... done
    TabulaMurisData                         html  
REDIRECT:topic	 TabulaMurisData -> TabulaMurisData.html [ SUCCESS ]
    TabulaMurisDroplet                      html  
REDIRECT:topic	 TabulaMurisDroplet -> TabulaMurisDroplet.html [ SUCCESS ]
    TabulaMurisSmartSeq2                    html  
REDIRECT:topic	 TabulaMurisSmartSeq2 -> TabulaMurisSmartSeq2.html [ SUCCESS ]
** building package indices
** installing vignettes
** testing if installed package can be loaded from temporary location
snapshotDate(): 2021-01-15
** testing if installed package can be loaded from final location
snapshotDate(): 2021-01-15
** testing if installed package keeps a record of temporary installation path

install for x64

* installing *source* package 'TabulaMurisData' ...
** testing if installed package can be loaded
snapshotDate(): 2021-01-15
* MD5 sums
packaged installation of 'TabulaMurisData' as TabulaMurisData_1.9.0.zip
* DONE (TabulaMurisData)
* installing to library 'D:/biocbuild/bbs-3.13-bioc/R/library'
package 'TabulaMurisData' successfully unpacked and MD5 sums checked