Back to Multiple platform build/check report for BioC 3.13 experimental data
ABCDEFGHIJKLMNOPQRS[T]UVWXYZ

BUILD report for TabulaMurisData on riesling1

This page was generated on 2021-01-11 15:59:33 -0500 (Mon, 11 Jan 2021).

TO THE DEVELOPERS/MAINTAINERS OF THE TabulaMurisData PACKAGE: Please make sure to use the following settings in order to reproduce any error or warning you see on this page.
Package 350/385HostnameOS / ArchINSTALLBUILDCHECK
TabulaMurisData 1.9.0
Charlotte Soneson
Snapshot Date: 2021-01-11 09:00:09 -0500 (Mon, 11 Jan 2021)
URL: https://git.bioconductor.org/packages/TabulaMurisData
Branch: master
Last Commit: 03d928e
Last Changed Date: 2020-10-27 10:27:27 -0500 (Tue, 27 Oct 2020)
malbec2 Linux (Ubuntu 20.04.1 LTS) / x86_64  OK  OK  OK UNNEEDED, same version exists in internal repository
riesling1 Windows Server 2019 Standard / x64  OK [ OK ] OK 

Summary

Package: TabulaMurisData
Version: 1.9.0
Command: chmod a+r TabulaMurisData -R && D:\biocbuild\bbs-3.13-bioc\R\bin\R.exe CMD build --keep-empty-dirs --no-resave-data TabulaMurisData
StartedAt: 2021-01-11 11:01:46 -0500 (Mon, 11 Jan 2021)
EndedAt: 2021-01-11 11:02:33 -0500 (Mon, 11 Jan 2021)
EllapsedTime: 46.5 seconds
RetCode: 0
Status:  OK  
PackageFile: TabulaMurisData_1.9.0.tar.gz
PackageFileSize: 222.1 KiB

Command output

##############################################################################
##############################################################################
###
### Running command:
###
###   chmod a+r TabulaMurisData -R && D:\biocbuild\bbs-3.13-bioc\R\bin\R.exe CMD build --keep-empty-dirs --no-resave-data TabulaMurisData
###
##############################################################################
##############################################################################


* checking for file 'TabulaMurisData/DESCRIPTION' ... OK
* preparing 'TabulaMurisData':
* checking DESCRIPTION meta-information ... OK
* installing the package to build vignettes
* creating vignettes ... OK
* checking for LF line-endings in source and make files and shell scripts
* checking for empty or unneeded directories
* building 'TabulaMurisData_1.9.0.tar.gz'