Back to Multiple platform build/check report for BioC 3.13 experimental data
ABCDEFGHIJKLMNOPQRS[T]UVWXYZ

INSTALL report for TMExplorer on riesling1

This page was generated on 2021-01-21 16:01:40 -0500 (Thu, 21 Jan 2021).

TO THE DEVELOPERS/MAINTAINERS OF THE TMExplorer PACKAGE: Please make sure to use the following settings in order to reproduce any error or warning you see on this page.
Package 370/386HostnameOS / ArchINSTALLBUILDCHECK
TMExplorer 1.1.1
Erik Christensen
Snapshot Date: 2021-01-21 09:00:14 -0500 (Thu, 21 Jan 2021)
URL: https://git.bioconductor.org/packages/TMExplorer
Branch: master
Last Commit: c8d7fc9
Last Changed Date: 2021-01-13 10:48:42 -0500 (Wed, 13 Jan 2021)
malbec2 Linux (Ubuntu 20.04.1 LTS) / x86_64  OK  OK  OK UNNEEDED, same version exists in internal repository
riesling1 Windows Server 2019 Standard / x64 [ OK ] OK  OK 

Summary

Package: TMExplorer
Version: 1.1.1
Command: C:\cygwin\bin\curl.exe -O http://172.29.0.4/BBS/3.13/data-experiment/src/contrib/TMExplorer_1.1.1.tar.gz && rm -rf TMExplorer.buildbin-libdir && mkdir TMExplorer.buildbin-libdir && D:\biocbuild\bbs-3.13-bioc\R\bin\R.exe CMD INSTALL --merge-multiarch --build --library=TMExplorer.buildbin-libdir TMExplorer_1.1.1.tar.gz && D:\biocbuild\bbs-3.13-bioc\R\bin\R.exe CMD INSTALL TMExplorer_1.1.1.zip && rm TMExplorer_1.1.1.tar.gz TMExplorer_1.1.1.zip
StartedAt: 2021-01-21 10:09:58 -0500 (Thu, 21 Jan 2021)
EndedAt: 2021-01-21 10:10:19 -0500 (Thu, 21 Jan 2021)
EllapsedTime: 21.4 seconds
RetCode: 0
Status:  OK  

Command output

##############################################################################
##############################################################################
###
### Running command:
###
###   C:\cygwin\bin\curl.exe -O http://172.29.0.4/BBS/3.13/data-experiment/src/contrib/TMExplorer_1.1.1.tar.gz && rm -rf TMExplorer.buildbin-libdir && mkdir TMExplorer.buildbin-libdir && D:\biocbuild\bbs-3.13-bioc\R\bin\R.exe CMD INSTALL --merge-multiarch --build --library=TMExplorer.buildbin-libdir TMExplorer_1.1.1.tar.gz && D:\biocbuild\bbs-3.13-bioc\R\bin\R.exe CMD INSTALL TMExplorer_1.1.1.zip && rm TMExplorer_1.1.1.tar.gz TMExplorer_1.1.1.zip
###
##############################################################################
##############################################################################


  % Total    % Received % Xferd  Average Speed   Time    Time     Time  Current
                                 Dload  Upload   Total   Spent    Left  Speed

  0     0    0     0    0     0      0      0 --:--:-- --:--:-- --:--:--     0
100  341k  100  341k    0     0  18.5M      0 --:--:-- --:--:-- --:--:-- 18.5M

install for i386

* installing *source* package 'TMExplorer' ...
** using staged installation
** R
** byte-compile and prepare package for lazy loading
** help
*** installing help indices
  converting help for package 'TMExplorer'
    finding HTML links ... done
    queryTME                                html  
REDIRECT:topic	 queryTME -> queryTME.html [ SUCCESS ]
    saveTME                                 html  
REDIRECT:topic	 saveTME -> saveTME.html [ SUCCESS ]
** building package indices
** installing vignettes
** testing if installed package can be loaded from temporary location
** testing if installed package can be loaded from final location
** testing if installed package keeps a record of temporary installation path

install for x64

* installing *source* package 'TMExplorer' ...
** testing if installed package can be loaded
* MD5 sums
packaged installation of 'TMExplorer' as TMExplorer_1.1.1.zip
* DONE (TMExplorer)
* installing to library 'D:/biocbuild/bbs-3.13-bioc/R/library'
package 'TMExplorer' successfully unpacked and MD5 sums checked