Back to Multiple platform build/check report for BioC 3.13 experimental data
ABCDEFGHIJKLMNOPQRS[T]UVWXYZ

BUILD report for TMExplorer on riesling1

This page was generated on 2021-01-21 16:01:40 -0500 (Thu, 21 Jan 2021).

TO THE DEVELOPERS/MAINTAINERS OF THE TMExplorer PACKAGE: Please make sure to use the following settings in order to reproduce any error or warning you see on this page.
Package 370/386HostnameOS / ArchINSTALLBUILDCHECK
TMExplorer 1.1.1
Erik Christensen
Snapshot Date: 2021-01-21 09:00:14 -0500 (Thu, 21 Jan 2021)
URL: https://git.bioconductor.org/packages/TMExplorer
Branch: master
Last Commit: c8d7fc9
Last Changed Date: 2021-01-13 10:48:42 -0500 (Wed, 13 Jan 2021)
malbec2 Linux (Ubuntu 20.04.1 LTS) / x86_64  OK  OK  OK UNNEEDED, same version exists in internal repository
riesling1 Windows Server 2019 Standard / x64  OK [ OK ] OK 

Summary

Package: TMExplorer
Version: 1.1.1
Command: chmod a+r TMExplorer -R && D:\biocbuild\bbs-3.13-bioc\R\bin\R.exe CMD build --keep-empty-dirs --no-resave-data TMExplorer
StartedAt: 2021-01-21 11:02:02 -0500 (Thu, 21 Jan 2021)
EndedAt: 2021-01-21 11:02:32 -0500 (Thu, 21 Jan 2021)
EllapsedTime: 30.3 seconds
RetCode: 0
Status:  OK  
PackageFile: TMExplorer_1.1.1.tar.gz
PackageFileSize: 234.1 KiB

Command output

##############################################################################
##############################################################################
###
### Running command:
###
###   chmod a+r TMExplorer -R && D:\biocbuild\bbs-3.13-bioc\R\bin\R.exe CMD build --keep-empty-dirs --no-resave-data TMExplorer
###
##############################################################################
##############################################################################


* checking for file 'TMExplorer/DESCRIPTION' ... OK
* preparing 'TMExplorer':
* checking DESCRIPTION meta-information ... OK
* installing the package to build vignettes
* creating vignettes ... OK
* checking for LF line-endings in source and make files and shell scripts
* checking for empty or unneeded directories
* looking to see if a 'data/datalist' file should be added
* building 'TMExplorer_1.1.1.tar.gz'