Back to Multiple platform build/check report for BioC 3.13 experimental data
ABCDEFGHIJKLMNOPQRS[T]UVWXYZ

CHECK report for TENxPBMCData on riesling1

This page was generated on 2021-01-14 15:59:12 -0500 (Thu, 14 Jan 2021).

TO THE DEVELOPERS/MAINTAINERS OF THE TENxPBMCData PACKAGE: Please make sure to use the following settings in order to reproduce any error or warning you see on this page.
Package 363/385HostnameOS / ArchINSTALLBUILDCHECK
TENxPBMCData 1.9.0
Stephanie Hicks
Snapshot Date: 2021-01-14 09:00:13 -0500 (Thu, 14 Jan 2021)
URL: https://git.bioconductor.org/packages/TENxPBMCData
Branch: master
Last Commit: 92fcf6a
Last Changed Date: 2020-10-27 10:27:24 -0500 (Tue, 27 Oct 2020)
malbec2 Linux (Ubuntu 20.04.1 LTS) / x86_64  OK  OK  OK UNNEEDED, same version exists in internal repository
riesling1 Windows Server 2019 Standard / x64  OK  OK [ OK ]

Summary

Package: TENxPBMCData
Version: 1.9.0
Command: D:\biocbuild\bbs-3.13-bioc\R\bin\R.exe CMD check --force-multiarch --install=check:TENxPBMCData.install-out.txt --library=D:\biocbuild\bbs-3.13-bioc\R\library --no-vignettes --timings TENxPBMCData_1.9.0.tar.gz
StartedAt: 2021-01-14 11:45:05 -0500 (Thu, 14 Jan 2021)
EndedAt: 2021-01-14 11:47:54 -0500 (Thu, 14 Jan 2021)
EllapsedTime: 169.3 seconds
RetCode: 0
Status:  OK  
CheckDir: TENxPBMCData.Rcheck
Warnings: 0

Command output

##############################################################################
##############################################################################
###
### Running command:
###
###   D:\biocbuild\bbs-3.13-bioc\R\bin\R.exe CMD check --force-multiarch --install=check:TENxPBMCData.install-out.txt --library=D:\biocbuild\bbs-3.13-bioc\R\library --no-vignettes --timings TENxPBMCData_1.9.0.tar.gz
###
##############################################################################
##############################################################################


* using log directory 'D:/biocbuild/bbs-3.13-data-experiment/meat/TENxPBMCData.Rcheck'
* using R Under development (unstable) (2020-12-30 r79736)
* using platform: x86_64-w64-mingw32 (64-bit)
* using session charset: ISO8859-1
* using option '--no-vignettes'
* checking for file 'TENxPBMCData/DESCRIPTION' ... OK
* this is package 'TENxPBMCData' version '1.9.0'
* checking package namespace information ... OK
* checking package dependencies ... OK
* checking if this is a source package ... OK
* checking if there is a namespace ... OK
* checking for hidden files and directories ... OK
* checking for portable file names ... OK
* checking whether package 'TENxPBMCData' can be installed ... OK
* checking installed package size ... OK
* checking package directory ... OK
* checking 'build' directory ... OK
* checking DESCRIPTION meta-information ... OK
* checking top-level files ... OK
* checking for left-over files ... OK
* checking index information ... OK
* checking package subdirectories ... OK
* checking R files for non-ASCII characters ... OK
* checking R files for syntax errors ... OK
* loading checks for arch 'i386'
** checking whether the package can be loaded ... OK
** checking whether the package can be loaded with stated dependencies ... OK
** checking whether the package can be unloaded cleanly ... OK
** checking whether the namespace can be loaded with stated dependencies ... OK
** checking whether the namespace can be unloaded cleanly ... OK
* loading checks for arch 'x64'
** checking whether the package can be loaded ... OK
** checking whether the package can be loaded with stated dependencies ... OK
** checking whether the package can be unloaded cleanly ... OK
** checking whether the namespace can be loaded with stated dependencies ... OK
** checking whether the namespace can be unloaded cleanly ... OK
* checking dependencies in R code ... OK
* checking S3 generic/method consistency ... OK
* checking replacement functions ... OK
* checking foreign function calls ... OK
* checking R code for possible problems ... OK
* checking Rd files ... OK
* checking Rd metadata ... OK
* checking Rd cross-references ... OK
* checking for missing documentation entries ... OK
* checking for code/documentation mismatches ... OK
* checking Rd \usage sections ... OK
* checking Rd contents ... OK
* checking for unstated dependencies in examples ... OK
* checking files in 'vignettes' ... OK
* checking examples ...
** running examples for arch 'i386' ... OK
Examples with CPU (user + system) or elapsed time > 5s
             user system elapsed
TENxPBMCData 9.21   1.62   12.11
** running examples for arch 'x64' ... OK
Examples with CPU (user + system) or elapsed time > 5s
              user system elapsed
TENxPBMCData 10.24   1.46    12.6
* checking for unstated dependencies in vignettes ... OK
* checking package vignettes in 'inst/doc' ... OK
* checking running R code from vignettes ... SKIPPED
* checking re-building of vignette outputs ... SKIPPED
* checking PDF version of manual ... OK
* DONE

Status: OK


Installation output

TENxPBMCData.Rcheck/00install.out

##############################################################################
##############################################################################
###
### Running command:
###
###   C:\cygwin\bin\curl.exe -O http://172.29.0.4/BBS/3.13/data-experiment/src/contrib/TENxPBMCData_1.9.0.tar.gz && rm -rf TENxPBMCData.buildbin-libdir && mkdir TENxPBMCData.buildbin-libdir && D:\biocbuild\bbs-3.13-bioc\R\bin\R.exe CMD INSTALL --merge-multiarch --build --library=TENxPBMCData.buildbin-libdir TENxPBMCData_1.9.0.tar.gz && D:\biocbuild\bbs-3.13-bioc\R\bin\R.exe CMD INSTALL TENxPBMCData_1.9.0.zip && rm TENxPBMCData_1.9.0.tar.gz TENxPBMCData_1.9.0.zip
###
##############################################################################
##############################################################################


  % Total    % Received % Xferd  Average Speed   Time    Time     Time  Current
                                 Dload  Upload   Total   Spent    Left  Speed

  0     0    0     0    0     0      0      0 --:--:-- --:--:-- --:--:--     0
100  7399  100  7399    0     0   9596      0 --:--:-- --:--:-- --:--:--  9596

install for i386

* installing *source* package 'TENxPBMCData' ...
** using staged installation
** R
** inst
** byte-compile and prepare package for lazy loading
** help
*** installing help indices
  converting help for package 'TENxPBMCData'
    finding HTML links ... done
    TENxPBMCData                            html  
REDIRECT:topic	 TENxPBMCData -> TENxPBMCData.html [ SUCCESS ]
** building package indices
** installing vignettes
** testing if installed package can be loaded from temporary location
** testing if installed package can be loaded from final location
** testing if installed package keeps a record of temporary installation path

install for x64

* installing *source* package 'TENxPBMCData' ...
** testing if installed package can be loaded
* MD5 sums
packaged installation of 'TENxPBMCData' as TENxPBMCData_1.9.0.zip
* DONE (TENxPBMCData)
* installing to library 'D:/biocbuild/bbs-3.13-bioc/R/library'
package 'TENxPBMCData' successfully unpacked and MD5 sums checked

Tests output


Example timings

TENxPBMCData.Rcheck/examples_i386/TENxPBMCData-Ex.timings

nameusersystemelapsed
TENxPBMCData 9.21 1.6212.11

TENxPBMCData.Rcheck/examples_x64/TENxPBMCData-Ex.timings

nameusersystemelapsed
TENxPBMCData10.24 1.4612.60