Back to Multiple platform build/check report for BioC 3.13 experimental data
ABCDEFGHIJKLMNOPQRS[T]UVWXYZ

INSTALL report for TENxBrainData on riesling1

This page was generated on 2021-01-14 15:59:12 -0500 (Thu, 14 Jan 2021).

TO THE DEVELOPERS/MAINTAINERS OF THE TENxBrainData PACKAGE: Please make sure to use the following settings in order to reproduce any error or warning you see on this page.
Package 361/385HostnameOS / ArchINSTALLBUILDCHECK
TENxBrainData 1.11.0
Bioconductor Package Maintainer
Snapshot Date: 2021-01-14 09:00:13 -0500 (Thu, 14 Jan 2021)
URL: https://git.bioconductor.org/packages/TENxBrainData
Branch: master
Last Commit: e886adc
Last Changed Date: 2020-10-27 10:25:48 -0500 (Tue, 27 Oct 2020)
malbec2 Linux (Ubuntu 20.04.1 LTS) / x86_64  OK  OK  OK UNNEEDED, same version exists in internal repository
riesling1 Windows Server 2019 Standard / x64 [ OK ] OK  OK 

Summary

Package: TENxBrainData
Version: 1.11.0
Command: C:\cygwin\bin\curl.exe -O http://172.29.0.4/BBS/3.13/data-experiment/src/contrib/TENxBrainData_1.11.0.tar.gz && rm -rf TENxBrainData.buildbin-libdir && mkdir TENxBrainData.buildbin-libdir && D:\biocbuild\bbs-3.13-bioc\R\bin\R.exe CMD INSTALL --merge-multiarch --build --library=TENxBrainData.buildbin-libdir TENxBrainData_1.11.0.tar.gz && D:\biocbuild\bbs-3.13-bioc\R\bin\R.exe CMD INSTALL TENxBrainData_1.11.0.zip && rm TENxBrainData_1.11.0.tar.gz TENxBrainData_1.11.0.zip
StartedAt: 2021-01-14 10:09:52 -0500 (Thu, 14 Jan 2021)
EndedAt: 2021-01-14 10:10:16 -0500 (Thu, 14 Jan 2021)
EllapsedTime: 24.1 seconds
RetCode: 0
Status:  OK  

Command output

##############################################################################
##############################################################################
###
### Running command:
###
###   C:\cygwin\bin\curl.exe -O http://172.29.0.4/BBS/3.13/data-experiment/src/contrib/TENxBrainData_1.11.0.tar.gz && rm -rf TENxBrainData.buildbin-libdir && mkdir TENxBrainData.buildbin-libdir && D:\biocbuild\bbs-3.13-bioc\R\bin\R.exe CMD INSTALL --merge-multiarch --build --library=TENxBrainData.buildbin-libdir TENxBrainData_1.11.0.tar.gz && D:\biocbuild\bbs-3.13-bioc\R\bin\R.exe CMD INSTALL TENxBrainData_1.11.0.zip && rm TENxBrainData_1.11.0.tar.gz TENxBrainData_1.11.0.zip
###
##############################################################################
##############################################################################


  % Total    % Received % Xferd  Average Speed   Time    Time     Time  Current
                                 Dload  Upload   Total   Spent    Left  Speed

  0     0    0     0    0     0      0      0 --:--:-- --:--:-- --:--:--     0
100  7685  100  7685    0     0   100k      0 --:--:-- --:--:-- --:--:--  100k

install for i386

Warning in untar2(tarfile, files, list, exdir, restore_times) :
  restoring symbolic link as a file copy
* installing *source* package 'TENxBrainData' ...
** using staged installation
** R
** inst
** byte-compile and prepare package for lazy loading
** help
*** installing help indices
  converting help for package 'TENxBrainData'
    finding HTML links ... done
    TENxBrainData                           html  
REDIRECT:topic	 TENxBrainData -> TENxBrainData.html [ SUCCESS ]
REDIRECT:topic	 TENxBrainData20k -> TENxBrainData.html [ SUCCESS ]
** building package indices
** installing vignettes
** testing if installed package can be loaded from temporary location
** testing if installed package can be loaded from final location
** testing if installed package keeps a record of temporary installation path

install for x64

Warning in untar2(tarfile, files, list, exdir, restore_times) :
  restoring symbolic link as a file copy
* installing *source* package 'TENxBrainData' ...
** testing if installed package can be loaded
* MD5 sums
packaged installation of 'TENxBrainData' as TENxBrainData_1.11.0.zip
* DONE (TENxBrainData)
* installing to library 'D:/biocbuild/bbs-3.13-bioc/R/library'
package 'TENxBrainData' successfully unpacked and MD5 sums checked