Back to Multiple platform build/check report for BioC 3.13 experimental data
ABCDEFGHIJKLMNOPQRS[T]UVWXYZ

INSTALL report for TCGAcrcmiRNA on riesling1

This page was generated on 2021-01-14 15:59:12 -0500 (Thu, 14 Jan 2021).

TO THE DEVELOPERS/MAINTAINERS OF THE TCGAcrcmiRNA PACKAGE: Please make sure to use the following settings in order to reproduce any error or warning you see on this page.
Package 356/385HostnameOS / ArchINSTALLBUILDCHECK
TCGAcrcmiRNA 1.11.0
Claudio Isella
Snapshot Date: 2021-01-14 09:00:13 -0500 (Thu, 14 Jan 2021)
URL: https://git.bioconductor.org/packages/TCGAcrcmiRNA
Branch: master
Last Commit: d051bf6
Last Changed Date: 2020-10-27 10:09:55 -0500 (Tue, 27 Oct 2020)
malbec2 Linux (Ubuntu 20.04.1 LTS) / x86_64  OK  OK  OK UNNEEDED, same version exists in internal repository
riesling1 Windows Server 2019 Standard / x64 [ OK ] OK  OK 

Summary

Package: TCGAcrcmiRNA
Version: 1.11.0
Command: C:\cygwin\bin\curl.exe -O http://172.29.0.4/BBS/3.13/data-experiment/src/contrib/TCGAcrcmiRNA_1.11.0.tar.gz && rm -rf TCGAcrcmiRNA.buildbin-libdir && mkdir TCGAcrcmiRNA.buildbin-libdir && D:\biocbuild\bbs-3.13-bioc\R\bin\R.exe CMD INSTALL --merge-multiarch --build --library=TCGAcrcmiRNA.buildbin-libdir TCGAcrcmiRNA_1.11.0.tar.gz && D:\biocbuild\bbs-3.13-bioc\R\bin\R.exe CMD INSTALL TCGAcrcmiRNA_1.11.0.zip && rm TCGAcrcmiRNA_1.11.0.tar.gz TCGAcrcmiRNA_1.11.0.zip
StartedAt: 2021-01-14 10:02:53 -0500 (Thu, 14 Jan 2021)
EndedAt: 2021-01-14 10:02:59 -0500 (Thu, 14 Jan 2021)
EllapsedTime: 5.6 seconds
RetCode: 0
Status:  OK  

Command output

##############################################################################
##############################################################################
###
### Running command:
###
###   C:\cygwin\bin\curl.exe -O http://172.29.0.4/BBS/3.13/data-experiment/src/contrib/TCGAcrcmiRNA_1.11.0.tar.gz && rm -rf TCGAcrcmiRNA.buildbin-libdir && mkdir TCGAcrcmiRNA.buildbin-libdir && D:\biocbuild\bbs-3.13-bioc\R\bin\R.exe CMD INSTALL --merge-multiarch --build --library=TCGAcrcmiRNA.buildbin-libdir TCGAcrcmiRNA_1.11.0.tar.gz && D:\biocbuild\bbs-3.13-bioc\R\bin\R.exe CMD INSTALL TCGAcrcmiRNA_1.11.0.zip && rm TCGAcrcmiRNA_1.11.0.tar.gz TCGAcrcmiRNA_1.11.0.zip
###
##############################################################################
##############################################################################


  % Total    % Received % Xferd  Average Speed   Time    Time     Time  Current
                                 Dload  Upload   Total   Spent    Left  Speed

  0     0    0     0    0     0      0      0 --:--:-- --:--:-- --:--:--     0
100  812k  100  812k    0     0  88.1M      0 --:--:-- --:--:-- --:--:-- 99.1M

install for i386

* installing *source* package 'TCGAcrcmiRNA' ...
** using staged installation
** R
** data
** byte-compile and prepare package for lazy loading
** help
*** installing help indices
  converting help for package 'TCGAcrcmiRNA'
    finding HTML links ... done
    TCGAmirna                               html  
REDIRECT:topic	 TCGAmirna -> TCGAmirna.html [ SUCCESS ]
** building package indices
** installing vignettes
** testing if installed package can be loaded from temporary location
** testing if installed package can be loaded from final location
** testing if installed package keeps a record of temporary installation path

install for x64

* installing *source* package 'TCGAcrcmiRNA' ...
** testing if installed package can be loaded
* MD5 sums
packaged installation of 'TCGAcrcmiRNA' as TCGAcrcmiRNA_1.11.0.zip
* DONE (TCGAcrcmiRNA)
* installing to library 'D:/biocbuild/bbs-3.13-bioc/R/library'
package 'TCGAcrcmiRNA' successfully unpacked and MD5 sums checked