Back to Multiple platform build/check report for BioC 3.13 experimental data
ABCDEFGHIJKLMNOPQRS[T]UVWXYZ

INSTALL report for TCGAcrcmRNA on riesling1

This page was generated on 2021-01-14 15:59:12 -0500 (Thu, 14 Jan 2021).

TO THE DEVELOPERS/MAINTAINERS OF THE TCGAcrcmRNA PACKAGE: Please make sure to use the following settings in order to reproduce any error or warning you see on this page.
Package 357/385HostnameOS / ArchINSTALLBUILDCHECK
TCGAcrcmRNA 1.11.0
Claudio Isella
Snapshot Date: 2021-01-14 09:00:13 -0500 (Thu, 14 Jan 2021)
URL: https://git.bioconductor.org/packages/TCGAcrcmRNA
Branch: master
Last Commit: 0e340e9
Last Changed Date: 2020-10-27 10:09:59 -0500 (Tue, 27 Oct 2020)
malbec2 Linux (Ubuntu 20.04.1 LTS) / x86_64  OK  OK  OK UNNEEDED, same version exists in internal repository
riesling1 Windows Server 2019 Standard / x64 [ OK ] OK  OK 

Summary

Package: TCGAcrcmRNA
Version: 1.11.0
Command: C:\cygwin\bin\curl.exe -O http://172.29.0.4/BBS/3.13/data-experiment/src/contrib/TCGAcrcmRNA_1.11.0.tar.gz && rm -rf TCGAcrcmRNA.buildbin-libdir && mkdir TCGAcrcmRNA.buildbin-libdir && D:\biocbuild\bbs-3.13-bioc\R\bin\R.exe CMD INSTALL --merge-multiarch --build --library=TCGAcrcmRNA.buildbin-libdir TCGAcrcmRNA_1.11.0.tar.gz && D:\biocbuild\bbs-3.13-bioc\R\bin\R.exe CMD INSTALL TCGAcrcmRNA_1.11.0.zip && rm TCGAcrcmRNA_1.11.0.tar.gz TCGAcrcmRNA_1.11.0.zip
StartedAt: 2021-01-14 10:03:12 -0500 (Thu, 14 Jan 2021)
EndedAt: 2021-01-14 10:03:26 -0500 (Thu, 14 Jan 2021)
EllapsedTime: 13.3 seconds
RetCode: 0
Status:  OK  

Command output

##############################################################################
##############################################################################
###
### Running command:
###
###   C:\cygwin\bin\curl.exe -O http://172.29.0.4/BBS/3.13/data-experiment/src/contrib/TCGAcrcmRNA_1.11.0.tar.gz && rm -rf TCGAcrcmRNA.buildbin-libdir && mkdir TCGAcrcmRNA.buildbin-libdir && D:\biocbuild\bbs-3.13-bioc\R\bin\R.exe CMD INSTALL --merge-multiarch --build --library=TCGAcrcmRNA.buildbin-libdir TCGAcrcmRNA_1.11.0.tar.gz && D:\biocbuild\bbs-3.13-bioc\R\bin\R.exe CMD INSTALL TCGAcrcmRNA_1.11.0.zip && rm TCGAcrcmRNA_1.11.0.tar.gz TCGAcrcmRNA_1.11.0.zip
###
##############################################################################
##############################################################################


  % Total    % Received % Xferd  Average Speed   Time    Time     Time  Current
                                 Dload  Upload   Total   Spent    Left  Speed

  0     0    0     0    0     0      0      0 --:--:-- --:--:-- --:--:--     0
100 35.1M  100 35.1M    0     0   103M      0 --:--:-- --:--:-- --:--:--  103M

install for i386

* installing *source* package 'TCGAcrcmRNA' ...
** using staged installation
** data
** help
*** installing help indices
  converting help for package 'TCGAcrcmRNA'
    finding HTML links ... done
    TCGAmrna                                html  
REDIRECT:topic	 TCGAmrna -> TCGAmrna.html [ SUCCESS ]
** building package indices
** installing vignettes
** testing if installed package can be loaded from temporary location
** testing if installed package can be loaded from final location
** testing if installed package keeps a record of temporary installation path

install for x64

* installing *source* package 'TCGAcrcmRNA' ...
** testing if installed package can be loaded
* MD5 sums
packaged installation of 'TCGAcrcmRNA' as TCGAcrcmRNA_1.11.0.zip
* DONE (TCGAcrcmRNA)
* installing to library 'D:/biocbuild/bbs-3.13-bioc/R/library'
package 'TCGAcrcmRNA' successfully unpacked and MD5 sums checked