Back to Multiple platform build/check report for BioC 3.13 experimental data
ABCDEFGHIJKLMNOPQRS[T]UVWXYZ

BUILD report for TCGAWorkflowData on riesling1

This page was generated on 2021-01-18 15:58:52 -0500 (Mon, 18 Jan 2021).

TO THE DEVELOPERS/MAINTAINERS OF THE TCGAWorkflowData PACKAGE: Please make sure to use the following settings in order to reproduce any error or warning you see on this page.
Package 360/385HostnameOS / ArchINSTALLBUILDCHECK
TCGAWorkflowData 1.15.0
Tiago Chedraoui Silva
Snapshot Date: 2021-01-18 09:00:15 -0500 (Mon, 18 Jan 2021)
URL: https://git.bioconductor.org/packages/TCGAWorkflowData
Branch: master
Last Commit: c1b3065
Last Changed Date: 2020-10-27 10:22:55 -0500 (Tue, 27 Oct 2020)
malbec2 Linux (Ubuntu 20.04.1 LTS) / x86_64  OK  OK  WARNINGS UNNEEDED, same version exists in internal repository
riesling1 Windows Server 2019 Standard / x64  OK [ OK ] WARNINGS 

Summary

Package: TCGAWorkflowData
Version: 1.15.0
Command: chmod a+r TCGAWorkflowData -R && D:\biocbuild\bbs-3.13-bioc\R\bin\R.exe CMD build --keep-empty-dirs --no-resave-data TCGAWorkflowData
StartedAt: 2021-01-18 11:00:47 -0500 (Mon, 18 Jan 2021)
EndedAt: 2021-01-18 11:02:40 -0500 (Mon, 18 Jan 2021)
EllapsedTime: 112.7 seconds
RetCode: 0
Status:  OK  
PackageFile: TCGAWorkflowData_1.15.0.tar.gz
PackageFileSize: 77.52 MiB

Command output

##############################################################################
##############################################################################
###
### Running command:
###
###   chmod a+r TCGAWorkflowData -R && D:\biocbuild\bbs-3.13-bioc\R\bin\R.exe CMD build --keep-empty-dirs --no-resave-data TCGAWorkflowData
###
##############################################################################
##############################################################################


* checking for file 'TCGAWorkflowData/DESCRIPTION' ... OK
* preparing 'TCGAWorkflowData':
* checking DESCRIPTION meta-information ... OK
* installing the package to build vignettes
* creating vignettes ... OK
* checking for LF line-endings in source and make files and shell scripts
* checking for empty or unneeded directories
* looking to see if a 'data/datalist' file should be added
  NB: this package now depends on R (>= 3.5.0)
  WARNING: Added dependency on R >= 3.5.0 because serialized objects in
  serialize/load version 3 cannot be read in older versions of R.
  File(s) containing such objects:
    'TCGAWorkflowData/data/CNV.hg19.bypos.111213.rda'
* building 'TCGAWorkflowData_1.15.0.tar.gz'