Back to Multiple platform build/check report for BioC 3.13 experimental data
ABCDEFGHIJKLMNOPQRS[T]UVWXYZ

INSTALL report for TCGAMethylation450k on riesling1

This page was generated on 2021-01-14 15:59:12 -0500 (Thu, 14 Jan 2021).

TO THE DEVELOPERS/MAINTAINERS OF THE TCGAMethylation450k PACKAGE: Please make sure to use the following settings in order to reproduce any error or warning you see on this page.
Package 358/385HostnameOS / ArchINSTALLBUILDCHECK
TCGAMethylation450k 1.27.0
Sean Davis
Snapshot Date: 2021-01-14 09:00:13 -0500 (Thu, 14 Jan 2021)
URL: https://git.bioconductor.org/packages/TCGAMethylation450k
Branch: master
Last Commit: b8f352a
Last Changed Date: 2020-10-27 09:54:00 -0500 (Tue, 27 Oct 2020)
malbec2 Linux (Ubuntu 20.04.1 LTS) / x86_64  OK  OK  OK UNNEEDED, same version exists in internal repository
riesling1 Windows Server 2019 Standard / x64 [ OK ] OK  OK 

Summary

Package: TCGAMethylation450k
Version: 1.27.0
Command: C:\cygwin\bin\curl.exe -O http://172.29.0.4/BBS/3.13/data-experiment/src/contrib/TCGAMethylation450k_1.27.0.tar.gz && rm -rf TCGAMethylation450k.buildbin-libdir && mkdir TCGAMethylation450k.buildbin-libdir && D:\biocbuild\bbs-3.13-bioc\R\bin\R.exe CMD INSTALL --merge-multiarch --build --library=TCGAMethylation450k.buildbin-libdir TCGAMethylation450k_1.27.0.tar.gz && D:\biocbuild\bbs-3.13-bioc\R\bin\R.exe CMD INSTALL TCGAMethylation450k_1.27.0.zip && rm TCGAMethylation450k_1.27.0.tar.gz TCGAMethylation450k_1.27.0.zip
StartedAt: 2021-01-14 09:49:15 -0500 (Thu, 14 Jan 2021)
EndedAt: 2021-01-14 09:49:48 -0500 (Thu, 14 Jan 2021)
EllapsedTime: 33.1 seconds
RetCode: 0
Status:  OK  

Command output

##############################################################################
##############################################################################
###
### Running command:
###
###   C:\cygwin\bin\curl.exe -O http://172.29.0.4/BBS/3.13/data-experiment/src/contrib/TCGAMethylation450k_1.27.0.tar.gz && rm -rf TCGAMethylation450k.buildbin-libdir && mkdir TCGAMethylation450k.buildbin-libdir && D:\biocbuild\bbs-3.13-bioc\R\bin\R.exe CMD INSTALL --merge-multiarch --build --library=TCGAMethylation450k.buildbin-libdir TCGAMethylation450k_1.27.0.tar.gz && D:\biocbuild\bbs-3.13-bioc\R\bin\R.exe CMD INSTALL TCGAMethylation450k_1.27.0.zip && rm TCGAMethylation450k_1.27.0.tar.gz TCGAMethylation450k_1.27.0.zip
###
##############################################################################
##############################################################################


  % Total    % Received % Xferd  Average Speed   Time    Time     Time  Current
                                 Dload  Upload   Total   Spent    Left  Speed

  0     0    0     0    0     0      0      0 --:--:-- --:--:-- --:--:--     0
  0 81.0M    0  1213    0     0   2915      0  8:05:43 --:--:--  8:05:43  2908
 43 81.0M   43 34.9M    0     0  24.1M      0  0:00:03  0:00:01  0:00:02 24.1M
 94 81.0M   94 76.8M    0     0  32.3M      0  0:00:02  0:00:02 --:--:-- 32.3M
 96 81.0M   96 77.8M    0     0  22.5M      0  0:00:03  0:00:03 --:--:-- 22.5M
100 81.0M  100 81.0M    0     0  23.2M      0  0:00:03  0:00:03 --:--:-- 23.2M

install for i386

* installing *source* package 'TCGAMethylation450k' ...
** using staged installation
** inst
** help
*** installing help indices
  converting help for package 'TCGAMethylation450k'
    finding HTML links ... done
    TCGAMethylation450k-package             html  
REDIRECT:topic	 TCGAMethylation450k-package -> TCGAMethylation450k-package.html [ SUCCESS ]
REDIRECT:topic	 TCGAMethylation450k -> TCGAMethylation450k-package.html [ SUCCESS ]
** building package indices
** testing if installed package can be loaded from temporary location
** testing if installed package can be loaded from final location
** testing if installed package keeps a record of temporary installation path

install for x64

* installing *source* package 'TCGAMethylation450k' ...
** testing if installed package can be loaded
* MD5 sums
packaged installation of 'TCGAMethylation450k' as TCGAMethylation450k_1.27.0.zip
* DONE (TCGAMethylation450k)
* installing to library 'D:/biocbuild/bbs-3.13-bioc/R/library'
package 'TCGAMethylation450k' successfully unpacked and MD5 sums checked