Back to Multiple platform build/check report for BioC 3.13 experimental data
ABCDEFGHIJKLMNOPQRS[T]UVWXYZ

INSTALL report for TBX20BamSubset on riesling1

This page was generated on 2021-01-21 16:01:40 -0500 (Thu, 21 Jan 2021).

TO THE DEVELOPERS/MAINTAINERS OF THE TBX20BamSubset PACKAGE: Please make sure to use the following settings in order to reproduce any error or warning you see on this page.
Package 355/386HostnameOS / ArchINSTALLBUILDCHECK
TBX20BamSubset 1.27.0
D. Bindreither
Snapshot Date: 2021-01-21 09:00:14 -0500 (Thu, 21 Jan 2021)
URL: https://git.bioconductor.org/packages/TBX20BamSubset
Branch: master
Last Commit: 33bf3b9
Last Changed Date: 2020-10-27 09:56:21 -0500 (Tue, 27 Oct 2020)
malbec2 Linux (Ubuntu 20.04.1 LTS) / x86_64  OK  OK  OK UNNEEDED, same version exists in internal repository
riesling1 Windows Server 2019 Standard / x64 [ OK ] OK  OK 

Summary

Package: TBX20BamSubset
Version: 1.27.0
Command: C:\cygwin\bin\curl.exe -O http://172.29.0.4/BBS/3.13/data-experiment/src/contrib/TBX20BamSubset_1.27.0.tar.gz && rm -rf TBX20BamSubset.buildbin-libdir && mkdir TBX20BamSubset.buildbin-libdir && D:\biocbuild\bbs-3.13-bioc\R\bin\R.exe CMD INSTALL --merge-multiarch --build --library=TBX20BamSubset.buildbin-libdir TBX20BamSubset_1.27.0.tar.gz && D:\biocbuild\bbs-3.13-bioc\R\bin\R.exe CMD INSTALL TBX20BamSubset_1.27.0.zip && rm TBX20BamSubset_1.27.0.tar.gz TBX20BamSubset_1.27.0.zip
StartedAt: 2021-01-21 10:09:27 -0500 (Thu, 21 Jan 2021)
EndedAt: 2021-01-21 10:09:53 -0500 (Thu, 21 Jan 2021)
EllapsedTime: 26.1 seconds
RetCode: 0
Status:  OK  

Command output

##############################################################################
##############################################################################
###
### Running command:
###
###   C:\cygwin\bin\curl.exe -O http://172.29.0.4/BBS/3.13/data-experiment/src/contrib/TBX20BamSubset_1.27.0.tar.gz && rm -rf TBX20BamSubset.buildbin-libdir && mkdir TBX20BamSubset.buildbin-libdir && D:\biocbuild\bbs-3.13-bioc\R\bin\R.exe CMD INSTALL --merge-multiarch --build --library=TBX20BamSubset.buildbin-libdir TBX20BamSubset_1.27.0.tar.gz && D:\biocbuild\bbs-3.13-bioc\R\bin\R.exe CMD INSTALL TBX20BamSubset_1.27.0.zip && rm TBX20BamSubset_1.27.0.tar.gz TBX20BamSubset_1.27.0.zip
###
##############################################################################
##############################################################################


  % Total    % Received % Xferd  Average Speed   Time    Time     Time  Current
                                 Dload  Upload   Total   Spent    Left  Speed

  0     0    0     0    0     0      0      0 --:--:-- --:--:-- --:--:--     0
 37 94.5M   37 35.7M    0     0   105M      0 --:--:-- --:--:-- --:--:--  104M
100 94.5M  100 94.5M    0     0  70.8M      0  0:00:01  0:00:01 --:--:-- 70.8M

install for i386

* installing *source* package 'TBX20BamSubset' ...
** using staged installation
** R
** inst
** byte-compile and prepare package for lazy loading
** help
*** installing help indices
  converting help for package 'TBX20BamSubset'
    finding HTML links ... done
    TBX20BamSubset-package                  html  
REDIRECT:topic	 TBX20BamSubset-package -> TBX20BamSubset-package.html [ SUCCESS ]
REDIRECT:topic	 TBX20BamSubset -> TBX20BamSubset-package.html [ SUCCESS ]
    getBamFileList                          html  
REDIRECT:topic	 getBamFileList -> getBamFileList.html [ SUCCESS ]
** building package indices
** installing vignettes
** testing if installed package can be loaded from temporary location
** testing if installed package can be loaded from final location
** testing if installed package keeps a record of temporary installation path

install for x64

* installing *source* package 'TBX20BamSubset' ...
** testing if installed package can be loaded
* MD5 sums
packaged installation of 'TBX20BamSubset' as TBX20BamSubset_1.27.0.zip
* DONE (TBX20BamSubset)
* installing to library 'D:/biocbuild/bbs-3.13-bioc/R/library'
package 'TBX20BamSubset' successfully unpacked and MD5 sums checked