Back to Multiple platform build/check report for BioC 3.13 experimental data
ABCDEFGHIJKLMNOPQR[S]TUVWXYZ

INSTALL report for SpikeInSubset on riesling1

This page was generated on 2021-01-21 16:01:39 -0500 (Thu, 21 Jan 2021).

TO THE DEVELOPERS/MAINTAINERS OF THE SpikeInSubset PACKAGE: Please make sure to use the following settings in order to reproduce any error or warning you see on this page.
Package 344/386HostnameOS / ArchINSTALLBUILDCHECK
SpikeInSubset 1.31.0
Rafael A. Irizarry
Snapshot Date: 2021-01-21 09:00:14 -0500 (Thu, 21 Jan 2021)
URL: https://git.bioconductor.org/packages/SpikeInSubset
Branch: master
Last Commit: a23e23d
Last Changed Date: 2020-10-27 09:47:05 -0500 (Tue, 27 Oct 2020)
malbec2 Linux (Ubuntu 20.04.1 LTS) / x86_64  OK  OK  WARNINGS UNNEEDED, same version exists in internal repository
riesling1 Windows Server 2019 Standard / x64 [ OK ] OK  WARNINGS 

Summary

Package: SpikeInSubset
Version: 1.31.0
Command: C:\cygwin\bin\curl.exe -O http://172.29.0.4/BBS/3.13/data-experiment/src/contrib/SpikeInSubset_1.31.0.tar.gz && rm -rf SpikeInSubset.buildbin-libdir && mkdir SpikeInSubset.buildbin-libdir && D:\biocbuild\bbs-3.13-bioc\R\bin\R.exe CMD INSTALL --merge-multiarch --build --library=SpikeInSubset.buildbin-libdir SpikeInSubset_1.31.0.tar.gz && D:\biocbuild\bbs-3.13-bioc\R\bin\R.exe CMD INSTALL SpikeInSubset_1.31.0.zip && rm SpikeInSubset_1.31.0.tar.gz SpikeInSubset_1.31.0.zip
StartedAt: 2021-01-21 10:04:37 -0500 (Thu, 21 Jan 2021)
EndedAt: 2021-01-21 10:04:46 -0500 (Thu, 21 Jan 2021)
EllapsedTime: 9.4 seconds
RetCode: 0
Status:  OK  

Command output

##############################################################################
##############################################################################
###
### Running command:
###
###   C:\cygwin\bin\curl.exe -O http://172.29.0.4/BBS/3.13/data-experiment/src/contrib/SpikeInSubset_1.31.0.tar.gz && rm -rf SpikeInSubset.buildbin-libdir && mkdir SpikeInSubset.buildbin-libdir && D:\biocbuild\bbs-3.13-bioc\R\bin\R.exe CMD INSTALL --merge-multiarch --build --library=SpikeInSubset.buildbin-libdir SpikeInSubset_1.31.0.tar.gz && D:\biocbuild\bbs-3.13-bioc\R\bin\R.exe CMD INSTALL SpikeInSubset_1.31.0.zip && rm SpikeInSubset_1.31.0.tar.gz SpikeInSubset_1.31.0.zip
###
##############################################################################
##############################################################################


  % Total    % Received % Xferd  Average Speed   Time    Time     Time  Current
                                 Dload  Upload   Total   Spent    Left  Speed

  0     0    0     0    0     0      0      0 --:--:-- --:--:-- --:--:--     0
100 17.9M  100 17.9M    0     0  33.5M      0 --:--:-- --:--:-- --:--:-- 33.5M

install for i386

* installing *source* package 'SpikeInSubset' ...
** using staged installation
** R
** data
** byte-compile and prepare package for lazy loading
** help
Warning: D:/biocbuild/bbs-3.13-data-experiment/tmpdir/RtmpiifJ9X/R.INSTALL1c4a44d4d7d3b/SpikeInSubset/man/xhyb.Rd: docType 'instance' is unrecognized
*** installing help indices
  converting help for package 'SpikeInSubset'
    finding HTML links ... done
    SpikeIn                                 html  
REDIRECT:topic	 spikein133 -> SpikeIn.html [ SUCCESS ]
REDIRECT:topic	 rma133 -> SpikeIn.html [ SUCCESS ]
REDIRECT:topic	 mas133 -> SpikeIn.html [ SUCCESS ]
REDIRECT:topic	 pacalls133 -> SpikeIn.html [ SUCCESS ]
REDIRECT:topic	 spikein95 -> SpikeIn.html [ SUCCESS ]
REDIRECT:topic	 rma95 -> SpikeIn.html [ SUCCESS ]
REDIRECT:topic	 mas95 -> SpikeIn.html [ SUCCESS ]
REDIRECT:topic	 pacalls95 -> SpikeIn.html [ SUCCESS ]
REDIRECT:file	 SpikeIn.html -> SpikeIn.html [ SUCCESS ]
    xhyb                                    html  
REDIRECT:topic	 hgu133a.spikein.xhyb -> xhyb.html [ SUCCESS ]
REDIRECT:file	 xhyb.html -> xhyb.html [ SUCCESS ]
** building package indices
** testing if installed package can be loaded from temporary location
** testing if installed package can be loaded from final location
** testing if installed package keeps a record of temporary installation path

install for x64

* installing *source* package 'SpikeInSubset' ...
** testing if installed package can be loaded
* MD5 sums
packaged installation of 'SpikeInSubset' as SpikeInSubset_1.31.0.zip
* DONE (SpikeInSubset)
* installing to library 'D:/biocbuild/bbs-3.13-bioc/R/library'
package 'SpikeInSubset' successfully unpacked and MD5 sums checked