Back to Multiple platform build/check report for BioC 3.13 experimental data
ABCDEFGHIJKLMNOPQR[S]TUVWXYZ

INSTALL report for SpikeIn on riesling1

This page was generated on 2021-01-21 16:01:39 -0500 (Thu, 21 Jan 2021).

TO THE DEVELOPERS/MAINTAINERS OF THE SpikeIn PACKAGE: Please make sure to use the following settings in order to reproduce any error or warning you see on this page.
Package 343/386HostnameOS / ArchINSTALLBUILDCHECK
SpikeIn 1.33.0
Rafael A. Irizarry
Snapshot Date: 2021-01-21 09:00:14 -0500 (Thu, 21 Jan 2021)
URL: https://git.bioconductor.org/packages/SpikeIn
Branch: master
Last Commit: 4e1a8c0
Last Changed Date: 2020-10-27 09:47:01 -0500 (Tue, 27 Oct 2020)
malbec2 Linux (Ubuntu 20.04.1 LTS) / x86_64  OK  OK  WARNINGS UNNEEDED, same version exists in internal repository
riesling1 Windows Server 2019 Standard / x64 [ OK ] OK  WARNINGS 

Summary

Package: SpikeIn
Version: 1.33.0
Command: C:\cygwin\bin\curl.exe -O http://172.29.0.4/BBS/3.13/data-experiment/src/contrib/SpikeIn_1.33.0.tar.gz && rm -rf SpikeIn.buildbin-libdir && mkdir SpikeIn.buildbin-libdir && D:\biocbuild\bbs-3.13-bioc\R\bin\R.exe CMD INSTALL --merge-multiarch --build --library=SpikeIn.buildbin-libdir SpikeIn_1.33.0.tar.gz && D:\biocbuild\bbs-3.13-bioc\R\bin\R.exe CMD INSTALL SpikeIn_1.33.0.zip && rm SpikeIn_1.33.0.tar.gz SpikeIn_1.33.0.zip
StartedAt: 2021-01-21 10:04:32 -0500 (Thu, 21 Jan 2021)
EndedAt: 2021-01-21 10:05:46 -0500 (Thu, 21 Jan 2021)
EllapsedTime: 74.1 seconds
RetCode: 0
Status:  OK  

Command output

##############################################################################
##############################################################################
###
### Running command:
###
###   C:\cygwin\bin\curl.exe -O http://172.29.0.4/BBS/3.13/data-experiment/src/contrib/SpikeIn_1.33.0.tar.gz && rm -rf SpikeIn.buildbin-libdir && mkdir SpikeIn.buildbin-libdir && D:\biocbuild\bbs-3.13-bioc\R\bin\R.exe CMD INSTALL --merge-multiarch --build --library=SpikeIn.buildbin-libdir SpikeIn_1.33.0.tar.gz && D:\biocbuild\bbs-3.13-bioc\R\bin\R.exe CMD INSTALL SpikeIn_1.33.0.zip && rm SpikeIn_1.33.0.tar.gz SpikeIn_1.33.0.zip
###
##############################################################################
##############################################################################


  % Total    % Received % Xferd  Average Speed   Time    Time     Time  Current
                                 Dload  Upload   Total   Spent    Left  Speed

  0     0    0     0    0     0      0      0 --:--:-- --:--:-- --:--:--     0
 27 63.0M   27 17.4M    0     0  82.3M      0 --:--:-- --:--:-- --:--:-- 81.9M
100 63.0M  100 63.0M    0     0  97.7M      0 --:--:-- --:--:-- --:--:-- 97.5M

install for i386

* installing *source* package 'SpikeIn' ...
** using staged installation
** data
** help
*** installing help indices
  converting help for package 'SpikeIn'
    finding HTML links ... done
    SpikeIn                                 html  
REDIRECT:topic	 SpikeIn133 -> SpikeIn.html [ SUCCESS ]
REDIRECT:topic	 SpikeIn95 -> SpikeIn.html [ SUCCESS ]
REDIRECT:file	 SpikeIn.html -> SpikeIn.html [ SUCCESS ]
** building package indices
** testing if installed package can be loaded from temporary location
** testing if installed package can be loaded from final location
** testing if installed package keeps a record of temporary installation path

install for x64

* installing *source* package 'SpikeIn' ...
** testing if installed package can be loaded
* MD5 sums
packaged installation of 'SpikeIn' as SpikeIn_1.33.0.zip
* DONE (SpikeIn)
* installing to library 'D:/biocbuild/bbs-3.13-bioc/R/library'
package 'SpikeIn' successfully unpacked and MD5 sums checked