Back to Multiple platform build/check report for BioC 3.13 experimental data
ABCDEFGHIJKLMNOPQR[S]TUVWXYZ

BUILD report for SomaticCancerAlterations on riesling1

This page was generated on 2021-01-21 16:01:39 -0500 (Thu, 21 Jan 2021).

TO THE DEVELOPERS/MAINTAINERS OF THE SomaticCancerAlterations PACKAGE: Please make sure to use the following settings in order to reproduce any error or warning you see on this page.
Package 341/386HostnameOS / ArchINSTALLBUILDCHECK
SomaticCancerAlterations 1.27.1
Julian Gehring
Snapshot Date: 2021-01-21 09:00:14 -0500 (Thu, 21 Jan 2021)
URL: https://git.bioconductor.org/packages/SomaticCancerAlterations
Branch: master
Last Commit: 6c98820
Last Changed Date: 2020-11-28 13:58:54 -0500 (Sat, 28 Nov 2020)
malbec2 Linux (Ubuntu 20.04.1 LTS) / x86_64  OK  OK  OK UNNEEDED, same version exists in internal repository
riesling1 Windows Server 2019 Standard / x64  OK [ OK ] OK 

Summary

Package: SomaticCancerAlterations
Version: 1.27.1
Command: chmod a+r SomaticCancerAlterations -R && D:\biocbuild\bbs-3.13-bioc\R\bin\R.exe CMD build --keep-empty-dirs --no-resave-data SomaticCancerAlterations
StartedAt: 2021-01-21 10:59:11 -0500 (Thu, 21 Jan 2021)
EndedAt: 2021-01-21 10:59:33 -0500 (Thu, 21 Jan 2021)
EllapsedTime: 22.6 seconds
RetCode: 0
Status:  OK  
PackageFile: SomaticCancerAlterations_1.27.1.tar.gz
PackageFileSize: 4.375 MiB

Command output

##############################################################################
##############################################################################
###
### Running command:
###
###   chmod a+r SomaticCancerAlterations -R && D:\biocbuild\bbs-3.13-bioc\R\bin\R.exe CMD build --keep-empty-dirs --no-resave-data SomaticCancerAlterations
###
##############################################################################
##############################################################################


* checking for file 'SomaticCancerAlterations/DESCRIPTION' ... OK
* preparing 'SomaticCancerAlterations':
* checking DESCRIPTION meta-information ... OK
* installing the package to build vignettes
* creating vignettes ... OK
* checking for LF line-endings in source and make files and shell scripts
* checking for empty or unneeded directories
* looking to see if a 'data/datalist' file should be added
* building 'SomaticCancerAlterations_1.27.1.tar.gz'