Back to Multiple platform build/check report for BioC 3.13 experimental data
ABCDEFGHIJKLMNOPQR[S]TUVWXYZ

BUILD report for SomatiCAData on riesling1

This page was generated on 2021-01-18 15:58:51 -0500 (Mon, 18 Jan 2021).

TO THE DEVELOPERS/MAINTAINERS OF THE SomatiCAData PACKAGE: Please make sure to use the following settings in order to reproduce any error or warning you see on this page.
Package 339/385HostnameOS / ArchINSTALLBUILDCHECK
SomatiCAData 1.29.0
Mengjie Chen
Snapshot Date: 2021-01-18 09:00:15 -0500 (Mon, 18 Jan 2021)
URL: https://git.bioconductor.org/packages/SomatiCAData
Branch: master
Last Commit: 8b9dbca
Last Changed Date: 2020-10-27 10:00:47 -0500 (Tue, 27 Oct 2020)
malbec2 Linux (Ubuntu 20.04.1 LTS) / x86_64  OK  OK  WARNINGS UNNEEDED, same version exists in internal repository
riesling1 Windows Server 2019 Standard / x64  OK [ OK ] WARNINGS 

Summary

Package: SomatiCAData
Version: 1.29.0
Command: chmod a+r SomatiCAData -R && D:\biocbuild\bbs-3.13-bioc\R\bin\R.exe CMD build --keep-empty-dirs --no-resave-data SomatiCAData
StartedAt: 2021-01-18 10:58:53 -0500 (Mon, 18 Jan 2021)
EndedAt: 2021-01-18 10:58:58 -0500 (Mon, 18 Jan 2021)
EllapsedTime: 4.9 seconds
RetCode: 0
Status:  OK  
PackageFile: SomatiCAData_1.29.0.tar.gz
PackageFileSize: 32.14 MiB

Command output

##############################################################################
##############################################################################
###
### Running command:
###
###   chmod a+r SomatiCAData -R && D:\biocbuild\bbs-3.13-bioc\R\bin\R.exe CMD build --keep-empty-dirs --no-resave-data SomatiCAData
###
##############################################################################
##############################################################################


* checking for file 'SomatiCAData/DESCRIPTION' ... OK
* preparing 'SomatiCAData':
* checking DESCRIPTION meta-information ... OK
* checking for LF line-endings in source and make files and shell scripts
* checking for empty or unneeded directories
* building 'SomatiCAData_1.29.0.tar.gz'