Back to Multiple platform build/check report for BioC 3.13 experimental data
ABCDEFGHIJKLMNOPQR[S]TUVWXYZ

INSTALL report for SingleCellMultiModal on riesling1

This page was generated on 2021-01-14 15:59:11 -0500 (Thu, 14 Jan 2021).

TO THE DEVELOPERS/MAINTAINERS OF THE SingleCellMultiModal PACKAGE: Please make sure to use the following settings in order to reproduce any error or warning you see on this page.
Package 335/385HostnameOS / ArchINSTALLBUILDCHECK
SingleCellMultiModal 1.3.8
Marcel Ramos
Snapshot Date: 2021-01-14 09:00:13 -0500 (Thu, 14 Jan 2021)
URL: https://git.bioconductor.org/packages/SingleCellMultiModal
Branch: master
Last Commit: bff6878
Last Changed Date: 2021-01-08 12:26:17 -0500 (Fri, 08 Jan 2021)
malbec2 Linux (Ubuntu 20.04.1 LTS) / x86_64  OK  OK  OK UNNEEDED, same version exists in internal repository
riesling1 Windows Server 2019 Standard / x64 [ OK ] OK  ERROR 

Summary

Package: SingleCellMultiModal
Version: 1.3.8
Command: C:\cygwin\bin\curl.exe -O http://172.29.0.4/BBS/3.13/data-experiment/src/contrib/SingleCellMultiModal_1.3.8.tar.gz && rm -rf SingleCellMultiModal.buildbin-libdir && mkdir SingleCellMultiModal.buildbin-libdir && D:\biocbuild\bbs-3.13-bioc\R\bin\R.exe CMD INSTALL --merge-multiarch --build --library=SingleCellMultiModal.buildbin-libdir SingleCellMultiModal_1.3.8.tar.gz && D:\biocbuild\bbs-3.13-bioc\R\bin\R.exe CMD INSTALL SingleCellMultiModal_1.3.8.zip && rm SingleCellMultiModal_1.3.8.tar.gz SingleCellMultiModal_1.3.8.zip
StartedAt: 2021-01-14 10:10:08 -0500 (Thu, 14 Jan 2021)
EndedAt: 2021-01-14 10:10:37 -0500 (Thu, 14 Jan 2021)
EllapsedTime: 28.5 seconds
RetCode: 0
Status:  OK  

Command output

##############################################################################
##############################################################################
###
### Running command:
###
###   C:\cygwin\bin\curl.exe -O http://172.29.0.4/BBS/3.13/data-experiment/src/contrib/SingleCellMultiModal_1.3.8.tar.gz && rm -rf SingleCellMultiModal.buildbin-libdir && mkdir SingleCellMultiModal.buildbin-libdir && D:\biocbuild\bbs-3.13-bioc\R\bin\R.exe CMD INSTALL --merge-multiarch --build --library=SingleCellMultiModal.buildbin-libdir SingleCellMultiModal_1.3.8.tar.gz && D:\biocbuild\bbs-3.13-bioc\R\bin\R.exe CMD INSTALL SingleCellMultiModal_1.3.8.zip && rm SingleCellMultiModal_1.3.8.tar.gz SingleCellMultiModal_1.3.8.zip
###
##############################################################################
##############################################################################


  % Total    % Received % Xferd  Average Speed   Time    Time     Time  Current
                                 Dload  Upload   Total   Spent    Left  Speed

  0     0    0     0    0     0      0      0 --:--:-- --:--:-- --:--:--     0
100 32414  100 32414    0     0   270k      0 --:--:-- --:--:-- --:--:--  272k

install for i386

* installing *source* package 'SingleCellMultiModal' ...
** using staged installation
** R
** inst
** byte-compile and prepare package for lazy loading
** help
*** installing help indices
  converting help for package 'SingleCellMultiModal'
    finding HTML links ... done
    CITEseq                                 html  
REDIRECT:topic	 CITEseq -> CITEseq.html [ SUCCESS ]
    finding level-2 HTML links ... done

    SingleCellMultiModal-package            html  
REDIRECT:topic	 SingleCellMultiModal -> SingleCellMultiModal-package.html [ SUCCESS ]
REDIRECT:topic	 SingleCellMultiModal-package -> SingleCellMultiModal-package.html [ SUCCESS ]
    scMultiome                              html  
REDIRECT:topic	 scMultiome -> scMultiome.html [ SUCCESS ]
    scNMT                                   html  
REDIRECT:topic	 scNMT -> scNMT.html [ SUCCESS ]
    scmmCache                               html  
REDIRECT:topic	 scmmCache -> scmmCache.html [ SUCCESS ]
REDIRECT:topic	 setCache -> scmmCache.html [ SUCCESS ]
REDIRECT:topic	 removeCache -> scmmCache.html [ SUCCESS ]
    seqFISH                                 html  
REDIRECT:topic	 seqFISH -> seqFISH.html [ SUCCESS ]
** building package indices
** installing vignettes
** testing if installed package can be loaded from temporary location
** testing if installed package can be loaded from final location
** testing if installed package keeps a record of temporary installation path

install for x64

* installing *source* package 'SingleCellMultiModal' ...
** testing if installed package can be loaded
* MD5 sums
packaged installation of 'SingleCellMultiModal' as SingleCellMultiModal_1.3.8.zip
* DONE (SingleCellMultiModal)
* installing to library 'D:/biocbuild/bbs-3.13-bioc/R/library'
package 'SingleCellMultiModal' successfully unpacked and MD5 sums checked