Back to Multiple platform build/check report for BioC 3.13 experimental data
ABCDEFGHIJKLMNOPQR[S]TUVWXYZ

BUILD report for SingleCellMultiModal on riesling1

This page was generated on 2021-01-18 15:58:51 -0500 (Mon, 18 Jan 2021).

TO THE DEVELOPERS/MAINTAINERS OF THE SingleCellMultiModal PACKAGE: Please make sure to use the following settings in order to reproduce any error or warning you see on this page.
Package 335/385HostnameOS / ArchINSTALLBUILDCHECK
SingleCellMultiModal 1.3.8
Marcel Ramos
Snapshot Date: 2021-01-18 09:00:15 -0500 (Mon, 18 Jan 2021)
URL: https://git.bioconductor.org/packages/SingleCellMultiModal
Branch: master
Last Commit: bff6878
Last Changed Date: 2021-01-08 12:26:17 -0500 (Fri, 08 Jan 2021)
malbec2 Linux (Ubuntu 20.04.1 LTS) / x86_64  OK  OK  OK UNNEEDED, same version exists in internal repository
riesling1 Windows Server 2019 Standard / x64  OK [ OK ] ERROR 

Summary

Package: SingleCellMultiModal
Version: 1.3.8
Command: chmod a+r SingleCellMultiModal -R && D:\biocbuild\bbs-3.13-bioc\R\bin\R.exe CMD build --keep-empty-dirs --no-resave-data SingleCellMultiModal
StartedAt: 2021-01-18 10:58:41 -0500 (Mon, 18 Jan 2021)
EndedAt: 2021-01-18 11:03:49 -0500 (Mon, 18 Jan 2021)
EllapsedTime: 308.2 seconds
RetCode: 0
Status:  OK  
PackageFile: SingleCellMultiModal_1.3.8.tar.gz
PackageFileSize: 1.473 MiB

Command output

##############################################################################
##############################################################################
###
### Running command:
###
###   chmod a+r SingleCellMultiModal -R && D:\biocbuild\bbs-3.13-bioc\R\bin\R.exe CMD build --keep-empty-dirs --no-resave-data SingleCellMultiModal
###
##############################################################################
##############################################################################


* checking for file 'SingleCellMultiModal/DESCRIPTION' ... OK
* preparing 'SingleCellMultiModal':
* checking DESCRIPTION meta-information ... OK
* installing the package to build vignettes
* creating vignettes ... OK
* checking for LF line-endings in source and make files and shell scripts
* checking for empty or unneeded directories
* building 'SingleCellMultiModal_1.3.8.tar.gz'