Back to Multiple platform build/check report for BioC 3.13 experimental data
ABCDEFGHIJKLMNOPQR[S]TUVWXYZ

INSTALL report for Single.mTEC.Transcriptomes on riesling1

This page was generated on 2021-01-14 15:59:11 -0500 (Thu, 14 Jan 2021).

TO THE DEVELOPERS/MAINTAINERS OF THE Single.mTEC.Transcriptomes PACKAGE: Please make sure to use the following settings in order to reproduce any error or warning you see on this page.
Package 334/385HostnameOS / ArchINSTALLBUILDCHECK
Single.mTEC.Transcriptomes 1.19.0
Alejandro Reyes
Snapshot Date: 2021-01-14 09:00:13 -0500 (Thu, 14 Jan 2021)
URL: https://git.bioconductor.org/packages/Single.mTEC.Transcriptomes
Branch: master
Last Commit: 90db919
Last Changed Date: 2020-10-27 10:16:10 -0500 (Tue, 27 Oct 2020)
malbec2 Linux (Ubuntu 20.04.1 LTS) / x86_64  OK  OK  OK UNNEEDED, same version exists in internal repository
riesling1 Windows Server 2019 Standard / x64 [ OK ] OK  OK 

Summary

Package: Single.mTEC.Transcriptomes
Version: 1.19.0
Command: C:\cygwin\bin\curl.exe -O http://172.29.0.4/BBS/3.13/data-experiment/src/contrib/Single.mTEC.Transcriptomes_1.19.0.tar.gz && rm -rf Single.mTEC.Transcriptomes.buildbin-libdir && mkdir Single.mTEC.Transcriptomes.buildbin-libdir && D:\biocbuild\bbs-3.13-bioc\R\bin\R.exe CMD INSTALL --merge-multiarch --build --library=Single.mTEC.Transcriptomes.buildbin-libdir Single.mTEC.Transcriptomes_1.19.0.tar.gz && D:\biocbuild\bbs-3.13-bioc\R\bin\R.exe CMD INSTALL Single.mTEC.Transcriptomes_1.19.0.zip && rm Single.mTEC.Transcriptomes_1.19.0.tar.gz Single.mTEC.Transcriptomes_1.19.0.zip
StartedAt: 2021-01-14 10:04:49 -0500 (Thu, 14 Jan 2021)
EndedAt: 2021-01-14 10:07:55 -0500 (Thu, 14 Jan 2021)
EllapsedTime: 185.8 seconds
RetCode: 0
Status:  OK  

Command output

##############################################################################
##############################################################################
###
### Running command:
###
###   C:\cygwin\bin\curl.exe -O http://172.29.0.4/BBS/3.13/data-experiment/src/contrib/Single.mTEC.Transcriptomes_1.19.0.tar.gz && rm -rf Single.mTEC.Transcriptomes.buildbin-libdir && mkdir Single.mTEC.Transcriptomes.buildbin-libdir && D:\biocbuild\bbs-3.13-bioc\R\bin\R.exe CMD INSTALL --merge-multiarch --build --library=Single.mTEC.Transcriptomes.buildbin-libdir Single.mTEC.Transcriptomes_1.19.0.tar.gz && D:\biocbuild\bbs-3.13-bioc\R\bin\R.exe CMD INSTALL Single.mTEC.Transcriptomes_1.19.0.zip && rm Single.mTEC.Transcriptomes_1.19.0.tar.gz Single.mTEC.Transcriptomes_1.19.0.zip
###
##############################################################################
##############################################################################


  % Total    % Received % Xferd  Average Speed   Time    Time     Time  Current
                                 Dload  Upload   Total   Spent    Left  Speed

  0     0    0     0    0     0      0      0 --:--:-- --:--:-- --:--:--     0
  1  895M    1 13.6M    0     0  58.5M      0  0:00:15 --:--:--  0:00:15 58.2M
 14  895M   14  126M    0     0   102M      0  0:00:08  0:00:01  0:00:07  102M
 26  895M   26  239M    0     0   107M      0  0:00:08  0:00:02  0:00:06  107M
 39  895M   39  351M    0     0   108M      0  0:00:08  0:00:03  0:00:05  108M
 48  895M   48  434M    0     0   102M      0  0:00:08  0:00:04  0:00:04  102M
 56  895M   56  507M    0     0  88.4M      0  0:00:10  0:00:05  0:00:05 89.7M
 61  895M   61  547M    0     0  87.8M      0  0:00:10  0:00:06  0:00:04 84.1M
 69  895M   69  621M    0     0  85.9M      0  0:00:10  0:00:07  0:00:03 76.3M
 76  895M   76  683M    0     0  82.9M      0  0:00:10  0:00:08  0:00:02 66.3M
 86  895M   86  776M    0     0  84.1M      0  0:00:10  0:00:09  0:00:01 68.5M
 96  895M   96  866M    0     0  84.6M      0  0:00:10  0:00:10 --:--:-- 79.7M
100  895M  100  895M    0     0  84.3M      0  0:00:10  0:00:10 --:--:-- 79.3M

install for i386

* installing *source* package 'Single.mTEC.Transcriptomes' ...
** using staged installation
** R
** data
** inst
** byte-compile and prepare package for lazy loading
** help
*** installing help indices
  converting help for package 'Single.mTEC.Transcriptomes'
    finding HTML links ... done
    Single.mTec.Transcriptomes-package      html  
REDIRECT:topic	 Single.mTec.Transcriptomes-package -> Single.mTec.Transcriptomes-package.html [ SUCCESS ]
    aireDependentSansom                     html  
REDIRECT:topic	 aireDependentSansom -> aireDependentSansom.html [ SUCCESS ]
    biotype                                 html  
REDIRECT:topic	 biotype -> biotype.html [ SUCCESS ]
    biotypesHuman                           html  
REDIRECT:topic	 biotypesHuman -> biotypesHuman.html [ SUCCESS ]
    cea1Coexpression                        html  
REDIRECT:topic	 cea1Coexpression -> cea1Coexpression.html [ SUCCESS ]
    corMatsNoMarker                         html  
REDIRECT:topic	 corMatSp -> corMatsNoMarker.html [ SUCCESS ]
REDIRECT:topic	 corMatSpNoMarker -> corMatsNoMarker.html [ SUCCESS ]
REDIRECT:topic	 corMatsNoMarker -> corMatsNoMarker.html [ SUCCESS ]
    deGenesNone                             html  
REDIRECT:topic	 deGenesNone -> deGenesNone.html [ SUCCESS ]
    deGenesSansom                           html  
REDIRECT:topic	 deGenesSansom -> deGenesSansom.html [ SUCCESS ]
    dxdATAC                                 html  
REDIRECT:topic	 dxdATAC -> dxdATAC.html [ SUCCESS ]
    fantom                                  html  
REDIRECT:topic	 dxdFANTOM -> fantom.html [ SUCCESS ]
REDIRECT:topic	 fantom -> fantom.html [ SUCCESS ]
    geneNames                               html  
REDIRECT:topic	 geneNames -> geneNames.html [ SUCCESS ]
    geneNamesHuman                          html  
REDIRECT:topic	 geneNamesHuman -> geneNamesHuman.html [ SUCCESS ]
    geneRanges                              html  
REDIRECT:topic	 geneRanges -> geneRanges.html [ SUCCESS ]
    mTECdxd                                 html  
REDIRECT:topic	 dxd -> mTECdxd.html [ SUCCESS ]
REDIRECT:topic	 mTECdxd -> mTECdxd.html [ SUCCESS ]
    muc1Coexpression                        html  
REDIRECT:topic	 muc1Coexpression -> muc1Coexpression.html [ SUCCESS ]
    nomarkerCellsClustering                 html  
REDIRECT:topic	 nomarkerCellsClustering -> nomarkerCellsClustering.html [ SUCCESS ]
    percentsGG                              html  
REDIRECT:topic	 percentsGG -> percentsGG.html [ SUCCESS ]
    permutationResults                      html  
REDIRECT:topic	 permsAllClusters -> permutationResults.html [ SUCCESS ]
REDIRECT:topic	 permutationResults -> permutationResults.html [ SUCCESS ]
REDIRECT:topic	 realAllClusters -> permutationResults.html [ SUCCESS ]
    scLVM_output                            html  
REDIRECT:topic	 Ycorr -> scLVM_output.html [ SUCCESS ]
REDIRECT:topic	 beta -> scLVM_output.html [ SUCCESS ]
REDIRECT:topic	 beta0 -> scLVM_output.html [ SUCCESS ]
REDIRECT:topic	 h5GeneNames -> scLVM_output.html [ SUCCESS ]
REDIRECT:topic	 heter -> scLVM_output.html [ SUCCESS ]
REDIRECT:topic	 scLVM_output -> scLVM_output.html [ SUCCESS ]
REDIRECT:topic	 vars -> scLVM_output.html [ SUCCESS ]
    tras                                    html  
REDIRECT:topic	 tras -> tras.html [ SUCCESS ]
** building package indices
** installing vignettes
** testing if installed package can be loaded from temporary location
** testing if installed package can be loaded from final location
** testing if installed package keeps a record of temporary installation path

install for x64

* installing *source* package 'Single.mTEC.Transcriptomes' ...
** testing if installed package can be loaded
* MD5 sums
packaged installation of 'Single.mTEC.Transcriptomes' as Single.mTEC.Transcriptomes_1.19.0.zip
* DONE (Single.mTEC.Transcriptomes)
* installing to library 'D:/biocbuild/bbs-3.13-bioc/R/library'
package 'Single.mTEC.Transcriptomes' successfully unpacked and MD5 sums checked