Back to Multiple platform build/check report for BioC 3.13 experimental data
ABCDEFGHIJKLMNOPQR[S]TUVWXYZ

INSTALL report for SVM2CRMdata on riesling1

This page was generated on 2021-01-21 16:01:39 -0500 (Thu, 21 Jan 2021).

TO THE DEVELOPERS/MAINTAINERS OF THE SVM2CRMdata PACKAGE: Please make sure to use the following settings in order to reproduce any error or warning you see on this page.
Package 348/386HostnameOS / ArchINSTALLBUILDCHECK
SVM2CRMdata 1.23.0
Guidantonio Malagoli Tagliazucchi
Snapshot Date: 2021-01-21 09:00:14 -0500 (Thu, 21 Jan 2021)
URL: https://git.bioconductor.org/packages/SVM2CRMdata
Branch: master
Last Commit: df8147e
Last Changed Date: 2020-10-27 10:12:19 -0500 (Tue, 27 Oct 2020)
malbec2 Linux (Ubuntu 20.04.1 LTS) / x86_64  OK  OK  WARNINGS UNNEEDED, same version exists in internal repository
riesling1 Windows Server 2019 Standard / x64 [ OK ] OK  WARNINGS 

Summary

Package: SVM2CRMdata
Version: 1.23.0
Command: C:\cygwin\bin\curl.exe -O http://172.29.0.4/BBS/3.13/data-experiment/src/contrib/SVM2CRMdata_1.23.0.tar.gz && rm -rf SVM2CRMdata.buildbin-libdir && mkdir SVM2CRMdata.buildbin-libdir && D:\biocbuild\bbs-3.13-bioc\R\bin\R.exe CMD INSTALL --merge-multiarch --build --library=SVM2CRMdata.buildbin-libdir SVM2CRMdata_1.23.0.tar.gz && D:\biocbuild\bbs-3.13-bioc\R\bin\R.exe CMD INSTALL SVM2CRMdata_1.23.0.zip && rm SVM2CRMdata_1.23.0.tar.gz SVM2CRMdata_1.23.0.zip
StartedAt: 2021-01-21 09:49:09 -0500 (Thu, 21 Jan 2021)
EndedAt: 2021-01-21 09:52:46 -0500 (Thu, 21 Jan 2021)
EllapsedTime: 217.7 seconds
RetCode: 0
Status:  OK  

Command output

##############################################################################
##############################################################################
###
### Running command:
###
###   C:\cygwin\bin\curl.exe -O http://172.29.0.4/BBS/3.13/data-experiment/src/contrib/SVM2CRMdata_1.23.0.tar.gz && rm -rf SVM2CRMdata.buildbin-libdir && mkdir SVM2CRMdata.buildbin-libdir && D:\biocbuild\bbs-3.13-bioc\R\bin\R.exe CMD INSTALL --merge-multiarch --build --library=SVM2CRMdata.buildbin-libdir SVM2CRMdata_1.23.0.tar.gz && D:\biocbuild\bbs-3.13-bioc\R\bin\R.exe CMD INSTALL SVM2CRMdata_1.23.0.zip && rm SVM2CRMdata_1.23.0.tar.gz SVM2CRMdata_1.23.0.zip
###
##############################################################################
##############################################################################


  % Total    % Received % Xferd  Average Speed   Time    Time     Time  Current
                                 Dload  Upload   Total   Spent    Left  Speed

  0     0    0     0    0     0      0      0 --:--:-- --:--:-- --:--:--     0
  3  347M    3 11.8M    0     0  13.8M      0  0:00:25 --:--:--  0:00:25 13.8M
 10  347M   10 37.5M    0     0  15.7M      0  0:00:22  0:00:02  0:00:20 15.7M
 17  347M   17 61.7M    0     0  21.7M      0  0:00:15  0:00:02  0:00:13 21.7M
 34  347M   34  118M    0     0  29.3M      0  0:00:11  0:00:04  0:00:07 29.3M
 48  347M   48  167M    0     0  34.5M      0  0:00:10  0:00:04  0:00:06 34.5M
 61  347M   61  213M    0     0  35.9M      0  0:00:09  0:00:05  0:00:04 39.7M
 76  347M   76  265M    0     0  38.4M      0  0:00:09  0:00:06  0:00:03 50.3M
 88  347M   88  307M    0     0  39.2M      0  0:00:08  0:00:07  0:00:01 49.1M
 96  347M   96  334M    0     0  36.4M      0  0:00:09  0:00:09 --:--:-- 42.0M
 96  347M   96  336M    0     0  33.7M      0  0:00:10  0:00:09  0:00:01 32.9M
 97  347M   97  337M    0     0  30.4M      0  0:00:11  0:00:11 --:--:-- 24.0M
 97  347M   97  339M    0     0  27.2M      0  0:00:12  0:00:12 --:--:-- 13.3M
 98  347M   98  341M    0     0  25.2M      0  0:00:13  0:00:13 --:--:-- 6125k
 98  347M   98  342M    0     0  23.7M      0  0:00:14  0:00:14 --:--:-- 1631k
100  347M  100  347M    0     0  23.7M      0  0:00:14  0:00:14 --:--:-- 2408k

install for i386

* installing *source* package 'SVM2CRMdata' ...
** using staged installation
** data
** inst
** help
*** installing help indices
  converting help for package 'SVM2CRMdata'
    finding HTML links ... done
    CD4-H2AK5ac.sort.txt                    html  
REDIRECT:topic	 CD4-H2AK5ac.sort -> CD4-H2AK5ac.sort.txt.html [ SUCCESS ]
REDIRECT:file	 CD4-H2AK5ac.sort.txt.html -> CD4-H2AK5ac.sort.txt.html [ SUCCESS ]
    CD4-H2AK9ac.sort.txt                    html  
REDIRECT:topic	 CD4-H2AK9ac.sort -> CD4-H2AK9ac.sort.txt.html [ SUCCESS ]
REDIRECT:file	 CD4-H2AK9ac.sort.txt.html -> CD4-H2AK9ac.sort.txt.html [ SUCCESS ]
    CD4-H3K23ac.sort.txt                    html  
REDIRECT:topic	 CD4-H3K23ac.sort -> CD4-H3K23ac.sort.txt.html [ SUCCESS ]
REDIRECT:file	 CD4-H3K23ac.sort.txt.html -> CD4-H3K23ac.sort.txt.html [ SUCCESS ]
    CD4-H3K27ac.sort.txt                    html  
REDIRECT:topic	 CD4-H3K27ac.sort -> CD4-H3K27ac.sort.txt.html [ SUCCESS ]
REDIRECT:file	 CD4-H3K27ac.sort.txt.html -> CD4-H3K27ac.sort.txt.html [ SUCCESS ]
    CD4_matrixInputSVMbin100window1000      html  
REDIRECT:topic	 CD4_matrixInputSVMbin100window1000 -> CD4_matrixInputSVMbin100window1000.html [ SUCCESS ]
    GSM393946.distal.p300fromTSS.txt        html  
REDIRECT:topic	 GSM393946.distal.p300fromTSS -> GSM393946.distal.p300fromTSS.txt.html [ SUCCESS ]
REDIRECT:file	 GSM393946.distal.p300fromTSS.txt.html -> GSM393946.distal.p300fromTSS.txt.html [ SUCCESS ]
    H3K27me3.sort.txt                       html  
REDIRECT:topic	 H3K27me3.sort -> H3K27me3.sort.txt.html [ SUCCESS ]
REDIRECT:file	 H3K27me3.sort.txt.html -> H3K27me3.sort.txt.html [ SUCCESS ]
    H3K4me1.sort.txt                        html  
REDIRECT:topic	 H3K4me1.sort -> H3K4me1.sort.txt.html [ SUCCESS ]
REDIRECT:file	 H3K4me1.sort.txt.html -> H3K4me1.sort.txt.html [ SUCCESS ]
    H3K4me2.sort.txt                        html  
REDIRECT:topic	 H3K4me2.sort -> H3K4me2.sort.txt.html [ SUCCESS ]
REDIRECT:file	 H3K4me2.sort.txt.html -> H3K4me2.sort.txt.html [ SUCCESS ]
    H3K4me3.sort.txt                        html  
REDIRECT:topic	 H3K4me3.sort -> H3K4me3.sort.txt.html [ SUCCESS ]
REDIRECT:file	 H3K4me3.sort.txt.html -> H3K4me3.sort.txt.html [ SUCCESS ]
    SVM2CRMdata                             html  
REDIRECT:topic	 SVM2CRMdata -> SVM2CRMdata.html [ SUCCESS ]
REDIRECT:topic	 SVM2CRMdata -> SVM2CRMdata.html [ SUCCESS ]
Rd warning: Previous alias or file overwritten by alias: SVM2CRMdata
    p300.distal.fromTSS                     html  
REDIRECT:topic	 p300.distal.fromTSS -> p300.distal.fromTSS.html [ SUCCESS ]
    random.region.hg18.nop300               html  
REDIRECT:topic	 random.region.hg18.nop300 -> random.region.hg18.nop300.html [ SUCCESS ]
    train_negative                          html  
REDIRECT:topic	 train_negative -> train_negative.html [ SUCCESS ]
    train_positive                          html  
REDIRECT:topic	 train_positive -> train_positive.html [ SUCCESS ]
** building package indices
** installing vignettes
** testing if installed package can be loaded from temporary location
** testing if installed package can be loaded from final location
** testing if installed package keeps a record of temporary installation path

install for x64

* installing *source* package 'SVM2CRMdata' ...
** testing if installed package can be loaded
* MD5 sums
packaged installation of 'SVM2CRMdata' as SVM2CRMdata_1.23.0.zip
* DONE (SVM2CRMdata)
* installing to library 'D:/biocbuild/bbs-3.13-bioc/R/library'
package 'SVM2CRMdata' successfully unpacked and MD5 sums checked