Back to Multiple platform build/check report for BioC 3.13 experimental data
ABCDEFGHIJKLMNOPQR[S]TUVWXYZ

INSTALL report for SNPhoodData on riesling1

This page was generated on 2021-01-21 16:01:39 -0500 (Thu, 21 Jan 2021).

TO THE DEVELOPERS/MAINTAINERS OF THE SNPhoodData PACKAGE: Please make sure to use the following settings in order to reproduce any error or warning you see on this page.
Package 339/386HostnameOS / ArchINSTALLBUILDCHECK
SNPhoodData 1.21.0
Christian Arnold
Snapshot Date: 2021-01-21 09:00:14 -0500 (Thu, 21 Jan 2021)
URL: https://git.bioconductor.org/packages/SNPhoodData
Branch: master
Last Commit: c9dc96c
Last Changed Date: 2020-10-27 10:14:47 -0500 (Tue, 27 Oct 2020)
malbec2 Linux (Ubuntu 20.04.1 LTS) / x86_64  OK  OK  OK UNNEEDED, same version exists in internal repository
riesling1 Windows Server 2019 Standard / x64 [ OK ] OK  OK 

Summary

Package: SNPhoodData
Version: 1.21.0
Command: C:\cygwin\bin\curl.exe -O http://172.29.0.4/BBS/3.13/data-experiment/src/contrib/SNPhoodData_1.21.0.tar.gz && rm -rf SNPhoodData.buildbin-libdir && mkdir SNPhoodData.buildbin-libdir && D:\biocbuild\bbs-3.13-bioc\R\bin\R.exe CMD INSTALL --merge-multiarch --build --library=SNPhoodData.buildbin-libdir SNPhoodData_1.21.0.tar.gz && D:\biocbuild\bbs-3.13-bioc\R\bin\R.exe CMD INSTALL SNPhoodData_1.21.0.zip && rm SNPhoodData_1.21.0.tar.gz SNPhoodData_1.21.0.zip
StartedAt: 2021-01-21 09:52:35 -0500 (Thu, 21 Jan 2021)
EndedAt: 2021-01-21 09:53:24 -0500 (Thu, 21 Jan 2021)
EllapsedTime: 49.3 seconds
RetCode: 0
Status:  OK  

Command output

##############################################################################
##############################################################################
###
### Running command:
###
###   C:\cygwin\bin\curl.exe -O http://172.29.0.4/BBS/3.13/data-experiment/src/contrib/SNPhoodData_1.21.0.tar.gz && rm -rf SNPhoodData.buildbin-libdir && mkdir SNPhoodData.buildbin-libdir && D:\biocbuild\bbs-3.13-bioc\R\bin\R.exe CMD INSTALL --merge-multiarch --build --library=SNPhoodData.buildbin-libdir SNPhoodData_1.21.0.tar.gz && D:\biocbuild\bbs-3.13-bioc\R\bin\R.exe CMD INSTALL SNPhoodData_1.21.0.zip && rm SNPhoodData_1.21.0.tar.gz SNPhoodData_1.21.0.zip
###
##############################################################################
##############################################################################


  % Total    % Received % Xferd  Average Speed   Time    Time     Time  Current
                                 Dload  Upload   Total   Spent    Left  Speed

  0     0    0     0    0     0      0      0 --:--:-- --:--:-- --:--:--     0
  0  233M    0  494k    0     0   627k      0  0:06:20 --:--:--  0:06:20  626k
  0  233M    0 2124k    0     0  1155k      0  0:03:26  0:00:01  0:03:25 1155k
 12  233M   12 30.2M    0     0  10.2M      0  0:00:22  0:00:02  0:00:20 10.2M
 24  233M   24 58.2M    0     0  15.9M      0  0:00:14  0:00:03  0:00:11 15.9M
 52  233M   52  122M    0     0  26.2M      0  0:00:08  0:00:04  0:00:04 26.2M
 89  233M   89  208M    0     0  36.7M      0  0:00:06  0:00:05  0:00:01 42.6M
100  233M  100  233M    0     0  38.4M      0  0:00:06  0:00:06 --:--:-- 54.7M

install for i386

* installing *source* package 'SNPhoodData' ...
** using staged installation
** R
** inst
** byte-compile and prepare package for lazy loading
** help
*** installing help indices
  converting help for package 'SNPhoodData'
    finding HTML links ... done
    SNPhoodData                             html  
REDIRECT:topic	 SNPhoodData -> SNPhoodData.html [ SUCCESS ]
REDIRECT:topic	 SNPhoodData-package -> SNPhoodData.html [ SUCCESS ]
** building package indices
** installing vignettes
** testing if installed package can be loaded from temporary location
** testing if installed package can be loaded from final location
** testing if installed package keeps a record of temporary installation path

install for x64

* installing *source* package 'SNPhoodData' ...
** testing if installed package can be loaded
* MD5 sums
packaged installation of 'SNPhoodData' as SNPhoodData_1.21.0.zip
* DONE (SNPhoodData)
* installing to library 'D:/biocbuild/bbs-3.13-bioc/R/library'
package 'SNPhoodData' successfully unpacked and MD5 sums checked