Back to Multiple platform build/check report for BioC 3.13 experimental data
ABCDEFGHIJKLMNOPQR[S]TUVWXYZ

BUILD report for SNPhoodData on riesling1

This page was generated on 2021-01-21 16:01:39 -0500 (Thu, 21 Jan 2021).

TO THE DEVELOPERS/MAINTAINERS OF THE SNPhoodData PACKAGE: Please make sure to use the following settings in order to reproduce any error or warning you see on this page.
Package 339/386HostnameOS / ArchINSTALLBUILDCHECK
SNPhoodData 1.21.0
Christian Arnold
Snapshot Date: 2021-01-21 09:00:14 -0500 (Thu, 21 Jan 2021)
URL: https://git.bioconductor.org/packages/SNPhoodData
Branch: master
Last Commit: c9dc96c
Last Changed Date: 2020-10-27 10:14:47 -0500 (Tue, 27 Oct 2020)
malbec2 Linux (Ubuntu 20.04.1 LTS) / x86_64  OK  OK  OK UNNEEDED, same version exists in internal repository
riesling1 Windows Server 2019 Standard / x64  OK [ OK ] OK 

Summary

Package: SNPhoodData
Version: 1.21.0
Command: chmod a+r SNPhoodData -R && D:\biocbuild\bbs-3.13-bioc\R\bin\R.exe CMD build --keep-empty-dirs --no-resave-data SNPhoodData
StartedAt: 2021-01-21 10:59:05 -0500 (Thu, 21 Jan 2021)
EndedAt: 2021-01-21 10:59:30 -0500 (Thu, 21 Jan 2021)
EllapsedTime: 25.5 seconds
RetCode: 0
Status:  OK  
PackageFile: SNPhoodData_1.21.0.tar.gz
PackageFileSize: 233.5 MiB

Command output

##############################################################################
##############################################################################
###
### Running command:
###
###   chmod a+r SNPhoodData -R && D:\biocbuild\bbs-3.13-bioc\R\bin\R.exe CMD build --keep-empty-dirs --no-resave-data SNPhoodData
###
##############################################################################
##############################################################################


* checking for file 'SNPhoodData/DESCRIPTION' ... OK
* preparing 'SNPhoodData':
* checking DESCRIPTION meta-information ... OK
* installing the package to build vignettes
* creating vignettes ... OK
* checking for LF line-endings in source and make files and shell scripts
* checking for empty or unneeded directories
* building 'SNPhoodData_1.21.0.tar.gz'