Back to Multiple platform build/check report for BioC 3.13 experimental data
ABCDEFGHIJKLMNOPQR[S]TUVWXYZ

CHECK report for SNAGEEdata on riesling1

This page was generated on 2021-01-21 16:01:39 -0500 (Thu, 21 Jan 2021).

TO THE DEVELOPERS/MAINTAINERS OF THE SNAGEEdata PACKAGE: Please make sure to use the following settings in order to reproduce any error or warning you see on this page.
Package 338/386HostnameOS / ArchINSTALLBUILDCHECK
SNAGEEdata 1.27.0
David Venet
Snapshot Date: 2021-01-21 09:00:14 -0500 (Thu, 21 Jan 2021)
URL: https://git.bioconductor.org/packages/SNAGEEdata
Branch: master
Last Commit: 48031bc
Last Changed Date: 2020-10-27 10:00:12 -0500 (Tue, 27 Oct 2020)
malbec2 Linux (Ubuntu 20.04.1 LTS) / x86_64  OK  OK  OK UNNEEDED, same version exists in internal repository
riesling1 Windows Server 2019 Standard / x64  OK  OK [ OK ]

Summary

Package: SNAGEEdata
Version: 1.27.0
Command: D:\biocbuild\bbs-3.13-bioc\R\bin\R.exe CMD check --force-multiarch --install=check:SNAGEEdata.install-out.txt --library=D:\biocbuild\bbs-3.13-bioc\R\library --no-vignettes --timings SNAGEEdata_1.27.0.tar.gz
StartedAt: 2021-01-21 11:47:58 -0500 (Thu, 21 Jan 2021)
EndedAt: 2021-01-21 11:48:17 -0500 (Thu, 21 Jan 2021)
EllapsedTime: 19.3 seconds
RetCode: 0
Status:  OK  
CheckDir: SNAGEEdata.Rcheck
Warnings: 0

Command output

##############################################################################
##############################################################################
###
### Running command:
###
###   D:\biocbuild\bbs-3.13-bioc\R\bin\R.exe CMD check --force-multiarch --install=check:SNAGEEdata.install-out.txt --library=D:\biocbuild\bbs-3.13-bioc\R\library --no-vignettes --timings SNAGEEdata_1.27.0.tar.gz
###
##############################################################################
##############################################################################


* using log directory 'D:/biocbuild/bbs-3.13-data-experiment/meat/SNAGEEdata.Rcheck'
* using R Under development (unstable) (2020-12-30 r79736)
* using platform: x86_64-w64-mingw32 (64-bit)
* using session charset: ISO8859-1
* using option '--no-vignettes'
* checking for file 'SNAGEEdata/DESCRIPTION' ... OK
* this is package 'SNAGEEdata' version '1.27.0'
* checking package namespace information ... OK
* checking package dependencies ... OK
* checking if this is a source package ... OK
* checking if there is a namespace ... OK
* checking for hidden files and directories ... OK
* checking for portable file names ... OK
* checking whether package 'SNAGEEdata' can be installed ... OK
* checking installed package size ... NOTE
  installed size is 29.3Mb
  sub-directories of 1Mb or more:
    extdata  29.2Mb
* checking package directory ... OK
* checking DESCRIPTION meta-information ... NOTE
Malformed Description field: should contain one or more complete sentences.
* checking top-level files ... OK
* checking for left-over files ... OK
* checking index information ... OK
* checking package subdirectories ... OK
* checking R files for non-ASCII characters ... OK
* checking R files for syntax errors ... OK
* loading checks for arch 'i386'
** checking whether the package can be loaded ... OK
** checking whether the package can be loaded with stated dependencies ... OK
** checking whether the package can be unloaded cleanly ... OK
** checking whether the namespace can be loaded with stated dependencies ... OK
** checking whether the namespace can be unloaded cleanly ... OK
* loading checks for arch 'x64'
** checking whether the package can be loaded ... OK
** checking whether the package can be loaded with stated dependencies ... OK
** checking whether the package can be unloaded cleanly ... OK
** checking whether the namespace can be loaded with stated dependencies ... OK
** checking whether the namespace can be unloaded cleanly ... OK
* checking dependencies in R code ... OK
* checking S3 generic/method consistency ... OK
* checking replacement functions ... OK
* checking foreign function calls ... OK
* checking R code for possible problems ... OK
* checking Rd files ... OK
* checking Rd metadata ... OK
* checking Rd cross-references ... OK
* checking for missing documentation entries ... OK
* checking for code/documentation mismatches ... OK
* checking Rd \usage sections ... OK
* checking Rd contents ... OK
* checking for unstated dependencies in examples ... OK
* checking examples ...
** running examples for arch 'i386' ... OK
** running examples for arch 'x64' ... OK
* checking PDF version of manual ... OK
* DONE

Status: 2 NOTEs
See
  'D:/biocbuild/bbs-3.13-data-experiment/meat/SNAGEEdata.Rcheck/00check.log'
for details.



Installation output

SNAGEEdata.Rcheck/00install.out

##############################################################################
##############################################################################
###
### Running command:
###
###   C:\cygwin\bin\curl.exe -O http://172.29.0.4/BBS/3.13/data-experiment/src/contrib/SNAGEEdata_1.27.0.tar.gz && rm -rf SNAGEEdata.buildbin-libdir && mkdir SNAGEEdata.buildbin-libdir && D:\biocbuild\bbs-3.13-bioc\R\bin\R.exe CMD INSTALL --merge-multiarch --build --library=SNAGEEdata.buildbin-libdir SNAGEEdata_1.27.0.tar.gz && D:\biocbuild\bbs-3.13-bioc\R\bin\R.exe CMD INSTALL SNAGEEdata_1.27.0.zip && rm SNAGEEdata_1.27.0.tar.gz SNAGEEdata_1.27.0.zip
###
##############################################################################
##############################################################################


  % Total    % Received % Xferd  Average Speed   Time    Time     Time  Current
                                 Dload  Upload   Total   Spent    Left  Speed

  0     0    0     0    0     0      0      0 --:--:-- --:--:-- --:--:--     0
  1 29.2M    1  446k    0     0  4796k      0  0:00:06 --:--:--  0:00:06 4744k
100 29.2M  100 29.2M    0     0  51.5M      0 --:--:-- --:--:-- --:--:-- 51.5M

install for i386

* installing *source* package 'SNAGEEdata' ...
** using staged installation
** R
** inst
** byte-compile and prepare package for lazy loading
** help
*** installing help indices
  converting help for package 'SNAGEEdata'
    finding HTML links ... done
    SNAGEEdata-package                      html  
REDIRECT:topic	 SNAGEEdata-package -> SNAGEEdata-package.html [ SUCCESS ]
REDIRECT:topic	 SNAGEEdata -> SNAGEEdata-package.html [ SUCCESS ]
    getCC                                   html  
REDIRECT:topic	 getCC -> getCC.html [ SUCCESS ]
** building package indices
** testing if installed package can be loaded from temporary location
** testing if installed package can be loaded from final location
** testing if installed package keeps a record of temporary installation path

install for x64

* installing *source* package 'SNAGEEdata' ...
** testing if installed package can be loaded
* MD5 sums
packaged installation of 'SNAGEEdata' as SNAGEEdata_1.27.0.zip
* DONE (SNAGEEdata)
* installing to library 'D:/biocbuild/bbs-3.13-bioc/R/library'
package 'SNAGEEdata' successfully unpacked and MD5 sums checked

Tests output


Example timings

SNAGEEdata.Rcheck/examples_i386/SNAGEEdata-Ex.timings

nameusersystemelapsed
SNAGEEdata-package0.090.000.09
getCC0.080.010.09

SNAGEEdata.Rcheck/examples_x64/SNAGEEdata-Ex.timings

nameusersystemelapsed
SNAGEEdata-package0.100.000.09
getCC0.070.010.10