Back to Multiple platform build/check report for BioC 3.13 experimental data
ABCDEFGHIJKLMNOPQR[S]TUVWXYZ

INSTALL report for SNAData on riesling1

This page was generated on 2021-01-21 16:01:39 -0500 (Thu, 21 Jan 2021).

TO THE DEVELOPERS/MAINTAINERS OF THE SNAData PACKAGE: Please make sure to use the following settings in order to reproduce any error or warning you see on this page.
Package 337/386HostnameOS / ArchINSTALLBUILDCHECK
SNAData 1.37.0
Denise Scholtens
Snapshot Date: 2021-01-21 09:00:14 -0500 (Thu, 21 Jan 2021)
URL: https://git.bioconductor.org/packages/SNAData
Branch: master
Last Commit: ac15621
Last Changed Date: 2020-10-27 09:46:57 -0500 (Tue, 27 Oct 2020)
malbec2 Linux (Ubuntu 20.04.1 LTS) / x86_64  OK  OK  OK UNNEEDED, same version exists in internal repository
riesling1 Windows Server 2019 Standard / x64 [ OK ] OK  OK 

Summary

Package: SNAData
Version: 1.37.0
Command: C:\cygwin\bin\curl.exe -O http://172.29.0.4/BBS/3.13/data-experiment/src/contrib/SNAData_1.37.0.tar.gz && rm -rf SNAData.buildbin-libdir && mkdir SNAData.buildbin-libdir && D:\biocbuild\bbs-3.13-bioc\R\bin\R.exe CMD INSTALL --merge-multiarch --build --library=SNAData.buildbin-libdir SNAData_1.37.0.tar.gz && D:\biocbuild\bbs-3.13-bioc\R\bin\R.exe CMD INSTALL SNAData_1.37.0.zip && rm SNAData_1.37.0.tar.gz SNAData_1.37.0.zip
StartedAt: 2021-01-21 10:03:58 -0500 (Thu, 21 Jan 2021)
EndedAt: 2021-01-21 10:04:08 -0500 (Thu, 21 Jan 2021)
EllapsedTime: 9.9 seconds
RetCode: 0
Status:  OK  

Command output

##############################################################################
##############################################################################
###
### Running command:
###
###   C:\cygwin\bin\curl.exe -O http://172.29.0.4/BBS/3.13/data-experiment/src/contrib/SNAData_1.37.0.tar.gz && rm -rf SNAData.buildbin-libdir && mkdir SNAData.buildbin-libdir && D:\biocbuild\bbs-3.13-bioc\R\bin\R.exe CMD INSTALL --merge-multiarch --build --library=SNAData.buildbin-libdir SNAData_1.37.0.tar.gz && D:\biocbuild\bbs-3.13-bioc\R\bin\R.exe CMD INSTALL SNAData_1.37.0.zip && rm SNAData_1.37.0.tar.gz SNAData_1.37.0.zip
###
##############################################################################
##############################################################################


  % Total    % Received % Xferd  Average Speed   Time    Time     Time  Current
                                 Dload  Upload   Total   Spent    Left  Speed

  0     0    0     0    0     0      0      0 --:--:-- --:--:-- --:--:--     0
100 28940  100 28940    0     0  1177k      0 --:--:-- --:--:-- --:--:-- 1228k

install for i386

* installing *source* package 'SNAData' ...
** using staged installation
** R
** data
** byte-compile and prepare package for lazy loading
** help
*** installing help indices
  converting help for package 'SNAData'
    finding HTML links ... done
    CEOclubs                                html  
REDIRECT:topic	 CEOclubsAM -> CEOclubs.html [ SUCCESS ]
REDIRECT:topic	 CEOclubsBPG -> CEOclubs.html [ SUCCESS ]
REDIRECT:file	 CEOclubs.html -> CEOclubs.html [ SUCCESS ]
    Countries                               html  
REDIRECT:topic	 basicGoods -> Countries.html [ SUCCESS ]
REDIRECT:topic	 food -> Countries.html [ SUCCESS ]
REDIRECT:topic	 crudeMaterials -> Countries.html [ SUCCESS ]
REDIRECT:topic	 minerals -> Countries.html [ SUCCESS ]
REDIRECT:topic	 diplomats -> Countries.html [ SUCCESS ]
REDIRECT:topic	 countriesAttrs -> Countries.html [ SUCCESS ]
REDIRECT:file	 Countries.html -> Countries.html [ SUCCESS ]
    Florentine                              html  
REDIRECT:topic	 business -> Florentine.html [ SUCCESS ]
REDIRECT:topic	 marital -> Florentine.html [ SUCCESS ]
REDIRECT:topic	 florentineAttrs -> Florentine.html [ SUCCESS ]
REDIRECT:file	 Florentine.html -> Florentine.html [ SUCCESS ]
    Freeman                                 html  
REDIRECT:topic	 acqTime1 -> Freeman.html [ SUCCESS ]
REDIRECT:topic	 acqTime2 -> Freeman.html [ SUCCESS ]
REDIRECT:topic	 messages -> Freeman.html [ SUCCESS ]
REDIRECT:topic	 freemanAttrs -> Freeman.html [ SUCCESS ]
REDIRECT:file	 Freeman.html -> Freeman.html [ SUCCESS ]
    Krackhardt                              html  
REDIRECT:topic	 advice -> Krackhardt.html [ SUCCESS ]
REDIRECT:topic	 friendship -> Krackhardt.html [ SUCCESS ]
REDIRECT:topic	 reportsTo -> Krackhardt.html [ SUCCESS ]
REDIRECT:topic	 krackhardtAttrs -> Krackhardt.html [ SUCCESS ]
REDIRECT:file	 Krackhardt.html -> Krackhardt.html [ SUCCESS ]
** building package indices
** installing vignettes
** testing if installed package can be loaded from temporary location
** testing if installed package can be loaded from final location
** testing if installed package keeps a record of temporary installation path

install for x64

* installing *source* package 'SNAData' ...
** testing if installed package can be loaded
* MD5 sums
packaged installation of 'SNAData' as SNAData_1.37.0.zip
* DONE (SNAData)
* installing to library 'D:/biocbuild/bbs-3.13-bioc/R/library'
package 'SNAData' successfully unpacked and MD5 sums checked