Back to Multiple platform build/check report for BioC 3.13 experimental data
ABCDEFGHIJKLMNOPQR[S]TUVWXYZ

BUILD report for SNAData on riesling1

This page was generated on 2021-01-18 15:58:51 -0500 (Mon, 18 Jan 2021).

TO THE DEVELOPERS/MAINTAINERS OF THE SNAData PACKAGE: Please make sure to use the following settings in order to reproduce any error or warning you see on this page.
Package 336/385HostnameOS / ArchINSTALLBUILDCHECK
SNAData 1.37.0
Denise Scholtens
Snapshot Date: 2021-01-18 09:00:15 -0500 (Mon, 18 Jan 2021)
URL: https://git.bioconductor.org/packages/SNAData
Branch: master
Last Commit: ac15621
Last Changed Date: 2020-10-27 09:46:57 -0500 (Tue, 27 Oct 2020)
malbec2 Linux (Ubuntu 20.04.1 LTS) / x86_64  OK  OK  OK UNNEEDED, same version exists in internal repository
riesling1 Windows Server 2019 Standard / x64  OK [ OK ] OK 

Summary

Package: SNAData
Version: 1.37.0
Command: chmod a+r SNAData -R && D:\biocbuild\bbs-3.13-bioc\R\bin\R.exe CMD build --keep-empty-dirs --no-resave-data SNAData
StartedAt: 2021-01-18 10:58:44 -0500 (Mon, 18 Jan 2021)
EndedAt: 2021-01-18 10:58:53 -0500 (Mon, 18 Jan 2021)
EllapsedTime: 9.7 seconds
RetCode: 0
Status:  OK  
PackageFile: SNAData_1.37.0.tar.gz
PackageFileSize: 152.8 KiB

Command output

##############################################################################
##############################################################################
###
### Running command:
###
###   chmod a+r SNAData -R && D:\biocbuild\bbs-3.13-bioc\R\bin\R.exe CMD build --keep-empty-dirs --no-resave-data SNAData
###
##############################################################################
##############################################################################


* checking for file 'SNAData/DESCRIPTION' ... OK
* preparing 'SNAData':
* checking DESCRIPTION meta-information ... OK
* checking whether 'INDEX' is up-to-date ... NO
* use '--force' to remove the existing 'INDEX'
* installing the package to build vignettes
* creating vignettes ... OK
* checking for LF line-endings in source and make files and shell scripts
* checking for empty or unneeded directories
* looking to see if a 'data/datalist' file should be added
* building 'SNAData_1.37.0.tar.gz'